{"text_format":"1","workbook":"xlsx","n_sheets":9,"sheets":["Intro","RR1","Imp Par","RR2","Hold i alt","Slutspil","Par","Grand prix","Fremmøde"],"not_rendered":{"charts":0,"images":0,"macros":0,"external_links":0,"defined_names":0,"comments":0,"pivot_tables":0},"unopened":[],"bounds":{"document_bytes":16777216,"sheet_cells":100000,"rows_first":2000,"rows_last":500,"rows_between":2000,"halvings":0,"cell_chars":16384,"cell_head_chars":4096},"cells_cut":0,"cells_raw":0,"read":"whole","date_system":"1900"}

{"sheet":"Intro","index":0,"n_rows":45,"n_cols":24,"rows_kept":45,"cut":false,"hidden":false,"merged":[[0,0,0,24]]}
[" Multi, intro hold"]
[]
[null,null,null,null,1,2,3,4,5,6,7,8,9,10,11,12,13,14,15,16,null,"Total",null,"Placering"]
[]
["Marlene Henneberg - J.O Henneberg",null,null,null,12.21,10.08,14.02,10.14,10.34,6.69,11.64,3.86,6.68,11.89,9.1300000000000008,9.69,7.84,5.54,7.33,13.54,null,{"$f":"AVERAGE(E5:T5)","v":9.4137500000000003},null,11]
["Jesper Bechsgaard - Anders Handberg Sørensen",null,null,null,8.65,8.8699999999999992,10.34,15.37,7.3,8.1300000000000008,9.27,9.09,9.89,3.61,7.04,5.61,9.2200000000000006,2.52,7.27,16.53,null,{"$f":"AVERAGE(E6:T6)","v":8.6693749999999987},null,15]
[]
["Emil Jepsen - Dennis Bilde",null,null,null,2.75,6.79,9.66,9.86,7.5,10.92,15.37,12.03,12.01,13.31,11.74,8.4499999999999993,14.43,9.43,9.48,19.510000000000002,null,{"$f":"AVERAGE(E8:T8)","v":10.827499999999999},null,3]
["Martin Klausen - Palle Jensen",null,null,null,6.51,6.32,5.98,4.63,4.8899999999999997,11.62,7.55,6.53,10.11,8.3800000000000008,8.4499999999999993,11.87,13.08,6.03,10.98,3.69,null,{"$f":"AVERAGE(E9:T9)","v":7.9137500000000003},null,16]
[]
["Morten Stege - Nils Mønsted",null,null,null,11.16,15.5,14.05,8.7799999999999994,9.66,11.87,4.63,13.47,3.54,15.78,8.4700000000000006,5.13,2.2200000000000002,14.52,10.52,16.309999999999999,null,{"$f":"AVERAGE(E11:T11)","v":10.350625000000001},null,6]
["Preben Taasti - Benny Maruart",null,null,null,8.17,15.72,10.25,7.25,12.7,13.31,12.45,7.97,6.73,4.1100000000000003,10.68,9.65,5.82,16.13,9.02,0.49,null,{"$f":"AVERAGE(E12:T12)","v":9.4031250000000011},null,12]
[]
["H K Sørensen - Niels Henriksen",null,null,null,12.06,9,16.75,14.33,9.66,12.89,10.73,16.14,9.89,6.69,9.32,14.87,14.86,8.1999999999999993,11.03,13.25,null,{"$f":"AVERAGE(E14:T14)","v":11.854374999999999},null,2]
["Søren Caspersen - Emil Buus Thomsen",null,null,null,1.76,8.48,9.52,6.91,8.27,15.11,8.36,10.91,7.97,11.62,11.53,10.35,8.52,10.18,10.17,9.26,null,{"$f":"AVERAGE(E15:T15)","v":9.3074999999999974},null,13]
[]
["Camilla Bo Krefeld - Johan Hammelev",null,null,null,18.239999999999998,11,8.81,15.53,14.21,14.32,9.5500000000000007,17.100000000000001,13.32,16.39,11.55,11.55,17.78,3.87,9.83,6.75,null,{"$f":"AVERAGE(E17:T17)","v":12.487500000000001},null,1]
["Lida Hulgaard - Øjvind Hulgaard",null,null,null,7.94,11.52,15.12,4.4000000000000004,12.39,14.39,9.14,16.29,10.11,8.11,8.26,8.1300000000000008,14.18,5.48,8.9700000000000006,10.74,null,{"$f":"AVERAGE(E18:T18)","v":10.323124999999999},null,7]
[]
["Stig Andersen - Ricardo Mirasola",null,null,null,8.84,4.28,3.25,13.09,5.79,5.61,12.18,13.74,5.35,18.64,10.87,14.39,5.57,13.97,12.73,6.46,null,{"$f":"AVERAGE(E20:T20)","v":9.6724999999999994},null,8]
["Lars Peter Damgaard - Jørgen Pabst",null,null,null,11.83,4.5,10.48,5.67,7.61,5.68,2.41,14.82,13.65,10.32,12.96,10.31,6.92,10.57,12.67,3.47,null,{"$f":"AVERAGE(E21:T21)","v":8.9918750000000003},null,14]
[]
["Morten Bilde - Søren Cilleborg Bilde",null,null,null,13.49,13.21,5.95,12.75,11.73,7.11,10.45,3.71,6.35,1.36,14.89,11.91,12.16,17.48,9.0299999999999994,2.13,null,{"$f":"AVERAGE(E23:T23)","v":9.6068749999999987},null,10]
["Jens Kofoed - Johanne Bilde Kofoed",null,null,null,17.25,13.68,9.75,11.22,10.34,4.8899999999999997,10.86,2.9,14.65,9.68,11.73,8.06,10.78,14.46,11.32,10.97,null,{"$f":"AVERAGE(E24:T24)","v":10.78375},null,4]
[]
["Jørgen Cilleborg Hansen - Steen Schou",null,null,null,7.79,11.13,11.19,15.6,10.34,4.8899999999999997,7.82,5.18,16.46,15.89,5.1100000000000003,11.94,11.48,11.8,10.97,9.0299999999999994,null,{"$f":"AVERAGE(E26:T26)","v":10.41375},null,5]
["Arne Skyum - Lars Ugilt Jensen",null,null,null,11.35,9.91,4.88,4.47,15.11,9.08,17.59,6.26,13.27,4.22,8.27,8.09,5.14,9.82,8.68,17.87,null,{"$f":"AVERAGE(E27:T27)","v":9.6256250000000012},null,9]
[]
[]
[]
[]
[]
[]
[]
[]
[]
[]
[]
[]
[]
[]
[]
[]
["Øjvind Hulgaard - Jesper Gad"]
["Niels Krøjgaard - Henrik Caspersen - H C Graversen"]

{"sheet":"RR1","index":1,"n_rows":27,"n_cols":21,"rows_kept":27,"cut":false,"hidden":false,"merged":[[0,0,0,21]]}
["Multi, RR1"]
[]
[null,null,null,null,1,2,3,4,5,6,7,8,9,10,11,12,13,14,null,"Total","Placering"]
[]
["Lars Peter Damgaard - Jørgen Pabst",null,null,null,7.32,9.84,10.89,12.43,15.37,8.8699999999999992,9.01,4.97,5.79,8.48,7.74,4.71,7.46,7.54,null,{"$f":"AVERAGE(E5:R5)","v":8.6014285714285723},13]
["Preben Taasti - Benny Maruart",null,null,null,12.45,11.61,6.49,6.67,10.38,7.52,10.83,2.27,10.38,12.2,13.44,15.21,5.13,12.76,null,{"$f":"AVERAGE(E6:R6)","v":9.8099999999999987},10]
[]
["Emil Jepsen - Dennis Bilde",null,null,null,18.34,9.99,9.11,13.33,16.27,18.46,16.2,10.09,6.06,12.39,7.25,10.029999999999999,11.84,15.27,null,{"$f":"AVERAGE(E8:R8)","v":12.473571428571431},1]
["Morten Bilde - Søren Cilleborg Bilde",null,null,null,17.02,14.75,13.51,7.57,17.25,13.37,4.3,17.690000000000001,1.96,8.32,8.4,5.44,15.79,12.67,null,{"$f":"AVERAGE(E9:R9)","v":11.288571428571426},5]
[]
["Lida Hulgaard - Øjvind Hulgaard",null,null,null,11.47,11.33,11.36,11.53,9.6199999999999992,11.13,15.7,9.91,10.96,13.19,10.39,5.94,8.1300000000000008,3.9,null,{"$f":"AVERAGE(E11:R11)","v":10.325714285714286},9]
["Jesper Bechsgaard - Anders Handberg Sørensen",null,null,null,7.19,4.43,11.3,6.72,4.63,12.48,3.8,2.31,13.23,13.63,7.38,6.29,10.76,8.17,null,{"$f":"AVERAGE(E12:R12)","v":8.0228571428571431},14]
[]
["Morten Stege - Nils Mønsted",null,null,null,7.76,13.43,11.99,1.66,4.5999999999999996,9.85,10.99,17.73,18.04,7.61,9.91,13.71,15.22,15.63,null,{"$f":"AVERAGE(E14:R14)","v":11.295},4]
["Camilla Bo Krefeld - Johan Hammelev",null,null,null,8.2200000000000006,13.8,9.7899999999999991,10.73,10.73,10.57,9.27,15.03,13.94,11.68,12.62,14.06,19.47,8.75,null,{"$f":"AVERAGE(E15:R15)","v":12.047142857142859},2]
[]
["Søren Caspersen - Emil Buus Thomsen",null,null,null,12.24,6.2,15.44,16.059999999999999,7.17,4.37,7.03,7.74,9.6199999999999992,11.52,12.75,14.56,11.87,11.83,null,{"$f":"AVERAGE(E17:R17)","v":10.6},7]
["Jens Kofoed - Johanne Bilde Kofoed",null,null,null,11.78,6.57,13.18,7.95,7.33,11.53,11.65,7.63,14.21,7.8,11.6,9.9700000000000006,9.24,16.100000000000001,null,{"$f":"AVERAGE(E18:R18)","v":10.467142857142857},8]
[]
["Jørgen Cilleborg Hansen - Steen Schou",null,null,null,8.5299999999999994,15.57,10.210000000000001,18.34,12.67,15.63,6.94,12.13,6.74,13.48,6.56,15.29,8.16,7.33,null,{"$f":"AVERAGE(E20:R20)","v":11.255714285714287},6]
["H K Sørensen - Niels Henriksen",null,null,null,12.81,8.67,8.01,9.27,12.83,8.4700000000000006,12.51,17.149999999999999,13.17,5.25,12.26,4.79,4.21,4.7300000000000004,null,{"$f":"AVERAGE(E21:R21)","v":9.5807142857142846},11]
[]
["Stig Andersen - Ricardo Mirasola",null,null,null,1.66,5.25,8.6999999999999993,8.4700000000000006,9.27,10.15,12.97,12.37,6.83,6.52,13.2,13.3,12.54,7.24,null,{"$f":"AVERAGE(E23:R23)","v":9.1764285714285716},12]
["Marlene Henneberg - J.O Henneberg",null,null,null,2.98,10.01,8.64,13.28,15.4,9.43,8.35,12.26,13.26,14.75,13.3,13.2,14.87,12.46,null,{"$f":"AVERAGE(E24:R24)","v":11.585000000000003},3]
[]
["Martin Klausen - Palle Jensen",null,null,null,12.68,8.39,6.82,3.94,2.75,1.54,13.06,2.85,6.77,6.81,null,null,4.78,11.25,null,{"$f":"AVERAGE(E26:R26)","v":6.8033333333333337},15]
["Ole Elmegaard Mortensen - Per Ebdrup",null,null,null,7.55,10.16,4.5599999999999996,12.05,3.73,6.63,7.49,7.87,9.0399999999999991,6.37,null,null,0.53,4.37,null,{"$f":"AVERAGE(E27:R27)","v":6.6958333333333337},16]

{"sheet":"Imp Par","index":2,"n_rows":25,"n_cols":18,"rows_kept":25,"cut":false,"hidden":false,"merged":[[0,0,0,17],[3,1,3,4]]}
["IMP Par"]
[]
[]
[null,"R1-4 på Realbridge",null,null,null,"R5","R6","R7","R8","R9","R10","R11","R12","R13","R14","R15","Sum","Placering"]
["Stig Andersen - Ricardo Mirasola",null,null,null,null,null,null,null,null,null,null,null,null,null,null,null,154.4,1]
["Emil Jepsen - Dennis Bilde",null,null,null,null,null,null,null,null,null,null,null,null,null,null,null,99,2]
["Jesper Bechsgaard - Anders Handberg Sørensen",null,null,null,null,null,null,null,null,null,null,null,null,null,null,null,87.6,3]
["Morten Bilde - Søren Cilleborg Bilde",null,null,null,null,null,null,null,null,null,null,null,null,null,null,null,73.400000000000006,4]
["Morten Stege - Nils Mønsted",null,null,null,null,null,null,null,null,null,null,null,null,null,null,null,28.6,5]
["Camilla Bo Krefeld - Johan Hammelev",null,null,null,null,null,null,null,null,null,null,null,null,null,null,null,17.899999999999999,6]
["Marlene Henneberg - J.O Henneberg",null,null,null,null,null,null,null,null,null,null,null,null,null,null,null,1.7,7]
["Lars Peter Damgaard - Jørgen Pabst",null,null,null,null,null,null,null,null,null,null,null,null,null,null,null,-3.3,8]
["H K Sørensen - Niels Henriksen",null,null,null,null,null,null,null,null,null,null,null,null,null,null,null,-13.3,9]
["Jørgen Cilleborg Hansen - Steen Schou",null,null,null,null,null,null,null,null,null,null,null,null,null,null,null,-26.6,10]
["Jens Kofoed - Johanne Bilde Kofoed",null,null,null,null,null,null,null,null,null,null,null,null,null,null,null,-32.6,11]
["Martin Klausen - Palle Jensen",null,null,null,null,null,null,null,null,null,null,null,null,null,null,null,-44.2,12]
["Søren Caspersen - Emil Buus Thomsen",null,null,null,null,null,null,null,null,null,null,null,null,null,null,null,-49.1,13]
["Preben Taasti - Benny Maruart",null,null,null,null,null,null,null,null,null,null,null,null,null,null,null,-79.3,14]
["Lida Hulgaard - Øjvind Hulgaard",null,null,null,null,null,null,null,null,null,null,null,null,null,null,null,-99.4,15]
["Ole Elmegaard Mortensen - Per Ebdrup",null,null,null,null,null,null,null,null,null,null,null,null,null,null,null,-105.6,16]
[]
[null,{"$f":"SUM(B6:B21)","v":0},{"$f":"SUM(C6:C21)","v":0},{"$f":"SUM(D6:D21)","v":0},{"$f":"SUM(E5:E20)","v":0},{"$f":"SUM(F6:F21)","v":0},{"$f":"SUM(G6:G21)","v":0},0,{"$f":"SUM(I5:I20)","v":0},0,0,0,0,0,0,0,{"$f":"SUM(Q5:Q20)","v":9.1999999999998749}]
[]
[]
["OBS pga. udfordringer med data fra sidste aften kan de enkelte aftener ikke tastes - men summen stemmer siger LP :)"]

{"sheet":"RR2","index":3,"n_rows":27,"n_cols":21,"rows_kept":27,"cut":false,"hidden":false,"merged":[[0,0,0,21]]}
[" Multi, RR2"]
[]
[null,null,null,null,1,2,3,4,5,6,7,8,9,10,11,12,13,14,null,"Total","Placering"]
[]
["Lars Peter Damgaard - Jørgen Pabst",null,null,null,6.52,11.15,9.02,15.39,8.23,9.9499999999999993,10.81,12.83,9.89,10.6,3.63,6.62,12.5,1.76,null,{"$f":"AVERAGE(E5:R5)","v":9.2071428571428573},13]
["Preben Taasti - Benny Maruart",null,null,null,7.21,12.23,8.5500000000000007,10.02,9.73,7.14,6.38,16.62,11.3,16.53,9.0399999999999991,11.5,9.48,5.01,null,{"$f":"AVERAGE(E6:R6)","v":10.052857142857141},9]
[]
["Emil Jepsen - Dennis Bilde",null,null,null,14.05,14.3,8.4,12.68,16.32,17.57,10.75,15.62,17.190000000000001,13.84,16.37,8.5,6.33,13.35,null,{"$f":"AVERAGE(E8:R8)","v":13.233571428571429},1]
["Morten Bilde - Søren Cilleborg Bilde",null,null,null,8.74,9.77,1.39,15.28,15.59,12.6,7.94,15.6,8.49,12.28,10.96,13.38,4.6399999999999997,10.26,null,{"$f":"AVERAGE(E9:R9)","v":10.494285714285711},6]
[]
["Lida Hulgaard - Øjvind Hulgaard",null,null,null,2.81,7.15,11.6,4.72,8.89,8.89,9.19,3.38,9.07,5.65,5.61,6.82,3.26,5.78,null,{"$f":"AVERAGE(E11:R11)","v":6.6300000000000008},14]
["Jesper Bechsgaard - Anders Handberg Sørensen",null,null,null,6.66,5.54,18.61,7.32,12,16.86,13.62,7.17,17,6.53,6.32,4.5,1.85,13.5,null,{"$f":"AVERAGE(E12:R12)","v":9.8199999999999985},11]
[]
["Morten Stege - Nils Mønsted",null,null,null,11.26,5.7,12.46,4.8600000000000003,9.6300000000000008,4.46,17.05,4.17,3,14.35,14.82,9.58,10.52,18.239999999999998,null,{"$f":"AVERAGE(E14:R14)","v":10.007142857142856},10]
["Camilla Bo Krefeld - Johan Hammelev",null,null,null,5.95,10.23,7.25,9.69,4.29,10.28,15.49,6.08,10.93,13.47,15.65,13.98,7.5,14.99,null,{"$f":"AVERAGE(E15:R15)","v":10.412857142857145},8]
[]
["Søren Caspersen - Emil Buus Thomsen",null,null,null,14.94,10.050000000000001,10.98,9.98,15.71,15.54,11.63,8.92,11.51,6.16,11.6,14.47,18.149999999999999,14.22,null,{"$f":"AVERAGE(E17:R17)","v":12.418571428571429},2]
["Jens Kofoed - Johanne Bilde Kofoed",null,null,null,14.17,15.11,11.45,4.6100000000000003,10.37,9.7200000000000006,5.95,7.07,2.81,7.7,16.88,7.5,16.739999999999998,6.5,null,{"$f":"AVERAGE(E18:R18)","v":9.7557142857142871},12]
[]
["Jørgen Cilleborg Hansen - Steen Schou",null,null,null,12.79,8.85,12.75,15.14,3.68,7.4,14.05,11.08,12.34,9.83,13.68,13.18,13.73,16.95,null,{"$f":"AVERAGE(E20:R20)","v":11.817857142857141},3]
["H K Sørensen - Niels Henriksen",null,null,null,13.48,7.77,7.54,10.31,4.41,2.4300000000000002,8.3699999999999992,12.93,11.69,6.34,14.39,15.5,17.03,15.56,null,{"$f":"AVERAGE(E21:R21)","v":10.553571428571429},7]
[]
["Stig Andersen - Ricardo Mirasola",null,null,null,17.190000000000001,14.46,14.49,15.57,11.77,12.86,2.95,13.92,7.66,13.66,3.12,5.53,13.67,9.74,null,{"$f":"AVERAGE(E23:R23)","v":11.185},5]
["Marlene Henneberg - J.O Henneberg",null,null,null,13.34,12.85,15.83,18.71,10.27,10.050000000000001,4.51,15.83,8.31,10.17,8.4,12.5,15.36,6.65,null,{"$f":"AVERAGE(E24:R24)","v":11.627142857142857},4]
[]
["Martin Klausen - Palle Jensen",null,null,null,5.83,9.9499999999999993,5.51,1.29,11.11,3.14,12.06,4.38,10.11,3.47,4.3499999999999996,10.42,6.27,4.4400000000000004,null,{"$f":"AVERAGE(E26:R26)","v":6.5949999999999998},15]
["Ole Elmegaard Mortensen - Per Ebdrup",null,null,null,5.0599999999999996,4.8899999999999997,4.17,4.43,8,11.11,9.25,4.4000000000000004,8.6999999999999993,9.4,5.18,6.02,2.97,3.05,null,{"$f":"AVERAGE(E27:R27)","v":6.1878571428571423},16]

{"sheet":"Hold i alt","index":4,"n_rows":16,"n_cols":5,"rows_kept":16,"cut":false,"hidden":false,"merged":[[0,0,0,5],[15,0,18,1]]}
["Klub 32 - Hold 2021/2022"]
[]
[]
[]
[null,"RR1","RR2","Total","Placering"]
["Dennis Bilde",93.25,95.49,{"$f":"SUM(B6:C6)","v":188.74},1]
["Malene Henneberg",83.81,89.8,173.61,2]
["Steen Schou",81.849999999999994,91.66,173.51,3]
["Jens Kofoed",79.86,88.1,167.95999999999998,4]
["Nils Mønsted",95.05,71.569999999999993,166.62,5]
["Lars Peter Damgaard",54.4,64.709999999999994,119.10999999999999,6]
["Lida Hulgaard",51,42.81,93.81,7]
["Martin Klausen",28.53,15.86,44.39,8]
[null," "]
[]
["OBS i kamp 6 som desværre blev aflyst for Melene/Martin er Malene noteret for 17,75 kp (gennemsnittet af hvad øvrige hold opnåede mod Martin) - Martin noteret for 10 Kp da også dette hold var uden skyld i aflysningen"]

{"sheet":"Slutspil","index":5,"n_rows":28,"n_cols":15,"rows_kept":28,"cut":false,"hidden":false,"merged":[[0,0,0,14],[1,3,1,10]]}
["SLUTSPIL"]
[]
[]
[null,null,null,null,1,2,3,4,5,6,7,8,null,"Total","Placering"]
[]
["Lars Peter Damgaard - Jørgen Pabst",null,null,null,8.25,15.38,5.42,3.21,15.62,15.22,9.3800000000000008,13.55,null,{"$f":"AVERAGE(E6:L6)","v":10.75375},6]
["Preben Taasti - Benny Maruart",null,null,null,9.5,12.21,9.19,5.67,14.08,11.28,14.96,14.76,null,{"$f":"AVERAGE(E7:L7)","v":11.456250000000001},4]
[]
["Emil Jepsen - Dennis Bilde",null,null,null,11.55,9.31,18.37,9.35,13.13,11.38,8.91,11.94,null,{"$f":"AVERAGE(E9:L9)","v":11.7425},2]
["Morten Bilde - Søren Cilleborg Bilde",null,null,null,13.33,14.43,12.31,5.26,10.46,9.7200000000000006,6.89,14.89,null,10.911250000000001,5]
[]
["Lida Hulgaard - Øjvind Hulgaard",null,null,null,11.75,7.79,14.58,14.33,8.4499999999999993,5.43,7.36,12.9,null,{"$f":"AVERAGE(E12:L12)","v":10.32375},8]
["Jesper Bechsgaard - Anders Handberg Sørensen",null,null,null,10.5,4.62,10.81,16.79,4.97,9.36,10.83,9.5500000000000007,null,9.6787499999999991,10]
[]
["Morten Stege - Nils Mønsted",null,null,null,8.59,10.81,10.199999999999999,16.79,11.55,10.64,12.64,10.45,null,{"$f":"AVERAGE(E15:L15)","v":11.45875},3]
["Camilla Bo Krefeld - Johan Hammelev",null,null,null,14.08,10.52,17.600000000000001,11.21,15.03,14.57,9.17,7.1,null,12.409999999999998,1]
[]
["Søren Caspersen - Emil Buus Thomsen",null,null,null,11.58,6,13.89,7.03,6.87,10.28,13.11,8.06,null,{"$f":"AVERAGE(E18:L18)","v":9.6024999999999991},11]
["Jens Kofoed - Johanne Bilde Kofoed",null,null,null,9.1300000000000008,8.23,8.77,14.25,9.5399999999999991,8.6199999999999992,11.09,5.1100000000000003,null,9.3424999999999994,12]
[]
["Jørgen Cilleborg Hansen - Steen Schou",null,null,null,8.42,11.77,6.11,5.75,12.53,13.41,9.64,6.55,null,{"$f":"AVERAGE(E21:L21)","v":9.2724999999999991},13]
["H K Sørensen - Niels Henriksen",null,null,null,10.87,14,11.23,12.97,7.93,11.77,5.51,11.64,null,10.74,7]
[]
["Stig Andersen - Ricardo Mirasola",null,null,null,6.67,10.69,1.63,14.74,12.07,6.59,14.49,13.45,null,{"$f":"AVERAGE(E24:L24)","v":10.04125},9]
["Marlene Henneberg - J.O Henneberg",null,null,null,8.4499999999999993,5.57,7.69,10.65,7.47,8.23,10.36,8.36,null,8.3475000000000001,14]
[]
["Martin Klausen - Palle Jensen",null,null,null,5.92,9.19,2.4,3.21,4.38,8.7200000000000006,5.04,6.45,null,{"$f":"AVERAGE(E27:L27)","v":5.6637500000000003},16]
["Ole Elmegaard Mortensen - Per Ebdrup",null,null,null,11.41,9.48,9.8000000000000007,8.7899999999999991,5.92,4.78,10.62,5.24,null,8.2550000000000008,15]

{"sheet":"Par","index":6,"n_rows":20,"n_cols":11,"rows_kept":20,"cut":false,"hidden":false,"merged":[[0,0,0,8]]}
["Par"]
["Resultater fra Realbridge "]
[null,"1.aften","2.aften","3.aften","4.aften","5.aften",null,"Sum","gennemsnit",null,"Placering"]
[null,"24.03.2022","31.03.2022","07.04.2022","21.04.2022","28.04.2022"]
["Camilla Bo Krefeld - Johan Hammelev",0.61799999999999999,null,null,0.59199999999999997,0.46600000000000003,null,{"$f":"SUM(B5:G5)","v":1.6759999999999999},{"$f":"AVERAGE(B5:F5)","v":0.55866666666666664},null,1]
["H K Sørensen - Niels Henriksen",0.56299999999999994,0.58299999999999996,0.504,0.434,0.60199999999999998,null,{"$f":"SUM(B6:G6)","v":2.6859999999999999},{"$f":"AVERAGE(B6:F6)","v":0.53720000000000001},null,2]
["Søren Caspersen - Emil Buus Thomsen",0.54500000000000004,0.47,0.54400000000000004,0.60699999999999998,0.51,null,{"$f":"SUM(B7:G7)","v":2.6760000000000002},{"$f":"AVERAGE(B7:F7)","v":0.53520000000000001},null,3]
["Lida Hulgaard - Øjvind Hulgaard",0.57799999999999996,0.437,0.44800000000000001,0.51300000000000001,0.58399999999999996,null,{"$f":"SUM(B8:G8)","v":2.56},{"$f":"AVERAGE(B8:F8)","v":0.51200000000000001},null,4]
["Morten Bilde - Søren Cilleborg Bilde",0.55400000000000005,0.53300000000000003,0.47599999999999998,0.46400000000000002,0.504,null,{"$f":"SUM(B9:G9)","v":2.5310000000000001},{"$f":"AVERAGE(B9:F9)","v":0.50619999999999998},null,5]
["Emil Jepsen - Dennis Bilde",0.50900000000000001,null,null,0.47499999999999998,0.53200000000000003,null,{"$f":"SUM(B10:G10)","v":1.516},{"$f":"AVERAGE(B10:F10)","v":0.5053333333333333},null,6]
["Jesper Bechsgaard - Anders Handberg Sørensen",0.52500000000000002,0.36699999999999999,0.57599999999999996,0.46899999999999997,0.54900000000000004,null,{"$f":"SUM(B11:G11)","v":2.4859999999999998},{"$f":"AVERAGE(B11:F11)","v":0.49719999999999998},null,7]
["Jens Kofoed - Johanne Bilde Kofoed",0.46899999999999997,0.58299999999999996,0.496,0.54100000000000004,0.38400000000000001,null,{"$f":"SUM(B12:G12)","v":2.4729999999999999},{"$f":"AVERAGE(B12:F12)","v":0.49459999999999998},null,8]
["Preben Taasti - Benny Maruart",0.438,0.51300000000000001,0.5,0.505,0.50700000000000001,null,{"$f":"SUM(B13:G13)","v":2.4630000000000001},{"$f":"AVERAGE(B13:F13)","v":0.49260000000000004},null,9]
["Morten Stege - Nils Mønsted",0.42599999999999999,0.54700000000000004,0.496,0.41799999999999998,0.56599999999999995,null,{"$f":"SUM(B14:G14)","v":2.4529999999999998},{"$f":"AVERAGE(B14:F14)","v":0.49059999999999998},null,10]
["Stig Andersen - Ricardo Mirasola",0.42,0.47299999999999998,0.56399999999999995,0.55900000000000005,0.41699999999999998,null,{"$f":"SUM(B15:G15)","v":2.4329999999999998},{"$f":"AVERAGE(B15:F15)","v":0.48659999999999998},null,11]
["Lars Peter Damgaard - Jørgen Pabst",0.49299999999999999,0.51,0.47199999999999998,0.441,0.50900000000000001,null,{"$f":"SUM(B16:G16)","v":2.4250000000000003},{"$f":"AVERAGE(B16:F16)","v":0.48500000000000004},null,12]
["Ole Elmegaard Mortensen - Per Ebdrup",0.47599999999999998,0.52,0.51200000000000001,0.46200000000000002,0.42299999999999999,null,{"$f":"SUM(B17:G17)","v":2.3929999999999998},{"$f":"AVERAGE(B17:F17)","v":0.47859999999999997},null,13]
["Jørgen Cilleborg Hansen - Steen Schou",0.47299999999999998,null,null,0.52800000000000002,0.4,null,{"$f":"SUM(B18:G18)","v":1.4009999999999998},{"$f":"AVERAGE(B18:F18)","v":0.46699999999999992},null,14]
["Martin Klausen - Palle Jensen",0.45300000000000001,0.46300000000000002,0.41199999999999998,0.51500000000000001,0.48599999999999999,null,{"$f":"SUM(B19:G19)","v":2.3289999999999997},{"$f":"AVERAGE(B19:F19)","v":0.46579999999999994},null,15]
["Marlene Henneberg - J.O Henneberg",0.46200000000000002,null,null,0.47699999999999998,0.44800000000000001,null,{"$f":"SUM(B20:G20)","v":1.387},{"$f":"AVERAGE(B20:F20)","v":0.46233333333333332},null,16]

{"sheet":"Grand prix","index":7,"n_rows":20,"n_cols":18,"rows_kept":20,"cut":false,"hidden":false,"merged":[[0,0,0,15]]}
["Grand prix klub 32 (2021-2022)"]
[]
[null,null,null,null,null,"Intro hold","RR 1","IMP1","RR2","Slutspil","Par",null,"Total",null,"Placering"]
[]
["Emil Jepsen - Dennis Bilde",null,null,null,null,{"$f":"Intro!X8*4","v":12},{"$f":"'RR1'!U8*7","v":7},{"$f":"'Imp Par'!R6*4","v":8},{"$f":"'RR2'!U8*7","v":7},{"$f":"Slutspil!O9*4","v":8},{"$f":"Par!K10*5","v":30},null,{"$f":"SUM(F5:L5)","v":72},null,1]
["Camilla Bo Krefeld - Johan Hammelev",null,null,null,null,{"$f":"Intro!X17*4","v":4},{"$f":"'RR1'!U15*7","v":14},{"$f":"'Imp Par'!R10*4","v":24},{"$f":"'RR2'!U15*7","v":56},{"$f":"Slutspil!O16*4","v":4},{"$f":"Par!K5*5","v":5},null,{"$f":"SUM(F6:L6)","v":107},null,"2"]
["Morten Bilde - Søren Cilleborg Bilde",null,null,null,null,{"$f":"Intro!X23*4","v":40},{"$f":"'RR1'!U9*7","v":35},{"$f":"'Imp Par'!R8*4","v":16},{"$f":"'RR2'!U9*7","v":42},{"$f":"Slutspil!O10*4","v":20},{"$f":"Par!K9*5","v":25},null,{"$f":"SUM(F7:L7)","v":178},null,3]
["Morten Stege - Nils Mønsted",null,null,null,null,{"$f":"Intro!X11*4","v":24},{"$f":"'RR1'!U14*7","v":28},{"$f":"'Imp Par'!R9*4","v":20},{"$f":"'RR2'!U14*7","v":70},{"$f":"Slutspil!O15*4","v":12},{"$f":"Par!K14*5","v":50},null,{"$f":"SUM(F8:L8)","v":204},null,4]
["H K Sørensen - Niels Henriksen",null,null,null,null,{"$f":"Intro!X14*4","v":8},{"$f":"'RR1'!U21*7","v":77},{"$f":"'Imp Par'!R13*4","v":36},{"$f":"'RR2'!U21*7","v":49},{"$f":"Slutspil!O22*4","v":28},{"$f":"Par!K6*5","v":10},null,{"$f":"SUM(F9:L9)","v":208},null,"5"]
["Søren Caspersen - Emil Buus Thomsen",null,null,null,null,{"$f":"Intro!X15*4","v":52},{"$f":"'RR1'!U17*7","v":49},{"$f":"'Imp Par'!R17*4","v":52},{"$f":"'RR2'!U17*7","v":14},{"$f":"Slutspil!O18*4","v":44},{"$f":"Par!K7*5","v":15},null,{"$f":"SUM(F10:L10)","v":226},null,6]
["Jørgen Cilleborg Hansen - Steen Schou",null,null,null,null,{"$f":"Intro!X26*4","v":20},{"$f":"'RR1'!U20*7","v":42},{"$f":"'Imp Par'!R14*4","v":40},{"$f":"'RR2'!U20*7","v":21},{"$f":"Slutspil!O21*4","v":52},{"$f":"Par!K18*5","v":70},null,{"$f":"SUM(F11:L11)","v":245},null,7]
["Stig Andersen - Ricardo Mirasola",null,null,null,null,{"$f":"Intro!X20*4","v":32},{"$f":"'RR1'!U23*7","v":84},{"$f":"'Imp Par'!R5*4","v":4},{"$f":"'RR2'!U23*7","v":35},{"$f":"Slutspil!O24*4","v":36},{"$f":"Par!K15*5","v":55},null,{"$f":"SUM(F12:L12)","v":246},null,"8"]
["Marlene Henneberg - J.O Henneberg",null,null,null,null,{"$f":"Intro!X5*4","v":44},{"$f":"'RR1'!U24*7","v":21},{"$f":"'Imp Par'!R11*4","v":28},{"$f":"'RR2'!U24*7","v":28},{"$f":"Slutspil!O25*4","v":56},{"$f":"Par!K20*5","v":80},null,{"$f":"SUM(F13:L13)","v":257},null,"9"]
["Jens Kofoed - Johanne Bilde Kofoed",null,null,null,null,{"$f":"Intro!X24*4","v":16},{"$f":"'RR1'!U18*7","v":56},{"$f":"'Imp Par'!R15*4","v":44},{"$f":"'RR2'!U18*7","v":84},{"$f":"Slutspil!O19*4","v":48},{"$f":"Par!K12*5","v":40},null,{"$f":"SUM(F14:L14)","v":288},null,10,null,null,"  "]
["Preben Taasti - Benny Maquart",null,null,null,null,{"$f":"Intro!X12*4","v":48},{"$f":"'RR1'!U6*7","v":70},{"$f":"'Imp Par'!R18*4","v":56},{"$f":"'RR2'!U6*7","v":63},{"$f":"Slutspil!O7*4","v":16},{"$f":"Par!K13*5","v":45},null,{"$f":"SUM(F15:L15)","v":298},null,11]
["Lida Hulgaard - Øjvind Hulgaard",null,null,null,null,{"$f":"Intro!X18*4","v":28},{"$f":"'RR1'!U11*7","v":63},{"$f":"'Imp Par'!R19*4","v":60},{"$f":"'RR2'!U11*7","v":98},{"$f":"Slutspil!O12*4","v":32},{"$f":"Par!K8*5","v":20},null,{"$f":"SUM(F16:L16)","v":301},null,12]
["Jesper Bechsgaard - Anders Handberg Sørensen",null,null,null,null,{"$f":"Intro!X6*4","v":60},{"$f":"'RR1'!U12*7","v":98},{"$f":"'Imp Par'!R7*4","v":12},{"$f":"'RR2'!U12*7","v":77},{"$f":"Slutspil!O13*4","v":40},{"$f":"Par!K11*5","v":35},null,{"$f":"SUM(F17:L17)","v":322},null,13]
["Lars Peter Damgaard - Jørgen Pabst",null,null,null,null,{"$f":"Intro!X21*4","v":56},{"$f":"'RR1'!U5*7","v":91},{"$f":"'Imp Par'!R12*4","v":32},{"$f":"'RR2'!U5*7","v":91},{"$f":"Slutspil!O6*4","v":24},{"$f":"Par!K16*5","v":60},null,{"$f":"SUM(F18:L18)","v":354},null,14]
["Ole Elmegaard Mortensen - Per Ebdrup",null,null,null,null,{"$f":"Intro!X27*4","v":36},{"$f":"'RR1'!U27*7","v":112},{"$f":"'Imp Par'!R20*4","v":64},{"$f":"'RR2'!U27*7","v":112},{"$f":"Slutspil!O28*4","v":60},{"$f":"Par!K17*5","v":65},null,{"$f":"SUM(F19:L19)","v":449},null,15]
["Martin Klausen - Palle Jensen",null,null,null,null,{"$f":"Intro!X9*4","v":64},{"$f":"'RR1'!U26*7","v":105},{"$f":"'Imp Par'!R16*4","v":48},{"$f":"'RR2'!U26*7","v":105},{"$f":"Slutspil!O27*4","v":64},{"$f":"Par!K19*5","v":75},null,{"$f":"SUM(F20:L20)","v":461},null,16]

{"sheet":"Fremmøde","index":8,"n_rows":21,"n_cols":11,"rows_kept":21,"cut":false,"hidden":false,"merged":[[4,1,4,6]]}
["Fremmøde som samlet par"]
[]
[null,"Introhold","RR1","Imp","RR2","Slut","par",null,"Fremmøde%",null,"Fremmøde/antal"]
["Aftener:",4,7,4,7,4,4,null,null,null,13]
[null,"Fremmøde"]
["Camilla Bo Krefeld - Johan Hammelev",4,7,2,null,null,null,null,{"$f":"SUM(B6:G6)/$K$4%","v":100},null,{"$f":"SUM(B6:G6)","v":13}]
["Marlene Henneberg - J.O Henneberg",4,6,2,null,null,null,null,92.307692307692307,null,12]
["Stig Andersen - Ricardo Mirasola",4,6,2,null,null,null,null,92.307692307692307,null,12]
["Martin Klausen - Palle Jensen",3,7,2,null,null,null,null,92.307692307692307,null,12]
["Lars Peter Damgaard - Jørgen Pabst",4,5,2,null,null,null,null,84.615384615384613,null,11]
["H K Sørensen - Niels Henriksen",4,5,2,null,null,null,null,84.615384615384613,null,11]
["Ole Elmegaard Mortensen - Per Ebdrup",4,4,2,null,null,null,null,76.92307692307692,null,10]
["Jesper Bechsgaard - Anders Handberg Sørensen",4,4,2,null,null,null,null,76.92307692307692,null,10]
["Preben Taasti - Benny Maruart",4,5,0,null,null,null,null,69.230769230769226,null,9]
["Jørgen Cilleborg Hansen - Steen Schou",3,5,1,null,null,null,null,69.230769230769226,null,9]
["Lida Hulgaard - Øjvind Hulgaard",2,4,2,null,null,null,null,61.538461538461533,null,8]
["Morten Bilde - Søren Cilleborg Bilde",2,5,0,null,null,null,null,53.846153846153847,null,7]
["Søren Caspersen - Emil Buus Thomsen",2,3,2,null,null,null,null,53.846153846153847,null,7]
["Jens Kofoed - Johanne Bilde Kofoed",0,5,2,null,null,null,null,53.846153846153847,null,7]
["Morten Stege - Nils Mønsted",0,5,2,null,null,null,null,53.846153846153847,null,7]
["Emil Jepsen - Dennis Bilde",2,4,0,null,null,null,null,46.153846153846153,null,6]