{"text_format":"1","workbook":"xlsx","n_sheets":8,"sheets":["Intro","RR1","Imp1","RR2","Hold i alt","Slutspil","Imp2","Grand prix"],"not_rendered":{"charts":0,"images":0,"macros":0,"external_links":0,"defined_names":0,"comments":0,"pivot_tables":0},"unopened":[],"bounds":{"document_bytes":16777216,"sheet_cells":100000,"rows_first":2000,"rows_last":500,"rows_between":2000,"halvings":0,"cell_chars":16384,"cell_head_chars":4096},"cells_cut":0,"cells_raw":0,"read":"whole","date_system":"1900"}

{"sheet":"Intro","index":0,"n_rows":29,"n_cols":24,"rows_kept":29,"cut":false,"hidden":false,"merged":[[0,0,0,24]]}
[" Multi, intro hold"]
[]
[]
[]
[null,null,null,null,1,2,3,4,5,6,7,8,9,10,11,12,13,14,15,16,null,"Total",null,"Placering"]
[]
["Benny Marquart - Asger Bruun",null,null,null,19.71,15,15.86,12.57,8.57,10.14,11.57,19.29,8.7100000000000009,11.43,14.14,11,15.86,22,11.71,11.71,null,{"$f":"AVERAGE(E7:T7)","v":13.704375000000002},null,14]
["H K Sørensen - Niels Henriksen",null,null,null,15.14,12.43,16.71,13.86,18.43,16.29,16.57,16.29,16.29,8.7100000000000009,10,17.29,9.43,20.57,12.14,12.14,null,{"$f":"AVERAGE(E8:T8)","v":14.518124999999998},null,9]
[]
["Camilla Bo Krefeld - Johan Hammelev",null,null,null,13,17.86,14.14,16,12.71,19.14,15.43,22.29,11,13.57,14.43,17,19.43,12.14,21.43,15.43,null,{"$f":"AVERAGE(E10:T10)","v":15.9375},null,5]
["Jørgen Anker Pabst - Vagn Søndergaard",null,null,null,16.29,14.86,13.29,17,11.43,9.43,12.71,13.43,7.71,17.29,3.29,10.43,17.71,17.86,12.86,12.43,null,{"$f":"AVERAGE(E11:T11)","v":13.001250000000002},null,16]
[]
["Christian Schmidt - Michael Dodt",null,null,null,15.71,20.14,16.29,12.86,21.43,13.71,14.57,16.57,15.43,7.14,6.71,11.14,16,13.43,10.71,14.14,null,{"$f":"AVERAGE(E13:T13)","v":14.123750000000001},null,11]
["Stense Farholt - Henrik Caspersen",null,null,null,18.29,16.86,18.57,15.29,11.57,19.71,17.29,7.43,21.86,10.14,18,17.71,20.43,10.14,18.71,9.14,null,{"$f":"AVERAGE(E14:T14)","v":15.696250000000003},null,7]
[]
["Claus Hastrup - Thomas Mathiasen",null,null,null,11.57,11,16.29,3,10.43,23,18.43,13.71,21.86,16.43,22.43,12.29,14.86,6.57,8.57,17.57,null,{"$f":"AVERAGE(E16:T16)","v":14.250624999999999},null,10]
["Jørgen Cilleborg Hansen - Steen Schou",null,null,null,10.29,19.86,16.43,5.71,12.86,10.57,13.43,10.71,19,12.71,11.43,18.86,18.57,7.86,17.14,14.57,null,{"$f":"AVERAGE(E17:T17)","v":13.75},null,13]
[]
["Dennis Bilde - Morten Bilde",null,null,null,19.71,19,15.57,15.71,20.43,18,13.71,15.86,20.86,21.14,15.14,19.57,9.57,16.57,12.86,18.71,null,{"$f":"AVERAGE(E19:T19)","v":17.025624999999998},null,1]
["Tom Nørgaard - Trine Bilde",null,null,null,18.43,10.14,16.86,14,14.29,20.71,15.29,18.86,13.71,18.57,24.29,13,14,19.71,13.86,16.29,null,{"$f":"AVERAGE(E20:T20)","v":16.375624999999999},null,2]
[]
["Jan Pedersen - Nils Mønsted",null,null,null,14.29,13.14,13.57,24.71,9.57,9.14,16.57,19.57,20.86,18.29,19.86,19,12.29,17.86,17.14,13.71,null,{"$f":"AVERAGE(E22:T22)","v":16.223124999999996},null,3]
["Lars Tofte - Emil Jepsen",null,null,null,11.71,9.86,13.71,23.57,15.71,12,15.86,10.57,17.29,14.86,15.71,12.71,10.57,11.86,16.14,11.29,null,{"$f":"AVERAGE(E23:T23)","v":13.963749999999999},null,12]
[]
["Keld Grann - Lars Peter Damgaard",null,null,null,13.71,12.14,13.71,14.29,17.14,6.14,16.29,11.14,12.71,11.71,16.57,11.43,14.14,8.86,17.86,18.29,null,{"$f":"AVERAGE(E25:T25)","v":13.508125000000001},null,15]
["Marlene Henneberg - J.O Henneberg",null,null,null,17,15.14,11.43,16.71,19.57,19.43,14.71,14.14,8.86,15.14,19.43,17.71,20.57,7.43,18.29,17.86,null,{"$f":"AVERAGE(E26:T26)","v":15.838750000000001},null,6]
[]
["Majka Cilleborg Bilde - Peter Jepsen",null,null,null,14.86,15,13.14,14.29,18.57,10.57,13.43,19.29,14.57,19.71,13.43,12.29,11.43,22.43,11.29,15.86,null,{"$f":"AVERAGE(E28:T28)","v":15.010000000000002},null,8]
["Niels Krøjgaard - Mads Krøjgaard",null,null,null,10.29,17.57,14.43,15.86,17.29,20,14.14,10.29,7.57,22.57,10,18.57,15.14,21.29,19.29,20.86,null,{"$f":"AVERAGE(E29:T29)","v":15.947499999999998},null,4]

{"sheet":"RR1","index":1,"n_rows":29,"n_cols":21,"rows_kept":29,"cut":false,"hidden":false,"merged":[[0,0,0,21]]}
[" Multi, RR1"]
[]
[]
[]
[null,null,null,null,1,2,3,4,5,6,7,8,9,10,11,12,13,14,null,"Total","Placering"]
[]
["Claus Hastrup - Thomas Mathiasen",null,null,null,6.57,6.71,11.43,7.43,5.14,12.43,10.43,6.57,14.86,16.86,13.43,18,9.2899999999999991,6.71,null,{"$f":"AVERAGE(E7:R7)","v":10.418571428571429},16]
["Christian Schmidt - Michael Dodt",null,null,null,9,14.86,4.8600000000000003,2.29,18.14,14.43,3,16.43,15.71,21.29,9.2899999999999991,2.71,13,12.86,null,{"$f":"AVERAGE(E8:R8)","v":11.276428571428571},14]
[]
["Jørgen Cilleborg Hansen - Steen Schou",null,null,null,17.57,8.2899999999999991,23.57,21.14,20.71,6.14,14.29,19.14,14,12.43,18.29,22.29,16.71,11.14,null,{"$f":"AVERAGE(E10:R10)","v":16.122142857142858},6]
["Camilla Bo Krefeld - Johan Hammelev",null,null,null,16.71,12.86,18.14,23.71,15,11.86,6.86,22,13,21.29,22.14,7.29,8.86,21.71,null,{"$f":"AVERAGE(E11:R11)","v":15.81642857142857},7]
[]
["Jørgen Anker Pabst - Vagn Søndergaard",null,null,null,15.57,18.29,16,15.71,11.86,17.43,22.29,10.43,10.86,5.29,8.43,14.43,22,15.86,null,{"$f":"AVERAGE(E13:R13)","v":14.603571428571428},11]
["H K Sørensen - Niels Henriksen",null,null,null,11.57,16.71,13.43,18.71,23.14,15.57,15.57,7.43,19.57,13,21,12.14,15.57,17.57,null,{"$f":"AVERAGE(E14:R14)","v":15.784285714285712},8]
[]
["Stense Farholt - Henrik Caspersen",null,null,null,22.43,8.43,22.29,17.14,21,12.14,19,13.57,16.86,17.43,21,17.86,11.43,18.43,null,{"$f":"AVERAGE(E16:R16)","v":17.072142857142861},2]
["Lars Tofte - Emil Jepsen",null,null,null,20.14,19.14,19.57,23.43,19.57,17.29,24.57,22.29,16,7.71,8.57,15.29,16.29,21.57,null,{"$f":"AVERAGE(E17:R17)","v":17.959285714285709},1]
[]
["Benny Marquart - Asger Bruun",null,null,null,7.14,10.56,6,16.57,15.43,10.57,8.86,5.29,15,7.86,7.29,7,14.43,14.14,null,{"$f":"AVERAGE(E19:R19)","v":10.438571428571427},15]
["Keld Grann - Lars Peter Damgaard",null,null,null,9.57,21,12.71,8.7100000000000009,7.29,12,15.86,11.43,13.86,13.14,11.71,22,7.71,12.43,null,{"$f":"AVERAGE(E20:R20)","v":12.815714285714288},13]
[]
["Majka Cilleborg Bilde - Peter Jepsen",null,null,null,14.43,13.29,7.14,3,21.71,19.43,16.57,17.29,12.71,7.71,20.71,12,13.29,7.43,null,{"$f":"AVERAGE(E22:R22)","v":13.336428571428572},12]
["Dennis Bilde - Morten Bilde",null,null,null,18.43,11.57,9.86,11.43,14.57,18,9.2899999999999991,18,3,15.14,16.57,24.86,21,18.57,null,{"$f":"AVERAGE(E23:R23)","v":15.020714285714288},10]
[]
["Jan Pedersen - Nils Mønsted",null,null,null,13.29,21.29,16.57,13.71,9.86,17.71,14,23.43,24.86,21.57,8.2899999999999991,16.29,20.57,17.14,null,{"$f":"AVERAGE(E25:R25)","v":17.041428571428572},3]
["Tom Nørgaard - Trine Bilde",null,null,null,12.43,17.14,14,9.86,8.2899999999999991,12.71,20.43,18.29,17,14.86,12.71,17.57,17,22.57,null,{"$f":"AVERAGE(E26:R26)","v":15.347142857142856},9]
[]
["Marlene Henneberg - J.O Henneberg",null,null,null,20.43,22.71,22.86,19.86,8.57,18.14,13.29,12,9.86,23.29,17.29,13.57,18.57,8,null,{"$f":"AVERAGE(E28:R28)","v":16.317142857142859},5]
["Niels Krøjgaard - Mads Krøjgaard",null,null,null,23,15.14,17.29,12.14,14.86,23.57,20.57,12.71,18.57,16.86,21.29,11.86,13.71,11.57,null,{"$f":"AVERAGE(E29:R29)","v":16.65285714285714},4]

{"sheet":"Imp1","index":2,"n_rows":21,"n_cols":9,"rows_kept":21,"cut":false,"hidden":false,"merged":[]}
["IMP Par I"]
[]
[]
[null,"1.aften","2.aften","3.aften","4.aften","5.aften",null,"Sum","Placering"]
[]
["Jørgen Cilleborg Hansen - Steen Schou",189,306,109,26,582,null,{"$f":"SUM(B6:F6)","v":1212},1]
["Jan Pedersen - Nils Mønsted",266,53,519,-272,86,null,652,2]
["Dennis Bilde - Morten Bilde",59,2,336,254,-24,null,627,3]
["Jørgen Anker Pabst - Vagn Søndergaard",-78,176,28,185,106,null,417,4]
["Niels Krøjgaard - Mads Krøjgaard",305,159,-235,212,-58,null,383,5]
["Claus Hastrup - Thomas Mathiasen",146,145,337,-181,-408,null,39,6]
["Stense Farholt - Henrik Caspersen",222,-273,-69,-267,378,null,-9,7]
["Lars Tofte - Emil Jepsen",-103,-167,115,-75,100,null,-130,8]
["Marlene Henneberg - J.O Henneberg",108,72,-189,-42,-95,null,-146,9]
["H K Sørensen - Niels Henriksen",70,-3,-229,44,-29,null,-147,10]
["Camilla Bo Krefeld - Johan Hammelev",-116,239,100,11,-442,null,-208,11]
["Tom Nørgaard - Trine Bilde",-235,-18,-369,167,142,null,-313,12]
["Benny Marquart - Asger Bruun",41,-173,-245,19,21,null,-337,13]
["Keld Grann - Lars Peter Damgaard",-301,-177,-3,49,43,null,-389,14]
["Majka Cilleborg Bilde - Peter Jepsen",-134,-286,-32,22,-332,null,-762,15]
["Christian Schmidt - Michael Dodt",-439,-55,-173,-152,-70,null,-889,16]

{"sheet":"RR2","index":3,"n_rows":29,"n_cols":21,"rows_kept":29,"cut":false,"hidden":false,"merged":[[0,0,0,21]]}
[" Multi, RR2"]
[]
[]
[]
[null,null,null,null,1,2,3,4,5,6,7,8,9,10,11,12,13,14,null,"Total","Placering"]
[]
["Claus Hastrup - Thomas Mathiasen",null,null,null,7.86,12,19,18.57,16.14,14.43,12.71,18.71,5.86,4.8600000000000003,15.86,17.43,20,21,null,{"$f":"AVERAGE(E7:R7)","v":14.602142857142857},9]
["Christian Schmidt - Michael Dodt",null,null,null,9.14,11.43,17.43,7.43,14.57,16.43,24.57,15.43,15.14,11.57,17.43,13.14,8.86,19.86,null,{"$f":"AVERAGE(E8:R8)","v":14.459285714285715},12]
[]
["Jørgen Cilleborg Hansen - Steen Schou",null,null,null,19.14,15.86,22.29,14,15.43,15.57,16.57,20.43,12.14,17,16.43,16.43,14.57,13.43,null,{"$f":"AVERAGE(E10:R10)","v":16.377857142857145},2]
["Camilla Bo Krefeld - Johan Hammelev",null,null,null,11.14,19.43,12.57,19.86,13.86,13.57,21.29,23.86,22.29,7.57,17.43,13.86,13.29,14.57,null,{"$f":"AVERAGE(E11:R11)","v":16.042142857142853},4]
[]
["Jørgen Anker Pabst - Vagn Søndergaard",null,null,null,16.57,17.86,16.14,10.71,8.86,16.29,3.71,10.71,13.43,17.14,13.57,16.14,21,21.14,null,{"$f":"AVERAGE(E13:R13)","v":14.519285714285713},10]
["H K Sørensen - Niels Henriksen",null,null,null,18,16.71,8.86,17.57,11.71,12.43,17.29,14.57,16,12.57,12.57,13.57,8,23,null,{"$f":"AVERAGE(E14:R14)","v":14.489285714285712},11]
[]
["Stense Farholt - Henrik Caspersen",null,null,null,18.71,14.14,13.86,12.43,15.71,16.57,9.43,12.29,15.29,16.43,12.57,12.57,12.71,14.43,null,{"$f":"AVERAGE(E16:R16)","v":14.081428571428571},13]
["Lars Tofte - Emil Jepsen",null,null,null,10.86,10.57,21,19.14,20.57,23,13.43,16.14,16.43,14.71,14.14,16.86,13.43,12.43,null,{"$f":"AVERAGE(E17:R17)","v":15.907857142857145},5]
[]
["Benny Marquart - Asger Bruun",null,null,null,22.57,7.57,11,22,14.14,3.86,8.14,9.14,14,12.86,9.14,17,16.57,15.57,null,{"$f":"AVERAGE(E19:R19)","v":13.111428571428572},14]
["Keld Grann - Lars Peter Damgaard",null,null,null,12.29,12.86,12.57,11.29,4.29,12.86,13.29,4.57,16.57,17.43,14.57,6.86,17.29,17.43,null,{"$f":"AVERAGE(E20:R20)","v":12.440714285714284},16]
[]
["Majka Cilleborg Bilde - Peter Jepsen",null,null,null,7,17.14,7.57,10,18.29,13.57,14.86,8.2899999999999991,13.57,13.57,14.71,11,20.86,8.57,null,{"$f":"AVERAGE(E22:R22)","v":12.785714285714286},15]
["Dennis Bilde - Morten Bilde",null,null,null,17.71,22.43,17.43,16,20.57,17.14,18.71,12.86,14.71,15.29,19.57,19.43,10,10.14,null,{"$f":"AVERAGE(E23:R23)","v":16.570714285714281},1]
[]
["Jan Pedersen - Nils Mønsted",null,null,null,13.43,13.29,12.57,23.43,8.86,13.43,15.14,17.14,14.86,24.29,15.43,13,15.43,15.43,null,{"$f":"AVERAGE(E25:R25)","v":15.409285714285714},8]
["Tom Nørgaard - Trine Bilde",null,null,null,12,12.14,11.57,12,14.29,6.43,10.71,21.14,23.57,18.14,20.86,23,16.71,16.57,null,{"$f":"AVERAGE(E26:R26)","v":15.652142857142859},7]
[]
["Marlene Henneberg - J.O Henneberg",null,null,null,20.71,18,17.43,18,15.71,16.86,16.57,17.71,7.14,12.86,10.43,18.86,21.86,8.43,null,{"$f":"AVERAGE(E28:R28)","v":15.755000000000004},6]
["Niels Krøjgaard - Mads Krøjgaard",null,null,null,21.71,18.57,18.43,5.86,24.43,24.71,20,13.86,17.86,22,15.29,10.57,8.86,6,null,{"$f":"AVERAGE(E29:R29)","v":16.296428571428571},3]

{"sheet":"Hold i alt","index":4,"n_rows":13,"n_cols":6,"rows_kept":13,"cut":false,"hidden":false,"merged":[[0,0,0,5]]}
["Klub 32 - Hold 2013/2014"]
[]
[]
[]
[null,"RR1","RR2","Total","Placering"]
["Marlene Henneberg",130,120,{"$f":"SUM(B6:C6)","v":250},1,"(indbyrdes 10-20 og 21-9)"]
["Stense Farholt",144,106,250,2]
["Camilla Bo Krefeld",119,122,241,3]
["Jan Pedersen",123,111,234,4]
["Vagn Søndergaard",116,97,213,5]
["Dennis Bilde",94,101,195,6]
["Claus Hastrup",41,100,141,7]
["Asger Bruhn",48,68,116,8]

{"sheet":"Slutspil","index":5,"n_rows":29,"n_cols":15,"rows_kept":29,"cut":false,"hidden":false,"merged":[[0,0,0,14]]}
["SLUTSPIL"]
[]
[]
[]
[null,null,null,null,1,2,3,4,5,6,7,8,null,"Total","Placering"]
[]
["Claus Hastrup - Thomas Mathiasen",null,null,null,1.31,4.9000000000000004,3.53,10.96,12.19,1.4,3.46,13.23,null,{"$f":"AVERAGE(E7:L7)","v":6.3725000000000005},16]
["Christian Schmidt - Michael Dodt",null,null,null,8.5399999999999991,6.48,4.95,5.49,11.33,6.37,9.25,9.5399999999999991,null,{"$f":"AVERAGE(E8:L8)","v":7.7437499999999995},14]
[]
["Jørgen Cilleborg Hansen - Steen Schou",null,null,null,15.5,10.54,11.26,8.9,6.66,10.31,16.079999999999998,2.95,null,{"$f":"AVERAGE(E10:L10)","v":10.275},10]
["Camilla Bo Krefeld - Johan Hammelev",null,null,null,5.51,11.15,9.7100000000000009,12.18,8.7100000000000009,4.8099999999999996,7.8,9.84,null,{"$f":"AVERAGE(E11:L11)","v":8.7137499999999992},13]
[]
["Jørgen Anker Pabst - Vagn Søndergaard",null,null,null,18.690000000000001,13.52,15.05,9.0399999999999991,5.9,7.03,13.41,12.09,null,{"$f":"AVERAGE(E13:L13)","v":11.84125},2]
["H K Sørensen - Niels Henriksen",null,null,null,11.46,15.1,16.47,14.51,7.32,11.56,4.0199999999999996,9.69,null,{"$f":"AVERAGE(E14:L14)","v":11.266249999999999},3]
[]
["Stense Farholt - Henrik Caspersen",null,null,null,14.09,6.51,4.87,10.74,16.48,6.72,10.91,11.43,null,{"$f":"AVERAGE(E16:L16)","v":10.21875},11]
["Lars Tofte - Emil Jepsen",null,null,null,13.42,6.46,1.87,10.33,14.99,10.73,15.59,12.23,null,{"$f":"AVERAGE(E17:L17)","v":10.702500000000001},7]
[]
["Benny Marquart - Asger Bruun",null,null,null,5.84,11.98,5.6,16.489999999999998,8.67,18.600000000000001,10.75,6.77,null,{"$f":"AVERAGE(E19:L19)","v":10.5875},8]
["Keld Grann - Lars Peter Damgaard",null,null,null,9.27,11.07,5.56,13.89,7.81,13.63,16.54,10.46,null,{"$f":"AVERAGE(E20:L20)","v":11.028750000000002},4]
[]
["Majka Cilleborg Bilde - Peter Jepsen",null,null,null,10.73,8.02,14.44,3.51,12.68,12.97,15.98,7.91,null,{"$f":"AVERAGE(E22:L22)","v":10.78},6]
["Dennis Bilde - Morten Bilde",null,null,null,14.16,8.93,14.4,6.11,14.1,8.44,6.59,10.31,null,{"$f":"AVERAGE(E23:L23)","v":10.38},9]
[]
["Jan Pedersen - Nils Mønsted",null,null,null,4.5,8.85,10.29,11.1,3.52,9.27,4.41,8.57,null,{"$f":"AVERAGE(E25:L25)","v":7.5637499999999998},15]
["Tom Nørgaard - Trine Bilde",null,null,null,14.49,9.4600000000000009,8.74,7.82,5.01,13.27,9.09,7.77,null,{"$f":"AVERAGE(E26:L26)","v":9.4562500000000007},12]
[]
["Marlene Henneberg - J.O Henneberg",null,null,null,6.58,13.49,15.13,9.67,13.34,15.19,3.92,10.16,null,{"$f":"AVERAGE(E28:L28)","v":10.935},5]
["Niels Krøjgaard - Mads Krøjgaard",null,null,null,5.91,13.54,18.13,9.26,11.29,9.69,12.2,17.05,null,{"$f":"AVERAGE(E29:L29)","v":12.133749999999999},1]

{"sheet":"Imp2","index":6,"n_rows":20,"n_cols":7,"rows_kept":20,"cut":false,"hidden":false,"merged":[]}
[]
[]
[null,"1.aften","2.aften","3.aften",null,"Sum","Placering"]
[]
["Jørgen Cilleborg Hansen - Steen Schou",56,28,416,null,{"$f":"SUM(B5:D5)","v":500},1]
["Stense Farholt - Henrik Caspersen",131,95,179,null,405,2]
["Dennis Bilde - Morten Bilde",180,282,-87,null,375,3]
["Camilla Bo Krefeld - Johan Hammelev",131,-10,215,null,336,4]
["Lars Tofte - Emil Jepsen",280,95,-104,null,271,5]
["Tom Nørgaard - Trine Bilde",-128,310,-17,null,165,6]
["Jan Pedersen - Nils Mønsted",84,-46,109,null,147,7]
["Marlene Henneberg - J.O Henneberg",-347,186,269,null,108,8]
["Claus Hastrup - Thomas Mathiasen",-97,188,4,null,95,9]
["Benny Marquart - Asger Bruun",23,43,-212,null,-146,10]
["Majka Cilleborg Bilde - Peter Jepsen",134,-83,-258,null,-207,11]
["Keld Grann - Lars Peter Damgaard",-1,-377,114,null,-264,12]
["Niels Krøjgaard - Mads Krøjgaard",-125,13,-181,null,-293,13]
["Jørgen Anker Pabst - Vagn Søndergaard",-77,-293,-10,null,-380,14]
["H K Sørensen - Niels Henriksen",-146,-282,-18,null,-446,15]
["Christian Schmidt - Michael Dodt",-98,-149,-419,null,-666,16]

{"sheet":"Grand prix","index":7,"n_rows":37,"n_cols":15,"rows_kept":37,"cut":false,"hidden":false,"merged":[[0,0,0,15]]}
["Grand prix klub 32 (2013-2014)"]
[]
[]
[]
[null,null,null,null,null,"Intro hold","RR 1","IMP1","RR2","Slutspil","IMP2",null,"Total",null,"Placering"]
[]
[{"$f":"Intro!A7","v":"Benny Marquart - Asger Bruun"},null,null,null,null,{"$f":"Intro!X7*4","v":56},{"$f":"'RR1'!U19*7","v":105},{"$f":"'Imp1'!I18*5","v":65},{"$f":"'RR2'!U19*7","v":98},{"$f":"Slutspil!O19*4","v":32},{"$f":"'Imp2'!G14*3","v":30},null,{"$f":"SUM(F7:L7)","v":386},null,15]
[]
[{"$f":"Intro!A8","v":"H K Sørensen - Niels Henriksen"},null,null,null,null,{"$f":"Intro!X8*4","v":36},{"$f":"'RR1'!U14*7","v":56},{"$f":"'Imp1'!I15*5","v":50},{"$f":"'RR2'!U14*7","v":77},{"$f":"Slutspil!O14*4","v":12},{"$f":"'Imp2'!G19*3","v":45},null,{"$f":"SUM(F9:L9)","v":276},null,10]
[]
[{"$f":"Intro!A10","v":"Camilla Bo Krefeld - Johan Hammelev"},null,null,null,null,{"$f":"Intro!X10*4","v":20},{"$f":"'RR1'!U11*7","v":49},{"$f":"'Imp1'!I16*5","v":55},{"$f":"'RR2'!U11*7","v":28},{"$f":"Slutspil!O11*4","v":52},{"$f":"'Imp2'!G8*3","v":12},null,{"$f":"SUM(F11:L11)","v":216},null,"7"]
[]
[{"$f":"Intro!A11","v":"Jørgen Anker Pabst - Vagn Søndergaard"},null,null,null,null,{"$f":"Intro!X11*4","v":64},{"$f":"'RR1'!U13*7","v":77},{"$f":"'Imp1'!I9*5","v":20},{"$f":"'RR2'!U13*7","v":70},{"$f":"Slutspil!O13*4","v":8},{"$f":"'Imp2'!G18*3","v":42},null,{"$f":"SUM(F13:L13)","v":281},null,11]
[]
[{"$f":"Intro!A13","v":"Christian Schmidt - Michael Dodt"},null,null,null,null,{"$f":"Intro!X13*4","v":44},{"$f":"'RR1'!U8*7","v":98},{"$f":"'Imp1'!I21*5","v":80},{"$f":"'RR2'!U8*7","v":84},{"$f":"Slutspil!O8*4","v":56},{"$f":"'Imp2'!G20*3","v":48},null,{"$f":"SUM(F15:L15)","v":410},null,16]
[]
[{"$f":"Intro!A14","v":"Stense Farholt - Henrik Caspersen"},null,null,null,null,{"$f":"Intro!X14*4","v":28},{"$f":"'RR1'!U16*7","v":14},{"$f":"'Imp1'!I12*5","v":35},{"$f":"'RR2'!U16*7","v":91},{"$f":"Slutspil!O16*4","v":44},{"$f":"'Imp2'!G6*3","v":6},null,{"$f":"SUM(F17:L17)","v":218},null,8]
[]
[{"$f":"Intro!A16","v":"Claus Hastrup - Thomas Mathiasen"},null,null,null,null,{"$f":"Intro!X16*4","v":40},{"$f":"'RR1'!U7*7","v":112},{"$f":"'Imp1'!I11*5","v":30},{"$f":"'RR2'!U7*7","v":63},{"$f":"Slutspil!O7*4","v":64},{"$f":"'Imp2'!G13*3","v":27},null,{"$f":"SUM(F19:L19)","v":336},null,"12"]
[]
[{"$f":"Intro!A17","v":"Jørgen Cilleborg Hansen - Steen Schou"},null,null,null,null,{"$f":"Intro!X17*4","v":52},{"$f":"'RR1'!U10*7","v":42},{"$f":"'Imp1'!I6*5","v":5},{"$f":"'RR2'!U10*7","v":14},{"$f":"Slutspil!O10*4","v":40},{"$f":"'Imp2'!G5*3","v":3},null,{"$f":"SUM(F21:L21)","v":156},null,3]
[]
[{"$f":"Intro!A19","v":"Dennis Bilde - Morten Bilde"},null,null,null,null,{"$f":"Intro!X19*4","v":4},{"$f":"'RR1'!U23*7","v":70},{"$f":"'Imp1'!I8*5","v":15},{"$f":"'RR2'!U23*7","v":7},{"$f":"Slutspil!O23*4","v":36},{"$f":"'Imp2'!G7*3","v":9},null,{"$f":"SUM(F23:L23)","v":141},null,2]
[]
[{"$f":"Intro!A20","v":"Tom Nørgaard - Trine Bilde"},null,null,null,null,{"$f":"Intro!X20*4","v":8},{"$f":"'RR1'!U26*7","v":63},{"$f":"'Imp1'!I17*5","v":60},{"$f":"'RR2'!U26*7","v":49},{"$f":"Slutspil!O26*4","v":48},{"$f":"'Imp2'!G10*3","v":18},null,{"$f":"SUM(F25:L25)","v":246},null,"9"]
[]
[{"$f":"Intro!A22","v":"Jan Pedersen - Nils Mønsted"},null,null,null,null,{"$f":"Intro!X22*4","v":12},{"$f":"'RR1'!U25*7","v":21},{"$f":"'Imp1'!I7*5","v":10},{"$f":"'RR2'!U25*7","v":56},{"$f":"Slutspil!O25*4","v":60},{"$f":"'Imp2'!G11*3","v":21},null,{"$f":"SUM(F27:L27)","v":180},null,5]
[]
[{"$f":"Intro!A23","v":"Lars Tofte - Emil Jepsen"},null,null,null,null,{"$f":"Intro!X23*4","v":48},{"$f":"'RR1'!U17*7","v":7},{"$f":"'Imp1'!I13*5","v":40},{"$f":"'RR2'!U17*7","v":35},{"$f":"Slutspil!O17*4","v":28},{"$f":"'Imp2'!G9*3","v":15},null,{"$f":"SUM(F29:L29)","v":173},null,4]
[]
[{"$f":"Intro!A25","v":"Keld Grann - Lars Peter Damgaard"},null,null,null,null,{"$f":"Intro!X25*4","v":60},{"$f":"'RR1'!U20*7","v":91},{"$f":"'Imp1'!I19*5","v":70},{"$f":"'RR2'!U20*7","v":112},{"$f":"Slutspil!O20*4","v":16},{"$f":"'Imp2'!G16*3","v":36},null,{"$f":"SUM(F31:L31)","v":385},null,14]
[]
[{"$f":"Intro!A26","v":"Marlene Henneberg - J.O Henneberg"},null,null,null,null,{"$f":"Intro!X26*4","v":24},{"$f":"'RR1'!U28*7","v":35},{"$f":"'Imp1'!I14*5","v":45},{"$f":"'RR2'!U28*7","v":42},{"$f":"Slutspil!O28*4","v":20},{"$f":"'Imp2'!G12*3","v":24},null,{"$f":"SUM(F33:L33)","v":190},null,"6"]
[]
[{"$f":"Intro!A28","v":"Majka Cilleborg Bilde - Peter Jepsen"},null,null,null,null,{"$f":"Intro!X28*4","v":32},{"$f":"'RR1'!U22*7","v":84},{"$f":"'Imp1'!I20*5","v":75},{"$f":"'RR2'!U22*7","v":105},{"$f":"Slutspil!O22*4","v":24},{"$f":"'Imp2'!G15*3","v":33},null,{"$f":"SUM(F35:L35)","v":353},null,13]
[]
[{"$f":"Intro!A29","v":"Niels Krøjgaard - Mads Krøjgaard"},null,null,null,null,{"$f":"Intro!X29*4","v":16},{"$f":"'RR1'!U29*7","v":28},{"$f":"'Imp1'!I10*5","v":25},{"$f":"'RR2'!U29*7","v":21},{"$f":"Slutspil!O29*4","v":4},{"$f":"'Imp2'!G17*3","v":39},null,{"$f":"SUM(F37:L37)","v":133},null,1]