{"text_format":"1","workbook":"xlsx","n_sheets":8,"sheets":["Intro","RR1","Imp1","RR2","Hold i alt","Slutspil","Par","Grand prix"],"not_rendered":{"charts":0,"images":0,"macros":0,"external_links":0,"defined_names":0,"comments":0,"pivot_tables":0},"unopened":[],"bounds":{"document_bytes":16777216,"sheet_cells":100000,"rows_first":2000,"rows_last":500,"rows_between":2000,"halvings":0,"cell_chars":16384,"cell_head_chars":4096},"cells_cut":0,"cells_raw":0,"read":"whole","date_system":"1900"}

{"sheet":"Intro","index":0,"n_rows":27,"n_cols":24,"rows_kept":27,"cut":false,"hidden":false,"merged":[[0,0,0,24]]}
[" Multi, intro hold"]
[]
[null,null,null,null,1,2,3,4,5,6,7,8,9,10,11,12,13,14,15,16,null,"Total",null,"Placering"]
[]
["Tom Nørgaard - Trine Bilde",null,null,null,12.9,12.01,10.28,11.6,8.35,14.23,11.51,8.5,7.39,5.79,8.8699999999999992,9.73,6.26,10.6,15.05,14.69,null,{"$f":"AVERAGE(E5:T5)","v":10.485000000000003},null,5]
["Jørgen Cilleborg Hansen - Steen Schou",null,null,null,12.33,9.1999999999999993,9.27,7.98,13.53,12.07,7.67,8.84,11.69,8.06,16.29,5.57,11.23,15.6,8.32,6.69,null,{"$f":"AVERAGE(E6:T6)","v":10.271249999999998},null,8]
[]
["Dennis Bilde - Morten Bilde",null,null,null,0.77,11.77,9.7200000000000006,12.02,15.03,12.14,13.35,17.59,8.35,9.2899999999999991,12.88,11.03,8.6300000000000008,3.77,2.65,10.37,null,{"$f":"AVERAGE(E8:T8)","v":9.9600000000000009},null,11]
["Johanne Bilde - Søren Caspersen",null,null,null,10.97,10.050000000000001,10.73,8.4,6.8,6.89,9.24,12.84,6.69,8.77,10.050000000000001,10.11,5.15,4.6900000000000004,7.31,9.57,null,{"$f":"AVERAGE(E9:T9)","v":8.6412499999999994},null,15]
[]
["Benny Marquart - Keld Grann",null,null,null,14.35,7.58,11.35,7.94,11.65,7.93,6.65,7.16,12.04,15.31,4.7300000000000004,9.4700000000000006,8.23,15.45,12.69,9.6300000000000008,null,{"$f":"AVERAGE(E11:T11)","v":10.135},null,9]
["Marlene Henneberg - J.O Henneberg",null,null,null,12.29,11.26,17.13,9.99,6.47,5.77,10.76,2.41,18.690000000000001,13.37,11.55,7.41,8.35,14.73,17.350000000000001,10.43,null,{"$f":"AVERAGE(E12:T12)","v":11.122499999999999},null,2]
[]
["Henrik Caspersen - Jens Kofoed",null,null,null,15.46,5.77,7.98,6.83,10.85,14.47,12.33,11.5,11.65,11.23,8.4499999999999993,10.53,8.2100000000000009,13.37,11.28,5.46,null,{"$f":"AVERAGE(E14:T14)","v":10.335625000000002},null,7]
["Camilla Bo Krefeld - Johan Hammelev",null,null,null,7.9,6.61,3.39,12.92,14.53,18.399999999999999,8.49,11.16,13.31,10.71,15.27,12.59,9.82,8.17,17.149999999999999,10.47,null,{"$f":"AVERAGE(E15:T15)","v":11.305624999999997},null,1]
[]
["H K Sørensen - Niels Henriksen",null,null,null,4.54,13.39,11.47,5.56,12.89,11.53,13.13,9.75,12.61,11.94,9.9499999999999993,8.9700000000000006,11.77,5.27,8.7200000000000006,9.5299999999999994,null,{"$f":"AVERAGE(E17:T17)","v":10.063750000000001},null,10]
["Lars Tofte - Emil Jepsen",null,null,null,12.1,14.23,11.65,17.32,13.52,12.37,16.690000000000001,2.0299999999999998,8.31,14.21,7.12,9.89,11.65,4.55,2.85,14.54,null,{"$f":"AVERAGE(E18:T18)","v":10.814375},null,3]
[]
["Morten Stege - Lars Peter Damgaard",null,null,null,7.71,12.42,16.61,13.27,7.11,7.63,13.74,8.11,5.75,12.93,3.71,10.27,14.85,16.23,11.68,5.31,null,{"$f":"AVERAGE(E20:T20)","v":10.458124999999997},null,6]
["Jan Pedersen - Nils Mønsted",null,null,null,5.65,8.74,12.02,7.08,6.48,8.4700000000000006,18.12,11.41,9.76,12.74,11.13,14.43,11.37,15.31,4.95,13.31,null,{"$f":"AVERAGE(E21:T21)","v":10.685625},null,4]
[]
["Dorte Cilleborg - Michael Krogh Andersen",null,null,null,9.0299999999999994,8.23,2.87,12.06,9.15,1.6,3.31,10.25,14.25,7.26,10.63,5.68,8.77,9.4,13.72,13.64,null,{"$f":"AVERAGE(E23:T23)","v":8.7406249999999996},null,14]
["Niels Krøjgaard - Freddie Brøndum",null,null,null,19.23,9.9499999999999993,8.65,10.01,5.47,5.53,6.87,17.97,10.24,7.07,12.87,2.66,13.74,4.4000000000000004,9.93,9.84,null,{"$f":"AVERAGE(E24:T24)","v":9.6518750000000004},null,12]
[]
["Claus Hastrup - Thomas Mathiesen",null,null,null,7.1,10.8,"8.35",14.44,13.2,7.86,1.88,11.89,1.31,4.6900000000000004,7.13,14.32,10.18,6.63,6.28,10.16,null,{"$f":"AVERAGE(E26:T26)","v":8.5246666666666648},null,16]
["Jan Kølbæk - Mads Krøjgaard",null,null,null,7.67,7.99,8.5299999999999994,2.68,4.97,13.11,6.26,8.59,7.96,6.63,9.3699999999999992,17.34,11.79,11.83,10.07,6.36,null,{"$f":"AVERAGE(E27:T27)","v":8.8218750000000004},null,13]

{"sheet":"RR1","index":1,"n_rows":27,"n_cols":21,"rows_kept":27,"cut":false,"hidden":false,"merged":[[0,0,0,21]]}
[" Multi, RR1"]
[]
[null,null,null,null,1,2,3,4,5,6,7,8,9,10,11,12,13,14,null,"Total","Placering"]
[]
["Tom Nørgaard - Trine Bilde",null,null,null,8.52,11.6,3.98,16.36,13,17.52,7.61,4.3,15.45,11.03,8.69,11.43,6.35,7.51,null,{"$f":"AVERAGE(E5:R5)","v":10.239285714285712},9]
["Jan Pedersen - Nils Mønsted",null,null,null,14.3,11.41,5.33,13.07,16.64,6.84,12.17,14.12,3.7,10.86,7.48,6.02,8.7100000000000009,2.54,null,{"$f":"AVERAGE(E6:R6)","v":9.5135714285714279},12]
[]
["Johanne Bilde - Søren Caspersen",null,null,null,7.24,2.83,14.67,3.64,1.98,6.46,13.48,4.5,"1.13","3.24",6.8,14.7,10.81,4.9800000000000004,null,{"$f":"AVERAGE(E8:R8)","v":7.6741666666666672},14]
["Lars Tofte - Emil Jepsen",null,null,null,12.43,7.82,16.02,6.93,5.51,12.63,9.61,9.6999999999999993,11.14,7.8,7.56,13.13,9.5399999999999991,4.82,null,{"$f":"AVERAGE(E9:R9)","v":9.6171428571428557},11]
[]
["H K Sørensen - Niels Henriksen",null,null,null,6.79,4.6399999999999997,6.4,10.49,3.36,2.48,6.52,10.3,8.66,"4.83",14.42,5,7.07,9.8000000000000007,null,{"$f":"AVERAGE(E11:R11)","v":7.3792307692307686},15]
["Morten Stege - Lars Peter Damgaard",null,null,null,10.34,12.43,8.6199999999999992,9.8000000000000007,7,13.16,10.39,15.5,5.0999999999999996,7.16,11.5,9.4600000000000009,13.43,9.6199999999999992,null,{"$f":"AVERAGE(E12:R12)","v":10.250714285714285},8]
[]
["Niels Krøjgaard - Freddie Brøndum",null,null,null,10.210000000000001,16.89,3.46,10.9,11.62,13.9,12.39,5.88,8.86,16.66,8.5,15,15.9,10,null,{"$f":"AVERAGE(E14:R14)","v":11.440714285714284},4]
["Jan Kølbæk - Mads Krøjgaard",null,null,null,6.08,14.28,6.01,11.87,14.29,14.34,7.83,15.7,18.87,12.2,5.58,10.54,10.63,14.95,null,{"$f":"AVERAGE(E15:R15)","v":11.654999999999999},3]
[]
["Claus Hastrup - Thomas Mathiasen",null,null,null,13.92,3.11,3.48,6.13,5.98,7.93,5.91,5.95,4.55,9.14,13.2,6.87,6.57,10.199999999999999,null,{"$f":"AVERAGE(E17:R17)","v":7.3528571428571441},16]
["Benny Marquart - Keld Grann",null,null,null,9.7899999999999991,5.72,6.9,3.11,8.76,12.88,4.38,1.23,16.3,8.9700000000000006,12.44,5.3,12.93,10.38,null,{"$f":"AVERAGE(E18:R18)","v":8.5064285714285699},13]
[]
["Marlene Henneberg - J.O Henneberg",null,null,null,13.21,7.57,16.54,8.1300000000000008,11.24,12.07,12.37,6.51,5.81,11.87,11.31,13.98,10.46,15.02,null,{"$f":"AVERAGE(E20:R20)","v":11.149285714285716},6]
["Henrik Caspersen - Jens Kofoed",null,null,null,9.66,15.36,13.99,9.1,14.02,7.12,2.41,6.42,7.62,5.25,12.52,8.57,9.19,15.18,null,{"$f":"AVERAGE(E21:R21)","v":9.7435714285714283},10]
[]
["Camilla Bo Krefeld - Johan Hammelev",null,null,null,7.57,17.170000000000002,11.38,9.51,5.71,6.1,15.62,14.05,14.19,14.75,15.44,16.260000000000002,13.65,17.46,null,{"$f":"AVERAGE(E23:R23)","v":12.775714285714287},1]
["Jørgen Cilleborg Hansen - Steen Schou",null,null,null,12.76,12.18,13.6,10.199999999999999,8.3800000000000008,5.66,14.09,18.77,12.38,8.1300000000000008,10.55,15.64,11.29,12.49,null,{"$f":"AVERAGE(E24:R24)","v":11.865714285714285},2]
[]
["Dennis Bilde - Morten Bilde",null,null,null,5.7,8.4,13.1,13.87,14.49,13.54,17.59,13.49,14.9,15.17,4.5599999999999996,4.3600000000000003,9.3699999999999992,10,null,{"$f":"AVERAGE(E26:R26)","v":11.324285714285717},5]
["Dorte Cilleborg - Michael Krogh Andersen",null,null,null,11.48,8.59,16.52,16.89,18.02,7.37,7.63,13.58,11.34,12.84,9.4499999999999993,3.74,4.0999999999999996,5.05,null,{"$f":"AVERAGE(E27:R27)","v":10.471428571428573},7]

{"sheet":"Imp1","index":2,"n_rows":21,"n_cols":9,"rows_kept":21,"cut":false,"hidden":false,"merged":[]}
["IMP Par I"]
[]
[]
[null,"1.aften","2.aften","3.aften","4.aften","5.aften",null,"Sum","Placering"]
[]
["Jørgen Cilleborg Hansen - Steen Schou",-24,63,4,60,495,null,{"$f":"SUM(B6:F6)","v":598},1]
["Lars Tofte - Emil Jepsen",31,94,217,318,-90,null,570,2]
["Niels Krøjgaard - Freddie Brøndum",38,146,442,-26,-95,null,505,3]
["Jan Pedersen - Nils Mønsted",-127,119,328,-1,172,null,491,4]
["Camilla Bo Krefeld - Johan Hammelev",157,50,189,32,-18,null,410,5]
["Tom Nørgaard - Trine Bilde",-13,188,-6,38,153,null,360,6]
["Henrik Caspersen - Jens Kofoed",378,-416,-26,213,88,null,237,7]
["Marlene Henneberg - J.O Henneberg",137,66,96,-153,70,null,216,8]
["Morten Stege - Lars Peter Damgaard",-52,163,-121,-89,220,null,121,9]
["Jan Kølbæk - Mads Krøjgaard",192,-22,-213,45,-18,null,-16,10]
["Claus Hastrup - Thomas Mathiesen",-163,39,-56,-30,171,null,-39,11]
["Dennis Bilde - Morten Bilde",-91,-346,235,-99,-50,null,-351,12]
["Dorte Cilleborg - Michael Krogh Andersen",-157,215,-337,-57,-51,null,-387,13]
["H K Sørensen - Niels Henriksen",6,-238,-155,144,-179,null,-422,14]
["Benny Marquart - Keld Grann",-257,-58,-479,21,-138,null,-911,15]
["Johanne Bilde - Søren Caspersen",-55,77,-118,-416,-730,null,-1242,16]

{"sheet":"RR2","index":3,"n_rows":27,"n_cols":21,"rows_kept":27,"cut":false,"hidden":false,"merged":[[0,0,0,21]]}
[" Multi, RR2"]
[]
[null,null,null,null,1,2,3,4,5,6,7,8,9,10,11,12,13,14,null,"Total","Placering"]
[]
["Tom Nørgaard - Trine Bilde",null,null,null,5.86,5.49,16.2,12.18,7.3,8.0500000000000007,12.86,10.23,16.63,10.38,18.760000000000002,16.170000000000002,5.74,11.36,null,{"$f":"AVERAGE(E5:R5)","v":11.229285714285718},3]
["Jan Pedersen - Nils Mønsted",null,null,null,8.11,3.52,14.94,12.6,11.04,12.78,8.59,9.14,13.05,10.86,8.56,7.94,13.66,9.74,null,{"$f":"AVERAGE(E6:R6)","v":10.323571428571428},8]
[]
["Johanne Bilde - Søren Caspersen",null,null,null,9.6999999999999993,7.16,8.75,3.73,16.29,5.91,7.2,3.71,11.79,8.5399999999999991,3.22,8.25,6.34,8.64,null,{"$f":"AVERAGE(E8:R8)","v":7.802142857142857},16]
["Lars Tofte - Emil Jepsen",null,null,null,8.7899999999999991,11.54,10.119999999999999,13.06,15.36,3.08,13.01,13.08,10.15,6.37,5.19,8.39,14.26,10.26,null,{"$f":"AVERAGE(E9:R9)","v":10.19},9]
[]
["H K Sørensen - Niels Henriksen",null,null,null,2.88,9.7100000000000009,4.42,15.33,8.9600000000000009,11.95,4.59,8.66,11.1,12.22,14.81,11.75,7.24,7.59,null,{"$f":"AVERAGE(E11:R11)","v":9.3721428571428564},11]
["Morten Stege - Lars Peter Damgaard",null,null,null,10.07,13.73,8.85,9.94,12.7,7.22,5.77,4.2699999999999996,9.77,9.91,16.78,11.61,18.82,7.82,null,{"$f":"AVERAGE(E12:R12)","v":10.518571428571425},7]
[]
["Niels Krøjgaard - Freddie Brøndum",null,null,null,10.84,10.34,11.15,4.67,10.06,14.41,10.57,7.31,9.85,11.46,11.44,3.83,16.71,7.19,null,{"$f":"AVERAGE(E14:R14)","v":9.9878571428571412},10]
["Jan Kølbæk - Mads Krøjgaard",null,null,null,16.690000000000001,12.66,15.58,10.06,16.68,9.7100000000000009,10.210000000000001,3.42,7.92,13.63,1.24,12.06,10.43,14.4,null,{"$f":"AVERAGE(E15:R15)","v":11.049285714285714},4]
[]
["Claus Hastrup - Thomas Mathiasen",null,null,null,3.31,9.66,3.8,7.4,8.86,7.91,12.8,6.92,8.9,10.09,12.59,5.74,13.11,13.46,null,{"$f":"AVERAGE(E17:R17)","v":8.8964285714285722},13.5]
["Benny Marquart - Keld Grann",null,null,null,9.16,7.34,5.0599999999999996,7.82,10.82,14.51,6.99,16.29,10.23,7.78,3.27,6.69,10.48,8.11,null,{"$f":"AVERAGE(E18:R18)","v":8.8964285714285722},13.5]
[]
["Marlene Henneberg - J.O Henneberg",null,null,null,9.93,10.29,5.69,16.600000000000001,3.71,16.920000000000002,9.7899999999999991,12.69,3.37,9.14,6.86,3.98,9.52,6.54,null,{"$f":"AVERAGE(E20:R20)","v":8.930714285714286},12]
["Henrik Caspersen - Jens Kofoed",null,null,null,17.12,6.27,10.220000000000001,13.08,4.6399999999999997,14.09,9.43,16.579999999999998,6.95,9.6199999999999992,7.96,13.29,6.89,11.89,null,{"$f":"AVERAGE(E21:R21)","v":10.573571428571427},6]
[]
["Camilla Bo Krefeld - Johan Hammelev",null,null,null,14.14,16.48,9.8800000000000008,16.27,11.14,5.49,15.41,15.73,12.91,13.22,13.14,6.71,9.57,12.81,null,{"$f":"AVERAGE(E23:R23)","v":12.35},1]
["Jørgen Cilleborg Hansen - Steen Schou",null,null,null,11.89,14.51,11.25,6.94,9.18,12.09,14.23,11.34,12.59,9.2200000000000006,12.04,16.02,3.29,5.6,null,{"$f":"AVERAGE(E24:R24)","v":10.727857142857143},5]
[]
["Dennis Bilde - Morten Bilde",null,null,null,11.21,12.84,14.31,6.92,9.94,10.29,7.14,10.86,7.09,10.78,16.73,14.26,12.76,12.18,null,{"$f":"AVERAGE(E26:R26)","v":11.236428571428572},2]
["Dorte Cilleborg - Michael Krogh Andersen",null,null,null,10.3,8.4600000000000009,9.7799999999999994,3.4,3.32,5.59,11.41,9.77,7.41,6.78,7.41,13.31,1.18,12.41,null,{"$f":"AVERAGE(E27:R27)","v":7.8949999999999987},15]

{"sheet":"Hold i alt","index":4,"n_rows":13,"n_cols":5,"rows_kept":13,"cut":false,"hidden":false,"merged":[[0,0,0,5]]}
["Klub 32 - Hold 2015/2016"]
[]
[]
[]
[null,"RR1","RR2","Total","Placering"]
["Camilla Bo Krefeld",106.44,93.71,{"$f":"SUM(B6:C6)","v":200.14999999999998},1]
["Freddie Brøndum",91.13,77.7,168.82999999999998,2]
["Jan Pedersen",69.22,86.5,155.72,3]
["Marlene Henneberg",79.239999999999995,63.98,143.22,4]
["Dennis Bilde",84.21,57.62,141.82999999999998,5]
["H K Sørensen",53.53,72.84,126.37,6]
["Johanne Bilde Kofoed",40.89,52.21,93.1,7]
["Claus Hastrup",35.340000000000003,55.44,90.78,8]

{"sheet":"Slutspil","index":5,"n_rows":27,"n_cols":15,"rows_kept":27,"cut":false,"hidden":false,"merged":[[0,0,0,14]]}
["SLUTSPIL"]
[]
[null,null,null,null,1,2,3,4,5,6,7,8,null,"Total","Placering"]
[]
["Tom Nørgaard - Trine Bilde",null,null,null,3.99,16.260000000000002,10.72,9.75,17.09,7.17,7.07,4.79,null,{"$f":"AVERAGE(E5:L5)","v":9.6050000000000022},12]
["Jan Pedersen - Nils Mønsted",null,null,null,13.09,12.95,9.66,7.41,17.39,8.26,14.46,8.83,null,{"$f":"AVERAGE(E6:L6)","v":11.50625},2]
[]
["Johanne Bilde - Søren Caspersen",null,null,null,10.42,7.34,5.59,9.5399999999999991,10.93,3.56,8.2799999999999994,4,null,{"$f":"AVERAGE(E8:L8)","v":7.4575000000000005},16]
["Lars Tofte - Emil Jepsen",null,null,null,7.54,5.04,10.84,15.6,8.9700000000000006,7.37,19.11,8.17,null,{"$f":"AVERAGE(E9:L9)","v":10.33},5]
[]
["H K Sørensen - Niels Henriksen",null,null,null,12.46,12.66,14.41,4.4000000000000004,9.65,18.649999999999999,10.1,14.4,null,{"$f":"AVERAGE(E11:L11)","v":12.091249999999999},1]
["Morten Stege - Lars Peter Damgaard",null,null,null,9.58,14.96,9.16,10.46,5.96,16.09,12.77,6.97,null,{"$f":"AVERAGE(E12:L12)","v":10.74375},3]
[]
["Niels Krøjgaard - Freddie Brøndum",null,null,null,6.91,3.74,10.34,10.25,15.59,10.17,9.25,4.41,null,{"$f":"AVERAGE(E14:L14)","v":8.8324999999999996},15]
["Jan Kølbæk - Mads Krøjgaard",null,null,null,16.010000000000002,7.05,9.2799999999999994,12.59,13.56,7.82,8.4700000000000006,10.7,null,{"$f":"AVERAGE(E15:L15)","v":10.685},4]
[]
["Claus Hastrup - Thomas Mathiasen",null,null,null,11.57,15.91,9.7200000000000006,17.47,10.35,3.91,7.23,5.6,null,{"$f":"AVERAGE(E17:L17)","v":10.219999999999999},7]
["Benny Marquart - Keld Grann",null,null,null,14.5,12.42,5.26,9.76,14.04,1.35,9.9,13.03,null,{"$f":"AVERAGE(E18:L18)","v":10.032500000000001},10]
[]
["Marlene Henneberg - J.O Henneberg",null,null,null,9.42,9.08,13.68,6.2,6.44,9.83,11.53,15.59,null,{"$f":"AVERAGE(E20:L20)","v":10.22125},6]
["Henrik Caspersen - Jens Kofoed",null,null,null,6.13,11.21,11.84,5.5,4.41,12.18,10.75,9.3000000000000007,null,{"$f":"AVERAGE(E21:L21)","v":8.9150000000000009},14]
[]
["Camilla Bo Krefeld - Johan Hammelev",null,null,null,13.87,10.92,6.32,14.5,2.91,11.74,5.54,15.21,null,{"$f":"AVERAGE(E23:L23)","v":10.126249999999999},8]
["Jørgen Cilleborg Hansen - Steen Schou",null,null,null,10.58,8.7899999999999991,8.16,13.8,2.61,12.83,12.93,11.17,null,{"$f":"AVERAGE(E24:L24)","v":10.108749999999999},9]
[]
["Dennis Bilde - Morten Bilde",null,null,null,8.43,7.58,14.74,2.5299999999999998,11.03,16.440000000000001,0.89,16,null,{"$f":"AVERAGE(E26:L26)","v":9.7050000000000001},11]
["Dorte Cilleborg - Michael Krogh Andersen",null,null,null,5.5,4.09,10.28,10.24,9.07,12.63,11.72,10.83,null,{"$f":"AVERAGE(E27:L27)","v":9.2949999999999999},13]

{"sheet":"Par","index":6,"n_rows":21,"n_cols":9,"rows_kept":21,"cut":false,"hidden":false,"merged":[]}
["Par"]
[]
[null,"1.aften","2.aften","3.aften","4.aften","5.aften",null,"Sum","Placering"]
[]
["Henrik Caspersen - Jens Kofoed",21,11,68,-24,38,null,{"$f":"SUM(B5:F5)","v":114},1]
["Morten Stege - Lars Peter Damgaard",23,87,6,-8,-10,null,{"$f":"SUM(B6:F6)","v":98},2]
["Jørgen Cilleborg Hansen - Steen Schou",15,8,4,-9,47,null,{"$f":"SUM(B7:F7)","v":65},3]
["Camilla Bo Krefeld - Johan Hammelev",-16,-13,49,9,22,null,{"$f":"SUM(B8:F8)","v":51},4]
["Tom Nørgaard - Trine Bilde",12,-19,25,19,-9,null,{"$f":"SUM(B9:F9)","v":28},5]
["Jan Pedersen - Nils Mønsted",-17,21,-18,24,1,null,{"$f":"SUM(B10:F10)","v":11},6]
["Niels Krøjgaard - Freddie Brøndum",26,-12,-23,-28,44,null,{"$f":"SUM(B11:F11)","v":7},7]
["Lars Tofte - Emil Jepsen",-22,-13,7,24,2,null,{"$f":"SUM(B12:F12)","v":-2},8]
["Jan Kølbæk - Mads Krøjgaard",-8,-40,4,33,1,null,{"$f":"SUM(B13:F13)","v":-10},9]
["Dorte Cilleborg - Michael Krogh Andersen",-22,-3,3,3,5,null,{"$f":"SUM(B14:F14)","v":-14},10]
["Marlene Henneberg - J.O Henneberg",20,19,-63,10,-14,null,{"$f":"SUM(B15:F15)","v":-28},11]
["Johanne Bilde - Søren Caspersen",-4,1,-8,7,-29,null,{"$f":"SUM(B16:F16)","v":-33},12]
["H K Sørensen - Niels Henriksen",2,6,-56,11,3,null,{"$f":"SUM(B17:F17)","v":-34},13]
["Claus Hastrup - Thomas Mathiasen",16,-43,9,-14,-29,null,{"$f":"SUM(B18:F18)","v":-61},14]
["Benny Marquart - Keld Grann",-22,19,-7,-23,-36,null,{"$f":"SUM(B19:F19)","v":-69},15]
["Dennis Bilde - Morten Bilde",-24,-29,0,-34,-36,null,{"$f":"SUM(B20:F20)","v":-123},16]
[null,{"$f":"SUM(B5:B20)","v":0},{"$f":"SUM(C5:C20)","v":0},{"$f":"SUM(D5:D20)","v":0},{"$f":"SUM(E5:E20)","v":0},{"$f":"SUM(F5:F20)","v":0},null,{"$f":"SUM(H5:H20)","v":0}]

{"sheet":"Grand prix","index":7,"n_rows":20,"n_cols":15,"rows_kept":20,"cut":false,"hidden":false,"merged":[[0,0,0,15]]}
["Grand prix klub 32 (2015-2016)"]
[]
[null,null,null,null,null,"Intro hold","RR 1","IMP1","RR2","Slutspil","Par",null,"Total",null,"Placering"]
[]
["Camilla Bo Krefeld - Johan Hammelev",null,null,null,null,{"$f":"Intro!X15*4","v":4},{"$f":"'RR1'!U23*7","v":7},{"$f":"'Imp1'!I10*5","v":25},{"$f":"'RR2'!U23*7","v":7},{"$f":"Slutspil!O23*4","v":32},{"$f":"Par!I8*5","v":20},null,{"$f":"SUM(F5:L5)","v":95},null,1]
["Jørgen Cilleborg Hansen - Steen Schou",null,null,null,null,{"$f":"Intro!X6*4","v":32},{"$f":"'RR1'!U24*7","v":14},{"$f":"'Imp1'!I6*5","v":5},{"$f":"'RR2'!U24*7","v":35},{"$f":"Slutspil!O24*4","v":36},{"$f":"Par!I7*5","v":15},null,{"$f":"SUM(F6:L6)","v":137},null,"2"]
["Morten Stege - Lars Peter Damgaard",null,null,null,null,{"$f":"Intro!X20*4","v":24},{"$f":"'RR1'!U12*7","v":56},{"$f":"'Imp1'!I14*5","v":45},{"$f":"'RR2'!U12*7","v":49},{"$f":"Slutspil!O12*4","v":12},{"$f":"Par!I6*5","v":10},null,{"$f":"SUM(F7:L7)","v":196},null,3]
["Tom Nørgaard - Trine Bilde",null,null,null,null,{"$f":"Intro!X5*4","v":20},{"$f":"'RR1'!U5*7","v":63},{"$f":"'Imp1'!I11*5","v":30},{"$f":"'RR2'!U5*7","v":21},{"$f":"Slutspil!O5*4","v":48},{"$f":"Par!I9*5","v":25},null,{"$f":"SUM(F8:L8)","v":207},null,"4"]
["Jan Kølbæk - Mads Krøjgaard",null,null,null,null,{"$f":"Intro!X27*4","v":52},{"$f":"'RR1'!U15*7","v":21},{"$f":"'Imp1'!I15*5","v":50},{"$f":"'RR2'!U15*7","v":28},{"$f":"Slutspil!O15*4","v":16},{"$f":"Par!I13*5","v":45},null,{"$f":"SUM(F9:L9)","v":212},null,5]
["Jan Pedersen - Nils Mønsted",null,null,null,null,{"$f":"Intro!X21*4","v":16},{"$f":"'RR1'!U6*7","v":84},{"$f":"'Imp1'!I9*5","v":20},{"$f":"'RR2'!U6*7","v":56},{"$f":"Slutspil!O6*4","v":8},{"$f":"Par!I10*5","v":30},null,{"$f":"SUM(F10:L10)","v":214},null,6]
["Lars Tofte - Emil Jepsen",null,null,null,null,{"$f":"Intro!X18*4","v":12},{"$f":"'RR1'!U9*7","v":77},{"$f":"'Imp1'!I7*5","v":10},{"$f":"'RR2'!U9*7","v":63},{"$f":"Slutspil!O9*4","v":20},{"$f":"Par!I12*5","v":40},null,{"$f":"SUM(F11:L11)","v":222},null,"7"]
["Henrik Caspersen - Jens Kofoed",null,null,null,null,{"$f":"Intro!X14*4","v":28},{"$f":"'RR1'!U21*7","v":70},{"$f":"'Imp1'!I12*5","v":35},{"$f":"'RR2'!U21*7","v":42},{"$f":"Slutspil!O21*4","v":56},{"$f":"Par!I5*5","v":5},null,{"$f":"SUM(F12:L12)","v":236},null,8]
["Marlene Henneberg - J.O Henneberg",null,null,null,null,{"$f":"Intro!X12*4","v":8},{"$f":"'RR1'!U20*7","v":42},{"$f":"'Imp1'!I13*5","v":40},{"$f":"'RR2'!U20*7","v":84},{"$f":"Slutspil!O20*4","v":24},{"$f":"Par!I15*5","v":55},null,{"$f":"SUM(F13:L13)","v":253},null,"9"]
["Niels Krøjgaard - Freddie Brøndum",null,null,null,null,{"$f":"Intro!X24*4","v":48},{"$f":"'RR1'!U14*7","v":28},{"$f":"'Imp1'!I8*5","v":15},{"$f":"'RR2'!U14*7","v":70},{"$f":"Slutspil!O14*4","v":60},{"$f":"Par!I11*5","v":35},null,{"$f":"SUM(F14:L14)","v":256},null,10]
["Dennis Bilde - Morten Bilde",null,null,null,null,{"$f":"Intro!X8*4","v":44},{"$f":"'RR1'!U26*7","v":35},{"$f":"'Imp1'!I17*5","v":60},{"$f":"'RR2'!U26*7","v":14},{"$f":"Slutspil!O26*4","v":44},{"$f":"Par!I20*5","v":80},null,{"$f":"SUM(F15:L15)","v":277},null,11]
["H K Sørensen - Niels Henriksen",null,null,null,null,{"$f":"Intro!X17*4","v":40},{"$f":"'RR1'!U11*7","v":105},{"$f":"'Imp1'!I19*5","v":70},{"$f":"'RR2'!U11*7","v":77},{"$f":"Slutspil!O11*4","v":4},{"$f":"Par!I17*5","v":65},null,{"$f":"SUM(F16:L16)","v":361},null,12]
["Dorte Cilleborg - Michael Krogh Andersen",null,null,null,null,{"$f":"Intro!X23*4","v":56},{"$f":"'RR1'!U27*7","v":49},{"$f":"'Imp1'!I18*5","v":65},{"$f":"'RR2'!U27*7","v":105},{"$f":"Slutspil!O27*4","v":52},{"$f":"Par!I14*5","v":50},null,{"$f":"SUM(F17:L17)","v":377},null,13]
["Benny Marquart - Keld Grann",null,null,null,null,{"$f":"Intro!X11*4","v":36},{"$f":"'RR1'!U18*7","v":91},{"$f":"'Imp1'!I20*5","v":75},{"$f":"'RR2'!U18*7","v":94.5},{"$f":"Slutspil!O18*4","v":40},{"$f":"Par!I19*5","v":75},null,{"$f":"SUM(F18:L18)","v":411.5},null,14]
["Claus Hastrup - Thomas Mathiesen",null,null,null,null,{"$f":"Intro!X26*4","v":64},{"$f":"'RR1'!U17*7","v":112},{"$f":"'Imp1'!I16*5","v":55},{"$f":"'RR2'!U17*7","v":94.5},{"$f":"Slutspil!O17*4","v":28},{"$f":"Par!I18*5","v":70},null,{"$f":"SUM(F19:L19)","v":423.5},null,15]
["Johanne Bilde - Søren Caspersen",null,null,null,null,{"$f":"Intro!X9*4","v":60},{"$f":"'RR1'!U8*7","v":98},{"$f":"'Imp1'!I21*5","v":80},{"$f":"'RR2'!U8*7","v":112},{"$f":"Slutspil!O8*4","v":64},{"$f":"Par!I16*5","v":60},null,{"$f":"SUM(F20:L20)","v":474},null,16]