{"text_format":"1","workbook":"xlsx","n_sheets":9,"sheets":["Intro","RR1","Imp Par","RR2","Hold i alt","Slutspil","Par","Grand prix","Fremmøde"],"not_rendered":{"charts":0,"images":0,"macros":0,"external_links":0,"defined_names":0,"comments":0,"pivot_tables":0},"unopened":[],"bounds":{"document_bytes":16777216,"sheet_cells":100000,"rows_first":2000,"rows_last":500,"rows_between":2000,"halvings":0,"cell_chars":16384,"cell_head_chars":4096},"cells_cut":0,"cells_raw":0,"read":"whole","date_system":"1900"}

{"sheet":"Intro","index":0,"n_rows":27,"n_cols":24,"rows_kept":27,"cut":false,"hidden":false,"merged":[[0,0,0,24]]}
[" Multi, intro hold"]
[]
[null,null,null,null,1,2,3,4,5,6,7,8,9,10,11,12,13,14,15,16,null,"Total",null,"Placering"]
[]
["Benny Marquart - Keld Grann",null,null,null,10.4,7.7,13.02,9.49,12.37,4.96,7.55,14.74,7.35,10.83,7.82,11.05,8.8000000000000007,13.29,9.02,null,null,{"$f":"AVERAGE(E5:T5)","v":9.8926666666666652},null,8]
["Lars Tofte - Emil Jepsen",null,null,null,15.96,12.52,13.37,13.18,15.04,7.16,8.48,12.77,13.88,9.14,15.09,11.57,12.25,15.18,3.66,null,null,{"$f":"AVERAGE(E6:T6)","v":11.949999999999998},null,1]
[]
["Camilla Bo Krefeld - Johan Hammelev",null,null,null,15.44,12.75,6.63,10.51,12.95,12.22,11.75,17.16,14.31,16.309999999999999,8.48,10.96,3.69,14.33,10.98,null,null,{"$f":"AVERAGE(E8:T8)","v":11.898},null,2]
["Henrik Schmidt - Jesper Bechsgaard ",null,null,null,5.4,5.48,6.98,6.82,10.91,15.82,12.68,9.08,7.07,11.82,7.26,8.69,4.96,15.71,16.34,null,null,{"$f":"AVERAGE(E9:T9)","v":9.668000000000001},null,10]
[]
["Jørgen Cilleborg Hansen - Steen Schou",null,null,null,2.4900000000000002,7.42,11.26,12.06,4.96,15.04,8.25,10.92,5.0999999999999996,11.23,3.72,6.09,16.11,10.69,9.74,null,null,{"$f":"AVERAGE(E11:T11)","v":9.0053333333333345},null,13]
["H K Sørensen - Niels Henriksen",null,null,null,14.69,10.77,11.96,9.26,7.63,12.84,7.32,2.84,6.37,15.94,10.29,0.73,17.48,9.5399999999999991,10.23,null,null,{"$f":"AVERAGE(E12:T12)","v":9.859333333333332},null,9]
[]
["Marlene Henneberg - J.O Henneberg",null,null,null,11.12,10.98,6.8,11.86,7.33,6.93,11.52,5.26,5.69,8.18,16.28,19.27,12.52,17.100000000000001,14.91,null,null,{"$f":"AVERAGE(E14:T14)","v":11.05},null,3]
["Niels Krøjgaard - Lars Peter Damgaard",null,null,null,3.4,10.07,19.03,11.71,7.2,12.56,12.45,7.23,12.93,3.69,9.7100000000000009,13.91,15.87,12.68,10.07,null,null,{"$f":"AVERAGE(E15:T15)","v":10.834000000000001},null,5]
[]
["Bas van Engelen - Marlene Holm Christensen",null,null,null,8.8800000000000008,9.93,2.4700000000000002,7.72,10.14,14.92,11.77,4.8499999999999996,6.12,9.17,12.74,9.0399999999999991,2.52,9.31,9.77,null,null,{"$f":"AVERAGE(E17:T17)","v":8.6233333333333331},null,16]
["Jan Pedersen - Mads Krøjgaard",null,null,null,16.600000000000001,9.02,14.35,6.68,9.64,null,16.5,8.8699999999999992,12.65,10.86,11.52,11.31,3.89,10.46,10.26,null,null,{"$f":"AVERAGE(E18:T18)","v":10.900714285714285},null,4]
[]
["Henrik Caspersen - Jens Kofoed",null,null,null,5.31,12.58,13.2,8.2899999999999991,10.36,5.08,10.42,8.81,5.71,13.82,12.18,8.43,16.309999999999999,4.29,6.05,null,null,{"$f":"AVERAGE(E20:T20)","v":9.3893333333333331},null,12]
["Peter Jepsen - Maika Cilleborg Bilde",null,null,null,17.510000000000002,9.23,0.97,8.14,9.86,null,13.28,2.77,7.68,12.34,4.91,8.9499999999999993,15.04,5.67,7.06,null,null,{"$f":"AVERAGE(E21:T21)","v":8.8150000000000013},null,14]
[]
["Morten Stege - Nils Mønsted",null,null,null,4.5599999999999996,14.52,8.74,10.74,12.8,13.07,8.23,11.13,12.32,6.18,13.88,9.4600000000000009,7.75,6.71,9.93,null,null,{"$f":"AVERAGE(E23:T23)","v":10.001333333333337},null,6]
["Tom Nørgaard - Trine Bilde",null,null,null,14.6,7.25,8.0399999999999991,7.94,12.67,9.5399999999999991,3.5,15.15,14.29,7.66,14.39,13.07,11.2,4.82,5.09,null,null,{"$f":"AVERAGE(E24:T24)","v":9.9473333333333311},null,7]
[]
["Rasmus Rask Jepsen - Søren Cilleborg Bilde",null,null,null,4.04,12.3,5.65,12.28,7.05,4.17,9.58,17.23,14.9,4.0599999999999996,6.12,6.93,7.48,7.32,12.94,null,null,{"$f":"AVERAGE(E26:T26)","v":8.8033333333333346},null,15]
["Dennis Bilde - Morten Bilde",null,null,null,9.6,7.48,17.53,13.32,9.09,7.78,6.72,11.19,13.63,8.77,5.61,10.43,4.13,2.9,13.95,null,null,{"$f":"AVERAGE(E27:T27)","v":9.4753333333333316},null,11]

{"sheet":"RR1","index":1,"n_rows":27,"n_cols":21,"rows_kept":27,"cut":false,"hidden":false,"merged":[[0,0,0,21]]}
[" Multi, RR1"]
[]
[null,null,null,null,1,2,3,4,5,6,7,8,9,10,11,12,13,14,null,"Total","Placering"]
[]
["Henrik Caspersen - Jens Kofoed",null,null,null,8.4600000000000009,10.52,7.66,14.65,12.41,5.59,16.27,8.9499999999999993,10.01,5.85,7.95,17.579999999999998,13.97,9.5500000000000007,null,{"$f":"AVERAGE(E5:R5)","v":10.672857142857143},8]
["Marlene Henneberg - J.O Henneberg",null,null,null,5.99,14.36,8.24,4.12,11.53,12.73,11.25,11.17,12.24,10.72,11.45,8.92,12.15,8.43,null,{"$f":"AVERAGE(E6:R6)","v":10.235714285714286},9]
[]
["Tom Nørgaard - Trine Bilde",null,null,null,4.55,18.18,11.73,5.35,6.46,8.19,17.059999999999999,17.22,16.600000000000001,8.3699999999999992,11.6,8.93,10.78,5.66,null,{"$f":"AVERAGE(E8:R8)","v":10.762857142857143},6]
["H K Sørensen - Niels Henriksen",null,null,null,8.83,14.41,12.34,15.88,4.4000000000000004,13.01,14.14,12.47,16.510000000000002,8.76,11.09,11.6,14.88,6.51,null,{"$f":"AVERAGE(E9:R9)","v":11.773571428571428},1]
[]
["Benny Marquart - Keld Grann",null,null,null,5.13,6,13.42,6.16,8.4700000000000006,14.41,5.86,2.8,3.78,8.99,4.29,6.13,9.8000000000000007,11.91,null,{"$f":"AVERAGE(E11:R11)","v":7.6535714285714276},16]
["Henrik Schmidt - Jesper Bechsgaard ",null,null,null,7.93,5.54,6.54,9.1300000000000008,7.59,7.27,2.94,7.53,8.9700000000000006,7.7,3.2,15.27,4.05,13.74,null,{"$f":"AVERAGE(E12:R12)","v":7.6714285714285708},15]
[]
["Niels Krøjgaard - Lars Peter Damgaard",null,null,null,15.16,11.11,7.38,4.75,14.19,7.36,3.73,8.83,3.49,11.63,15.71,4.7300000000000004,5.2,6.98,null,{"$f":"AVERAGE(E14:R14)","v":8.5892857142857135},14]
["Jan Pedersen - Mads Krøjgaard",null,null,null,16.16,10.59,14.8,16.5,9.64,14.42,8.75,11.05,3.4,11.24,16.8,13.87,8.68,8.5399999999999991,null,{"$f":"AVERAGE(E15:R15)","v":11.745714285714286},2]
[]
["Jørgen Cilleborg Hansen - Steen Schou",null,null,null,4.84,9.41,13.94,8.9600000000000009,7.97,9.64,5.26,6.61,7.76,14.15,8.91,11.07,10.199999999999999,6.26,null,{"$f":"AVERAGE(E17:R17)","v":8.9271428571428579},12]
["Bas van Engelen - Marlene Holm Christensen",null,null,null,3.84,8.89,0.23,10.7,6.36,19.010000000000002,8.18,12.21,9.99,9.2799999999999994,8.4,8.4,15.95,8.09,null,{"$f":"AVERAGE(E18:R18)","v":9.2521428571428572},11]
[]
["Lars Tofte - Emil Jepsen",null,null,null,14.87,14.46,5.2,15.25,12.03,0.99,16.45,15.04,4.29,10.23,12.05,11.08,9.2200000000000006,13.49,null,{"$f":"AVERAGE(E20:R20)","v":11.046428571428573},4]
["Dennis Bilde - Morten Bilde",null,null,null,12.07,14,12.62,3.5,13.64,10.36,15.63,16.41,7.34,14.29,8.5500000000000007,2.42,5.12,14.34,null,{"$f":"AVERAGE(E21:R21)","v":10.734999999999999},7]
[]
["Peter Jepsen - Maika Cilleborg Bilde",null,null,null,15.45,5.59,13.46,13.84,5.81,5.58,11.82,13.38,12.66,9.77,4.37,5.92,7.85,10.45,null,{"$f":"AVERAGE(E23:R23)","v":9.7107142857142854},10]
["Rasmus Rask Jepsen - Søren Cilleborg Bilde",null,null,null,11.17,1.82,6.58,10.87,10.36,12.64,14.74,7.79,15.71,5.81,6.25,2.77,6.03,11.57,null,{"$f":"AVERAGE(E24:R24)","v":8.8650000000000002},13]
[]
["Morten Stege - Nils Mønsted",null,null,null,11.54,5.64,19.77,11.04,13.54,6.99,4.37,4.96,11.03,11.01,13.75,14.08,14.8,11.46,null,{"$f":"AVERAGE(E26:R26)","v":10.998571428571429},5]
["Camilla Bo Krefeld - Johan Hammelev",null,null,null,14.01,9.48,6.06,9.3000000000000007,15.6,11.81,3.55,3.59,16.22,12.3,15.63,17.23,11.32,13.02,null,{"$f":"AVERAGE(E27:R27)","v":11.365714285714287},3]

{"sheet":"Imp Par","index":2,"n_rows":22,"n_cols":9,"rows_kept":22,"cut":false,"hidden":false,"merged":[[0,0,0,8]]}
["IMP Par"]
[]
[]
[null,"1.aften","2.aften","3.aften","4.aften","5.aften",null,"Sum","Placering"]
[]
["Henrik Caspersen - Jens Kofoed",274,194,-26,462,93,null,{"$f":"SUM(B6:F6)","v":997},1]
["Lars Tofte - Emil Jepsen",134,50,183,-72,279,null,574,2]
["Jan Pedersen - Mads Krøjgaard",140,274,19,421,-332,null,522,3]
["Dennis Bilde - Morten Bilde",86,-167,176,399,-6,null,488,4]
["Henrik Schmidt - Jesper Bechsgaard ",-164,-23,143,30,163,null,149,5]
["Tom Nørgaard - Trine Bilde",116,174,71,41,-255,null,147,6]
["Marlene Henneberg - J.O Henneberg",13,129,7,-151,96,null,94,7]
["Peter Jepsen - Maika Cilleborg Bilde",-54,5,117,-103,22,null,-13,8]
["Camilla Bo Krefeld - Johan Hammelev",-148,-296,196,-152,382,null,-18,9]
["Benny Marquart - Keld Grann",142,-118,-135,67,-40,null,-84,10]
["Niels Krøjgaard - Lars Peter Damgaard",-137,-2,161,-332,21,null,-289,11]
["Rasmus Rask Jepsen - Søren Cilleborg Bilde",-28,-122,-107,-255,187,null,-325,12]
["Bas van Engelen - Marlene Holm Christensen",134,-271,-240,140,-261,null,-498,13]
["H K Sørensen - Niels Henriksen",205,58,-254,-336,-175,null,-502,14]
["Jørgen Cilleborg Hansen - Steen Schou",-229,-106,-223,90,-102,null,-570,15]
["Morten Stege - Nils Mønsted",-484,221,-88,-249,-72,null,-672,16]
[null,{"$f":"SUM(B6:B21)","v":0},{"$f":"SUM(C6:C21)","v":0},{"$f":"SUM(D6:D21)","v":0},{"$f":"SUM(E6:E21)","v":0},{"$f":"SUM(F6:F21)","v":0},null,{"$f":"SUM(H6:H21)","v":0}]

{"sheet":"RR2","index":3,"n_rows":27,"n_cols":21,"rows_kept":27,"cut":false,"hidden":false,"merged":[[0,0,0,21]]}
[" Multi, RR2"]
[]
[null,null,null,null,1,2,3,4,5,6,7,8,9,10,11,12,13,14,null,"Total","Placering"]
[]
["Henrik Caspersen - Jens Kofoed",null,null,null,2.75,18.91,6.83,14.51,12.03,14.62,12.08,16.260000000000002,9.25,9.31,7.69,6.33,11.59,4.87,null,{"$f":"AVERAGE(E5:R5)","v":10.502142857142859},6]
["Marlene Henneberg - J.O Henneberg",null,null,null,7.7,16.059999999999999,14.4,7.86,9.06,19.03,13.98,12.52,14.23,3.49,12.03,4.26,12.97,11.43,null,{"$f":"AVERAGE(E6:R6)","v":11.358571428571427},2]
[]
["Tom Nørgaard - Trine Bilde",null,null,null,9.09,4.66,5.6,5.49,10.88,14.08,5.74,3.89,4.1399999999999997,3.51,8.6199999999999992,17.34,15.39,13.95,null,{"$f":"AVERAGE(E8:R8)","v":8.7414285714285729},15]
["H K Sørensen - Niels Henriksen",null,null,null,11.27,10.02,13.17,12.14,8.17,12.73,8.99,9,6.8,11.41,14.39,4.3600000000000003,13.59,6.16,null,{"$f":"AVERAGE(E9:R9)","v":10.157142857142857},8]
[]
["Benny Marquart - Keld Grann",null,null,null,8.73,15.34,7.24,8.07,10.58,6.35,11.53,5.66,7.55,15.17,9.8000000000000007,5.12,7.03,15.13,null,{"$f":"AVERAGE(E11:R11)","v":9.5214285714285722},9]
["Henrik Schmidt - Jesper Bechsgaard ",null,null,null,10.91,9.98,5.0599999999999996,7.48,11.67,7.31,8.5399999999999991,2.56,8.2899999999999991,14.88,8.8800000000000008,15.67,8.41,8.57,null,{"$f":"AVERAGE(E12:R12)","v":9.1578571428571429},12]
[]
["Niels Krøjgaard - Lars Peter Damgaard",null,null,null,12.3,1.0900000000000001,16.95,7.82,11.19,7.62,8.4700000000000006,17.440000000000001,15.86,8.59,17.170000000000002,9.56,8.68,12.05,null,{"$f":"AVERAGE(E14:R14)","v":11.056428571428572},4]
["Jan Pedersen - Mads Krøjgaard",null,null,null,17.25,3.94,10.96,8.5299999999999994,12.02,9.7200000000000006,11.46,14.34,13.2,16.489999999999998,7.98,9.2100000000000009,18.510000000000002,3.71,null,{"$f":"AVERAGE(E15:R15)","v":11.237142857142857},3]
[]
["Jørgen Cilleborg Hansen - Steen Schou",null,null,null,8.07,10.38,13.08,13.17,8.33,13.65,14.26,11,13.34,3.68,12.31,15.74,11.32,16.29,null,{"$f":"AVERAGE(E17:R17)","v":11.758571428571429},1]
["Bas van Engelen - Marlene Holm Christensen",null,null,null,7.36,15.02,12.47,7.81,9.42,12.69,11.01,16.11,16.41,6.07,7.97,13.67,1.49,7.95,null,{"$f":"AVERAGE(E18:R18)","v":10.389285714285714},7]
[]
["Lars Tofte - Emil Jepsen",null,null,null,7.46,4.13,14.94,11.93,11.83,5.92,6.02,3.74,3.59,16.32,12.02,10.44,11.69,12.82,null,{"$f":"AVERAGE(E20:R20)","v":9.4892857142857139},10]
["Dennis Bilde - Morten Bilde",null,null,null,13.88,11.29,12.76,12.52,9.1199999999999992,7.27,7.92,7.43,6.66,13.93,2.83,10.79,5.03,5.69,null,{"$f":"AVERAGE(E21:R21)","v":9.08},13]
[]
["Peter Jepsen - Maika Cilleborg Bilde",null,null,null,12.64,9.6199999999999992,9.0399999999999991,12.18,7.97,0.97,9.81,4.8499999999999996,11.71,4.83,11.38,15.64,14.97,7.18,null,{"$f":"AVERAGE(E23:R23)","v":9.4849999999999994},11]
["Rasmus Rask Jepsen - Søren Cilleborg Bilde",null,null,null,11.93,4.9800000000000004,3.05,11.47,10.94,5.38,7.65,10.61,12.45,5.14,5.61,2.66,8.31,14.31,null,{"$f":"AVERAGE(E24:R24)","v":8.1778571428571425},16]
[]
["Morten Stege - Nils Mønsted",null,null,null,6.12,15.87,6.92,12.19,8.81,10.28,12.35,15.15,10.75,16.510000000000002,11.12,14.88,6.41,6.05,null,{"$f":"AVERAGE(E26:R26)","v":10.957857142857145},5]
["Camilla Bo Krefeld - Johan Hammelev",null,null,null,12.54,8.7100000000000009,7.53,6.83,7.98,12.38,10.19,9.39,5.77,10.69,10.199999999999999,4.33,4.6100000000000003,13.84,null,{"$f":"AVERAGE(E27:R27)","v":8.9278571428571443},14]

{"sheet":"Hold i alt","index":4,"n_rows":13,"n_cols":5,"rows_kept":13,"cut":false,"hidden":false,"merged":[[0,0,0,5]]}
["Klub 32 - Hold 2016/2017"]
[]
[]
[]
[null,"RR1","RR2","Total","Placering"]
["Marlene Henneberg",77.37,91.72,{"$f":"SUM(B6:C6)","v":169.09},1]
["Niels Krøjgaard",73.59,91.3,164.89,2]
["Nils Mønsted",91.19,72.98,164.17000000000002,3]
["Hans Kristian Sørensen",91.73,64.709999999999994,156.44,4]
["Jørgen Cilleborg Hansen",52.71,83.91,136.62,5]
["Lars Tofte",77.260000000000005,55.6,132.86000000000001,6]
["Peter Jepsen",63.25,40.85,104.1,7]
["Keld Grann",32.9,58.93,91.83,8]

{"sheet":"Slutspil","index":5,"n_rows":27,"n_cols":15,"rows_kept":27,"cut":false,"hidden":false,"merged":[[0,0,0,14]]}
["SLUTSPIL"]
[]
[null,null,null,null,1,2,3,4,5,6,7,8,null,"Total","Placering"]
[]
["Henrik Caspersen - Jens Kofoed",null,null,null,4.58,9.67,14.37,14.36,15.74,12.18,10.53,18.18,null,{"$f":"AVERAGE(E5:L5)","v":12.451250000000002},1]
["Marlene Henneberg - J.O Henneberg",null,null,null,2.2000000000000002,12.85,12.76,8.93,16.190000000000001,9.76,9.4499999999999993,12.24,null,{"$f":"AVERAGE(E6:L6)","v":10.547499999999999},8]
[]
["Tom Nørgaard - Trine Bilde",null,null,null,17.8,10.33,7.24,5.64,7.28,15.14,4.6500000000000004,6.2,null,{"$f":"AVERAGE(E8:L8)","v":9.2850000000000019},11]
["H K Sørensen - Niels Henriksen",null,null,null,15.42,7.15,5.63,11.07,5.37,9.5399999999999991,2.19,6.62,null,{"$f":"AVERAGE(E9:L9)","v":7.8737499999999985},13]
[]
["Benny Marquart - Keld Grann",null,null,null,4.74,8.06,9.8000000000000007,14.31,9.86,11.47,14.95,14.73,null,{"$f":"AVERAGE(E11:L11)","v":10.99},6]
["Henrik Schmidt - Jesper Bechsgaard ",null,null,null,5.68,7.93,5.38,13.17,13.66,7.77,11.93,10.14,null,{"$f":"AVERAGE(E12:L12)","v":9.4574999999999978},10]
[]
["Niels Krøjgaard - Lars Peter Damgaard",null,null,null,13.16,10.8,8.0299999999999994,8.0399999999999991,12.72,10.46,15.35,13.38,null,{"$f":"AVERAGE(E14:L14)","v":11.4925},5]
["Jan Pedersen - Mads Krøjgaard",null,null,null,15.51,13.15,15.44,3.11,14.63,4.8600000000000003,17.809999999999999,13.8,null,{"$f":"AVERAGE(E15:L15)","v":12.28875},2]
[]
["Jørgen Cilleborg Hansen - Steen Schou",null,null,null,15.26,12.07,14.62,5.69,4.04,13.21,13.98,15.87,null,{"$f":"AVERAGE(E17:L17)","v":11.842499999999999},3]
["Bas van Engelen - Marlene Holm Christensen",null,null,null,14.32,11.94,10.199999999999999,6.83,5.49,6.32,13.45,14.95,null,{"$f":"AVERAGE(E18:L18)","v":10.4375},9]
[]
["Lars Tofte - Emil Jepsen",null,null,null,16.940000000000001,14.61,11.91,8.81,15.96,13.68,6.02,5.05,null,{"$f":"AVERAGE(E20:L20)","v":11.622499999999999},4]
["Dennis Bilde - Morten Bilde",null,null,null,11.27,15.29,16.510000000000002,10.44,14.51,6.79,6.55,4.13,null,{"$f":"AVERAGE(E21:L21)","v":10.686249999999999},7]
[]
["Peter Jepsen - Maika Cilleborg Bilde",null,null,null,3.06,4.71,8.09,9.56,10.14,12.23,8.07,5.27,null,{"$f":"AVERAGE(E23:L23)","v":7.6412500000000012},14]
["Rasmus Rask Jepsen - Søren Cilleborg Bilde",null,null,null,8.73,5.39,3.49,11.19,6.34,8.5299999999999994,5.05,9.86,null,{"$f":"AVERAGE(E24:L24)","v":7.3224999999999998},16]
[]
["Morten Stege - Nils Mønsted",null,null,null,6.84,6.85,4.5599999999999996,11.96,3.81,7.82,9.4700000000000006,7.76,null,{"$f":"AVERAGE(E26:L26)","v":7.38375},15]
["Camilla Bo Krefeld - Johan Hammelev",null,null,null,4.49,9.1999999999999993,11.97,16.89,4.26,10.24,10.55,1.82,null,{"$f":"AVERAGE(E27:L27)","v":8.6774999999999984},12]

{"sheet":"Par","index":6,"n_rows":21,"n_cols":9,"rows_kept":21,"cut":false,"hidden":false,"merged":[[0,0,0,8]]}
["Par"]
[]
[null,"1.aften","2.aften","3.aften","4.aften","5.aften",null,"Sum","Placering"]
[]
["Jørgen Cilleborg Hansen - Steen Schou",42,32,51,24,5,null,{"$f":"SUM(B5:F5)","v":154},1]
["Tom Nørgaard - Trine Bilde",30,-3,7,21,36,null,{"$f":"SUM(B6:F6)","v":91},2]
["Dennis Bilde - Morten Bilde",38,-15,-11,38,21,null,{"$f":"SUM(B7:F7)","v":71},3]
["Jan Pedersen - Mads Krøjgaard",6,15,16,8,-11,null,{"$f":"SUM(B8:F8)","v":34},4]
["Marlene Henneberg - J.O Henneberg",15,-6,-37,14,32,null,{"$f":"SUM(B9:F9)","v":18},5]
["Niels Krøjgaard - Lars Peter Damgaard",9,-2,-17,41,-26,null,{"$f":"SUM(B10:F10)","v":5},6]
["Henrik Caspersen - Jens Kofoed",7,-4,32,6,-42,null,{"$f":"SUM(B11:F11)","v":-1},7]
["Camilla Bo Krefeld - Johan Hammelev",15,-43,2,22,0,null,{"$f":"SUM(B12:F12)","v":-4},8]
["Morten Stege - Nils Mønsted",-20,-9,33,-21,12,null,{"$f":"SUM(B13:F13)","v":-5},9]
["Benny Marquart - Keld Grann",4,27,15,-63,-10,null,{"$f":"SUM(B14:F14)","v":-27},10]
["Henrik Schmidt - Jesper Bechsgaard ",2,21,-21,-19,-21,null,{"$f":"SUM(B15:F15)","v":-38},11]
["Lars Tofte - Emil Jepsen",-13,12,-43,31,-27,null,{"$f":"SUM(B16:F16)","v":-40},12]
["Bas van Engelen - Marlene Holm Christensen",-41,19,-19,-11,5,null,{"$f":"SUM(B17:F17)","v":-47},13]
["Peter Jepsen - Maika Cilleborg Bilde",-25,-15,-2,-23,6,null,{"$f":"SUM(B18:F18)","v":-59},14]
["H K Sørensen - Niels Henriksen",-28,19,5,-73,12,null,{"$f":"SUM(B19:F19)","v":-65},15]
["Rasmus Rask Jepsen - Søren Cilleborg Bilde",-41,-44,-11,5,8,null,{"$f":"SUM(B20:F20)","v":-83},16]
[null,{"$f":"SUM(B5:B20)","v":0},{"$f":"SUM(C5:C20)","v":4},{"$f":"SUM(D5:D20)","v":0},{"$f":"SUM(E5:E20)","v":0},{"$f":"SUM(F5:F20)","v":0},null,{"$f":"SUM(H5:H20)","v":4}]

{"sheet":"Grand prix","index":7,"n_rows":20,"n_cols":15,"rows_kept":20,"cut":false,"hidden":false,"merged":[[0,0,0,15]]}
["Grand prix klub 32 (2016-2017)"]
[]
[null,null,null,null,null,"Intro hold","RR 1","IMP1","RR2","Slutspil","Par",null,"Total",null,"Placering"]
[]
["Jan Pedersen - Mads Krøjgaard",null,null,null,null,{"$f":"Intro!X18*4","v":16},{"$f":"'RR1'!U15*7","v":14},{"$f":"'Imp Par'!I8*5","v":15},{"$f":"'RR2'!U15*7","v":21},{"$f":"Slutspil!O15*4","v":8},{"$f":"Par!I8*5","v":20},null,{"$f":"SUM(F5:L5)","v":94},null,1]
["Marlene Henneberg - J.O Henneberg",null,null,null,null,{"$f":"Intro!X14*4","v":12},{"$f":"'RR1'!U6*7","v":63},{"$f":"'Imp Par'!I12*5","v":35},{"$f":"'RR2'!U6*7","v":14},{"$f":"Slutspil!O6*4","v":32},{"$f":"Par!I9*5","v":25},null,{"$f":"SUM(F6:L6)","v":181},null,"2"]
["Lars Tofte - Emil Jepsen",null,null,null,null,{"$f":"Intro!X6*4","v":4},{"$f":"'RR1'!U20*7","v":28},{"$f":"'Imp Par'!I7*5","v":10},{"$f":"'RR2'!U20*7","v":70},{"$f":"Slutspil!O20*4","v":16},{"$f":"Par!I16*5","v":60},null,{"$f":"SUM(F7:L7)","v":188},null,3]
["Henrik Caspersen - Jens Kofoed",null,null,null,null,{"$f":"Intro!X20*4","v":48},{"$f":"'RR1'!U5*7","v":56},{"$f":"'Imp Par'!I6*5","v":5},{"$f":"'RR2'!U5*7","v":42},{"$f":"Slutspil!O5*4","v":4},{"$f":"Par!I11*5","v":35},null,{"$f":"SUM(F8:L8)","v":190},null,"4"]
["Jørgen Cilleborg Hansen - Steen Schou",null,null,null,null,{"$f":"Intro!X11*4","v":52},{"$f":"'RR1'!U17*7","v":84},{"$f":"'Imp Par'!I20*5","v":75},{"$f":"'RR2'!U17*7","v":7},{"$f":"Slutspil!O17*4","v":12},{"$f":"Par!I5*5","v":5},null,{"$f":"SUM(F9:L9)","v":235},null,5]
["Dennis Bilde - Morten Bilde",null,null,null,null,{"$f":"Intro!X27*4","v":44},{"$f":"'RR1'!U21*7","v":49},{"$f":"'Imp Par'!I9*5","v":20},{"$f":"'RR2'!U21*7","v":91},{"$f":"Slutspil!O21*4","v":28},{"$f":"Par!I7*5","v":15},null,{"$f":"SUM(F10:L10)","v":247},null,6]
["Niels Krøjgaard - Lars Peter Damgaard",null,null,null,null,{"$f":"Intro!X15*4","v":20},{"$f":"'RR1'!U14*7","v":98},{"$f":"'Imp Par'!I16*5","v":55},{"$f":"'RR2'!U14*7","v":28},{"$f":"Slutspil!O14*4","v":20},{"$f":"Par!I10*5","v":30},null,{"$f":"SUM(F11:L11)","v":251},null,"7"]
["Tom Nørgaard - Trine Bilde",null,null,null,null,{"$f":"Intro!X24*4","v":28},{"$f":"'RR1'!U8*7","v":42},{"$f":"'Imp Par'!I11*5","v":30},{"$f":"'RR2'!U8*7","v":105},{"$f":"Slutspil!O8*4","v":44},{"$f":"Par!I6*5","v":10},null,{"$f":"SUM(F12:L12)","v":259},null,8]
["Camilla Bo Krefeld - Johan Hammelev",null,null,null,null,{"$f":"Intro!X8*4","v":8},{"$f":"'RR1'!U27*7","v":21},{"$f":"'Imp Par'!I14*5","v":45},{"$f":"'RR2'!U27*7","v":98},{"$f":"Slutspil!O27*4","v":48},{"$f":"Par!I12*5","v":40},null,{"$f":"SUM(F13:L13)","v":260},null,"9"]
["Morten Stege - Nils Mønsted",null,null,null,null,{"$f":"Intro!X23*4","v":24},{"$f":"'RR1'!U26*7","v":35},{"$f":"'Imp Par'!I21*5","v":80},{"$f":"'RR2'!U26*7","v":35},{"$f":"Slutspil!O26*4","v":60},{"$f":"Par!I13*5","v":45},null,{"$f":"SUM(F14:L14)","v":279},null,10]
["H K Sørensen - Niels Henriksen",null,null,null,null,{"$f":"Intro!X12*4","v":36},{"$f":"'RR1'!U9*7","v":7},{"$f":"'Imp Par'!I19*5","v":70},{"$f":"'RR2'!U9*7","v":56},{"$f":"Slutspil!O9*4","v":52},{"$f":"Par!I19*5","v":75},null,{"$f":"SUM(F15:L15)","v":296},null,11]
["Benny Marquart - Keld Grann",null,null,null,null,{"$f":"Intro!X5*4","v":32},{"$f":"'RR1'!U11*7","v":112},{"$f":"'Imp Par'!I15*5","v":50},{"$f":"'RR2'!U11*7","v":63},{"$f":"Slutspil!O11*4","v":24},{"$f":"Par!I14*5","v":50},null,{"$f":"SUM(F16:L16)","v":331},null,12]
["Henrik Schmidt - Jesper Bechsgaard ",null,null,null,null,{"$f":"Intro!X9*4","v":40},{"$f":"'RR1'!U12*7","v":105},{"$f":"'Imp Par'!I10*5","v":25},{"$f":"'RR2'!U12*7","v":84},{"$f":"Slutspil!O12*4","v":40},{"$f":"Par!I15*5","v":55},null,{"$f":"SUM(F17:L17)","v":349},null,13]
["Bas van Engelen - Marlene Holm Christensen",null,null,null,null,{"$f":"Intro!X17*4","v":64},{"$f":"'RR1'!U18*7","v":77},{"$f":"'Imp Par'!I18*5","v":65},{"$f":"'RR2'!U18*7","v":49},{"$f":"Slutspil!O18*4","v":36},{"$f":"Par!I17*5","v":65},null,{"$f":"SUM(F18:L18)","v":356},null,14]
["Peter Jepsen - Maika Cilleborg Bilde",null,null,null,null,{"$f":"Intro!X21*4","v":56},{"$f":"'RR1'!U23*7","v":70},{"$f":"'Imp Par'!I13*5","v":40},{"$f":"'RR2'!U23*7","v":77},{"$f":"Slutspil!O23*4","v":56},{"$f":"Par!I18*5","v":70},null,{"$f":"SUM(F19:L19)","v":369},null,15]
["Rasmus Rask Jepsen - Søren Cilleborg Bilde",null,null,null,null,{"$f":"Intro!X26*4","v":60},{"$f":"'RR1'!U24*7","v":91},{"$f":"'Imp Par'!I17*5","v":60},{"$f":"'RR2'!U24*7","v":112},{"$f":"Slutspil!O24*4","v":64},{"$f":"Par!I20*5","v":80},null,{"$f":"SUM(F20:L20)","v":467},null,16]

{"sheet":"Fremmøde","index":8,"n_rows":21,"n_cols":11,"rows_kept":21,"cut":false,"hidden":false,"merged":[[4,1,4,6]]}
["Fremmøde som samlet par"]
[]
[null,"Introhold","RR1","Imp","RR2","Slut","par",null,"Fremmøde%",null,"Fremmøde/antal"]
["Aftener:",4,7,5,7,4,5,null,null,null,{"$f":"SUM(B4:G4)","v":32}]
[null,"Fremmøde"]
["Camilla Bo Krefeld - Johan Hammelev",4,6,5,6,4,5,null,{"$f":"SUM(B6:G6)/$K$4%","v":93.75},null,{"$f":"SUM(B6:G6)","v":30}]
["Morten Stege - Nils Mønsted",4,7,5,6,2,5,null,{"$f":"SUM(B7:G7)/$K$4%","v":90.625},null,{"$f":"SUM(B7:G7)","v":29}]
["Marlene Henneberg - J.O Henneberg",2,7,5,6,4,5,null,{"$f":"SUM(B8:G8)/$K$4%","v":90.625},null,{"$f":"SUM(B8:G8)","v":29}]
["Lars Tofte - Emil Jepsen",4,7,4,6,4,3,null,{"$f":"SUM(B9:G9)/$K$4%","v":87.5},null,{"$f":"SUM(B9:G9)","v":28}]
["Niels Krøjgaard - Lars Peter Damgaard",4,7,5,5,2,4,null,{"$f":"SUM(B10:G10)/$K$4%","v":84.375},null,{"$f":"SUM(B10:G10)","v":27}]
["Rasmus Rask Jepsen - Søren Cilleborg Bilde",3,6,5,6,4,3,null,{"$f":"SUM(B11:G11)/$K$4%","v":84.375},null,{"$f":"SUM(B11:G11)","v":27}]
["Bas van Engelen - Marlene Holm Christensen",3,6,5,5,4,4,null,{"$f":"SUM(B12:G12)/$K$4%","v":84.375},null,{"$f":"SUM(B12:G12)","v":27}]
["Jan Pedersen - Mads Krøjgaard",3,6,4,5,3,5,null,{"$f":"SUM(B13:G13)/$K$4%","v":81.25},null,{"$f":"SUM(B13:G13)","v":26}]
["Jørgen Cilleborg Hansen - Steen Schou",1,6,4,6,4,5,null,{"$f":"SUM(B14:G14)/$K$4%","v":81.25},null,{"$f":"SUM(B14:G14)","v":26}]
["Henrik Schmidt - Jesper Bechsgaard ",3,6,4,4,3,5,null,{"$f":"SUM(B15:G15)/$K$4%","v":78.125},null,{"$f":"SUM(B15:G15)","v":25}]
["H K Sørensen - Niels Henriksen",3,6,5,3,3,4,null,{"$f":"SUM(B16:G16)/$K$4%","v":75},null,{"$f":"SUM(B16:G16)","v":24}]
["Henrik Caspersen - Jens Kofoed",0,7,5,6,2,3,null,{"$f":"SUM(B17:G17)/$K$4%","v":71.875},null,{"$f":"SUM(B17:G17)","v":23}]
["Benny Marquart - Keld Grann",2,4,3,6,4,1,null,{"$f":"SUM(B18:G18)/$K$4%","v":62.5},null,{"$f":"SUM(B18:G18)","v":20}]
["Peter Jepsen - Maika Cilleborg Bilde",3,5,3,3,2,3,null,{"$f":"SUM(B19:G19)/$K$4%","v":59.375},null,{"$f":"SUM(B19:G19)","v":19}]
["Tom Nørgaard - Trine Bilde",0,5,3,3,3,0,null,{"$f":"SUM(B20:G20)/$K$4%","v":43.75},null,{"$f":"SUM(B20:G20)","v":14}]
["Dennis Bilde - Morten Bilde",0,1,0,0,0,0,null,{"$f":"SUM(B21:G21)/$K$4%","v":3.125},null,{"$f":"SUM(B21:G21)","v":1}]