{"text_format":"1","workbook":"xlsx","n_sheets":9,"sheets":["Intro","RR1","Imp Par","RR2","Hold i alt","Slutspil","Par","Grand prix","Fremmøde"],"not_rendered":{"charts":0,"images":0,"macros":0,"external_links":0,"defined_names":0,"comments":0,"pivot_tables":0},"unopened":[],"bounds":{"document_bytes":16777216,"sheet_cells":100000,"rows_first":2000,"rows_last":500,"rows_between":2000,"halvings":0,"cell_chars":16384,"cell_head_chars":4096},"cells_cut":0,"cells_raw":0,"read":"whole","date_system":"1900"}

{"sheet":"Intro","index":0,"n_rows":27,"n_cols":24,"rows_kept":27,"cut":false,"hidden":false,"merged":[[0,0,0,24]]}
[" Multi, intro hold"]
[]
[null,null,null,null,1,2,3,4,5,6,7,8,9,10,11,12,13,14,15,16,null,"Total",null,"Placering"]
[]
["Lars Peter Damgaard - Jan Pedersen - Jørgen Pabst",null,null,null,11.66,9.6999999999999993,9.8000000000000007,8.77,11.53,12.14,4.79,6.18,13.97,17.329999999999998,4.6100000000000003,11.64,15.01,13.05,6.68,12.69,null,{"$f":"AVERAGE(E5:T5)","v":10.596875000000001},null,5]
["Benny Marquart - Keld Grann",null,null,null,8.44,10.95,10.96,6.84,14.52,9.07,9.5500000000000007,8.06,8.98,9.41,10.85,10.23,8.9499999999999993,9.44,3.65,9.5500000000000007,null,{"$f":"AVERAGE(E6:T6)","v":9.3406250000000011},null,11]
[]
["Marlene Henneberg - J.O Henneberg",null,null,null,6.98,13.54,9.0399999999999991,11.23,12.36,9.76,8.92,15.22,6.55,13.15,7.27,11.86,5.82,13.62,16.350000000000001,7.31,null,{"$f":"AVERAGE(E8:T8)","v":10.561249999999999},null,6]
["H K Sørensen - Niels Henriksen",null,null,null,6.56,13.1,10.199999999999999,13.16,17.440000000000001,4.87,10.85,17.36,3.82,9.32,8.49,8.2200000000000006,11.33,6.3,13.32,10.45,null,{"$f":"AVERAGE(E9:T9)","v":10.299374999999998},null,8]
[]
["Jørgen Cilleborg Hansen - Steen Schou",null,null,null,4.41,14.66,16.28,5.3,8.4700000000000006,10.93,11.08,2.64,11.81,15.31,12.25,7.16,3.93,7.47,1.7,12.94,null,{"$f":"AVERAGE(E11:T11)","v":9.1462500000000002},null,12]
["Peter Jepsen - Søren Cilleborg Bilde",null,null,null,0.35,14.77,11.12,1.61,5.48,7.86,9.15,4.78,16.649999999999999,7.69,13.27,5.59,9.5399999999999991,10.199999999999999,13.91,10.17,null,{"$f":"AVERAGE(E12:T12)","v":8.8837499999999991},null,13]
[]
["Emil Jepsen - Morten Bilde",null,null,null,7.97,9.61,9.24,14.54,16.88,6.91,10.45,13.82,13.45,10.68,6.73,12.84,12.77,8.8800000000000008,11.97,5.28,null,{"$f":"AVERAGE(E14:T14)","v":10.751249999999999},null,3]
["Morten Stege - Nils Mønsted",null,null,null,15.68,8.68,3.03,9.67,14.52,3.41,15.21,11.94,16.18,6.85,7.75,14.41,18.73,15.31,9.9499999999999993,10.9,null,{"$f":"AVERAGE(E15:T15)","v":11.388749999999998},null,2]
[]
["Tom Nørgaard - Trine Bilde - Peter Barsøe",null,null,null,12.03,11.32,8.1999999999999993,6.07,10.130000000000001,7.33,4.97,3.87,11.02,2.67,12.73,11.78,16.07,9.8000000000000007,18.3,9.83,null,{"$f":"AVERAGE(E17:T17)","v":9.7575000000000003},null,10]
["Danny Hansen - Thomas Hahn",null,null,null,4.32,10.39,8.33,6.82,5.68,11.81,14.95,5.18,6.03,10.59,11.51,8.14,10.46,12.53,6.09,7.06,null,{"$f":"AVERAGE(E18:T18)","v":8.7431250000000009},null,15]
[]
["Øjvind Hulgaard - Jesper Gad",null,null,null,15.59,5.23,16.97,5.46,9.8699999999999992,8.19,8.85,16.16,16.22,11.26,9.15,8.36,8.67,6.38,10.050000000000001,14.72,null,{"$f":"AVERAGE(E20:T20)","v":10.695625},null,4]
["Niels Krøjgaard - Mads Krøjgaard",null,null,null,19.649999999999999,5.34,10.76,10.33,14.32,12.67,5.57,10.84,13.35,15.4,15.39,9.77,14.18,13.7,8.0299999999999994,9.1,null,{"$f":"AVERAGE(E21:T21)","v":11.775},null,1]
[]
["Johanne Bilde Kofoed - Jens Kofoed",null,null,null,13.02,6.9,3.72,18.39,5.48,13.09,5.05,16.13,3.78,4.5999999999999996,5.29,4.54,11.05,6.95,9.42,13.24,null,{"$f":"AVERAGE(E23:T23)","v":8.7906250000000004},null,14]
["Henrik Caspersen - Søren Caspersen",null,null,null,13.44,6.46,8.8800000000000008,14.7,3.12,16.59,15.03,14.82,6.65,8.74,13.77,11.16,4.99,10.56,2.2599999999999998,12.97,null,{"$f":"AVERAGE(E24:T24)","v":10.258749999999999},null,9]
[]
["Camilla Bo Krefeld - Johan Hammelev",null,null,null,8.34,9.0500000000000007,11.67,13.93,7.64,15.13,14.43,3.84,8.19,12.31,14.71,8.84,1.27,11.12,17.739999999999998,6.76,null,{"$f":"AVERAGE(E26:T26)","v":10.310625000000002},null,7]
["Jesper Bechsgaard - Lars Ugilt",null,null,null,11.56,10.3,11.8,13.18,2.56,10.24,11.15,9.16,3.35,4.6900000000000004,6.23,15.46,7.23,4.6900000000000004,10.58,7.03,null,{"$f":"AVERAGE(E27:T27)","v":8.7006250000000005},null,16]

{"sheet":"RR1","index":1,"n_rows":27,"n_cols":21,"rows_kept":27,"cut":false,"hidden":false,"merged":[[0,0,0,21]]}
["Multi, RR1"]
[]
[null,null,null,null,1,2,3,4,5,6,7,8,9,10,11,12,13,14,null,"Total","Placering"]
[]
["Jesper Bechsgaard - Lars Ugilt",null,null,null,12.73,14.82,8.07,5.37,5.14,7.14,4.92,14.88,10.34,11.01,4.82,7,6.31,17.010000000000002,null,{"$f":"AVERAGE(E5:R5)","v":9.2542857142857144},12]
["Danny Hansen - Thomas Hahn",null,null,null,2.36,6.39,2.88,3.91,10.26,5.74,10.81,5.63,11.47,9.41,5.05,4.4800000000000004,7.11,6.35,null,{"$f":"AVERAGE(E6:R6)","v":6.5607142857142851},16]
[]
["Emil Jepsen - Morten Bilde",null,null,null,11.6,8.52,11.93,16.09,11.53,8.02,15.92,10.17,14.76,10.36,6.87,9.36,19.420000000000002,7.56,null,{"$f":"AVERAGE(E8:R8)","v":11.579285714285716},3]
["Marlene Henneberg - J.O Henneberg",null,null,null,11.9,7.3,17.12,14.63,15.13,12.77,12.23,6.83,15.16,16.03,13.04,10.8,10.94,6.24,null,{"$f":"AVERAGE(E9:R9)","v":12.151428571428571},2]
[]
["Lars Peter Damgaard - Jan Pedersen - Jørgen Pabst",null,null,null,4.84,11.08,11.64,17.760000000000002,14.86,14.26,7.77,9.83,2.48,5.64,6.08,12.47,8.2100000000000009,3.83,null,{"$f":"AVERAGE(E11:R11)","v":9.3392857142857171},11]
["Niels Krøjgaard - Mads Krøjgaard",null,null,null,15.69,15.87,14.74,13.06,9.7200000000000006,12.86,4.08,13.17,7.97,6.37,9.23,15.33,13.29,8.5,null,{"$f":"AVERAGE(E12:R12)","v":11.42},4]
[]
["Jørgen Cilleborg Hansen - Steen Schou",null,null,null,8.2899999999999991,10.47,15.25,5.53,10.69,14.41,15.08,14.37,4.84,9.64,13.92,4.67,12.66,9.6199999999999992,null,{"$f":"AVERAGE(E14:R14)","v":10.674285714285716},7]
["Peter Jepsen - Søren Cilleborg Bilde",null,null,null,7.51,15.33,10.95,6.72,8.36,8.9700000000000006,9.19,5.12,5.24,3.97,10.77,7.53,10.06,16.920000000000002,null,{"$f":"AVERAGE(E15:R15)","v":9.0457142857142863},13]
[]
["Camilla Bo Krefeld - Johan Hammelev",null,null,null,11.71,4.67,16.34,7.81,13.23,4.1399999999999997,14.9,11.68,9.66,10.59,13.13,9.1999999999999993,6.71,16.170000000000002,null,{"$f":"AVERAGE(E17:R17)","v":10.709999999999999},6]
["Morten Stege - Nils Mønsted",null,null,null,12.49,9.5299999999999994,12.36,12.77,14.02,12.92,13.31,11.43,8.5299999999999994,8.99,6.96,10.64,11.79,11.5,null,{"$f":"AVERAGE(E18:R18)","v":11.23142857142857},5]
[]
["Henrik Caspersen - Søren Caspersen",null,null,null,15.16,4.13,4.75,13.28,5.98,15.86,14.38,15.88,14.01,17.77,15.18,15.52,9.06,12.44,null,{"$f":"AVERAGE(E20:R20)","v":12.385714285714286},1]
["Johanne Bilde Kofoed - Jens Kofoed",null,null,null,4.3099999999999996,8.92,9.0500000000000007,14.47,6.77,7.08,3.21,9.7200000000000006,7.79,9.7799999999999994,14.95,13,0.57999999999999996,13.76,null,{"$f":"AVERAGE(E21:R21)","v":8.8135714285714286},14]
[]
["Øjvind Hulgaard - Jesper Gad",null,null,null,8.4,12.7,5.26,2.2400000000000002,9.31,11.03,5.0999999999999996,8.57,5.99,10.220000000000001,7.92,6.37,12.89,2.99,null,{"$f":"AVERAGE(E23:R23)","v":7.785000000000001},15]
["Benny Marquart - Keld Grann",null,null,null,8.1,11.48,8.36,6.94,11.64,5.59,6.69,9.32,12.21,2.23,17.48,4.5999999999999996,13.69,13.65,null,{"$f":"AVERAGE(E24:R24)","v":9.4271428571428579},10]
[]
["Tom Nørgaard - Trine Bilde - Peter Barsøe",null,null,null,7.27,13.61,3.66,7.23,8.4700000000000006,7.23,16.79,4.12,17.52,13.63,12.08,15.4,7.34,3.08,null,{"$f":"AVERAGE(E26:R26)","v":9.8164285714285722},9]
["H K Sørensen - Niels Henriksen",null,null,null,17.64,5.18,7.64,12.19,4.87,11.98,5.62,10.28,12.03,14.36,2.52,13.63,9.94,10.38,null,{"$f":"AVERAGE(E27:R27)","v":9.8757142857142846},8]

{"sheet":"Imp Par","index":2,"n_rows":28,"n_cols":9,"rows_kept":28,"cut":false,"hidden":false,"merged":[[0,0,0,8],[27,0,28,8]]}
["IMP Par"]
[]
[]
[null,"1.aften","2.aften","3.aften","4.aften","5.aften",null,"Sum","Placering"]
[]
["Henrik Caspersen - Søren Caspersen",138.9,139,177,511,15,null,{"$f":"SUM(B6:F6)","v":980.9},1]
["Marlene Henneberg - J.O Henneberg",207.2,102,-222,153,393,null,633.20000000000005,2]
["Emil Jepsen - Morten Bilde",-159.30000000000001,2,353,118,163,null,476.7,3]
["Niels Krøjgaard - Mads Krøjgaard",-133,23,101,56,314,null,361,4]
["Morten Stege - Nils Mønsted",-108.4,78,150,71,126,null,316.60000000000002,5]
["Jørgen Cilleborg Hansen - Steen Schou",155.69999999999999,34,106,-185,129,null,239.7,6]
["Camilla Bo Krefeld - Johan Hammelev",174,371,-212,78,-232,null,179,7]
["Tom Nørgaard - Trine Bilde - Peter Barsøe",-20.7,-114,-56,164,140,null,113.30000000000001,8]
["Lars Peter Damgaard - Jan Pedersen - Jørgen Pabst",-94.6,-231,232,69,21,null,-3.6000000000000227,9]
["Øjvind Hulgaard - Jesper Gad",-147.69999999999999,-55,-20,67,96,null,-59.699999999999989,10]
["Peter Jepsen - Søren Cilleborg Bilde",105.6,-279,-266,170,202,null,-67.399999999999977,11]
["Benny Marquart - Keld Grann",-26,195,82,-293,-40,null,-82,12]
["H K Sørensen - Niels Henriksen",70.3,242,-318,-267,-302,null,-574.70000000000005,13]
["Johanne Bilde Kofoed - Jens Kofoed",-262.89999999999998,-52,378,-309,-498,null,-743.9,14]
["Danny Hansen - Thomas Hahn",287.39999999999998,-163,-262,-362,-290,null,-789.6,15]
["Jesper Bechsgaard - Lars Ugilt",-166.4,-292,-223,-41,-237,null,-959.4,16]
[null,{"$f":"SUM(B6:B21)","v":20.100000000000051},{"$f":"SUM(C6:C21)","v":0},{"$f":"SUM(D6:D21)","v":0},{"$f":"SUM(E6:E21)","v":0},{"$f":"SUM(F6:F21)","v":0},null,{"$f":"SUM(H6:H21)","v":20.099999999999909}]
[]
[]
[]
[]
[]
["1.aften stemmer af en eller anden grund ikke ?"]

{"sheet":"RR2","index":3,"n_rows":27,"n_cols":21,"rows_kept":27,"cut":false,"hidden":false,"merged":[[0,0,0,21]]}
[" Multi, RR2"]
[]
[null,null,null,null,1,2,3,4,5,6,7,8,9,10,11,12,13,14,null,"Total","Placering"]
[]
["Jesper Bechsgaard - Lars Ugilt",null,null,null,7.12,10.98,3.83,8.1300000000000008,12.91,9.32,4.34,9.42,9.02,6.32,9.24,7.85,13.79,11.68,null,{"$f":"AVERAGE(E5:R5)","v":8.8535714285714278},13]
["Danny Hansen - Thomas Hahn",null,null,null,8.86,6.34,10.02,3.31,3.8,7.03,5.75,13.52,6.52,9.66,3.07,3.71,4.4400000000000004,9.16,null,{"$f":"AVERAGE(E6:R6)","v":6.7992857142857117},16]
[]
["Emil Jepsen - Morten Bilde",null,null,null,15.26,14.53,16.170000000000002,16.690000000000001,7.24,6.73,10.78,3.84,9.9,5.66,9.31,11.81,6.4,4.6900000000000004,null,{"$f":"AVERAGE(E8:R8)","v":9.9292857142857152},9]
["Marlene Henneberg - J.O Henneberg",null,null,null,15.81,9.6199999999999992,9.98,11.87,15.61,10.55,10.15,9.59,10.54,15.76,9.27,7.25,7.99,5.08,null,{"$f":"AVERAGE(E9:R9)","v":10.647857142857145},6]
[]
["Lars Peter Damgaard - Jan Pedersen - Jørgen Pabst",null,null,null,12.88,13.66,11.58,7.54,9.32,6.31,5.78,9.81,10.1,4.24,14.83,10.98,11.84,9.27,null,{"$f":"AVERAGE(E11:R11)","v":9.8671428571428557},10]
["Niels Krøjgaard - Mads Krøjgaard",null,null,null,11.14,9.02,10.53,5.55,12.21,6.24,10.8,16,9.4600000000000009,14.34,12.33,9.18,10.51,5.84,null,{"$f":"AVERAGE(E12:R12)","v":10.224999999999998},8]
[]
["Jørgen Cilleborg Hansen - Steen Schou",null,null,null,11.52,7.5,14.4,5.68,9.24,4.42,9.85,16.16,12.85,11.62,10.76,16.29,9.49,10.73,null,{"$f":"AVERAGE(E14:R14)","v":10.750714285714286},5]
["Peter Jepsen - Søren Cilleborg Bilde",null,null,null,5.14,7.27,11.42,6.05,7.09,10.59,9.2200000000000006,10.41,11.68,6.42,16.93,12.15,8.16,14.16,null,{"$f":"AVERAGE(E15:R15)","v":9.7635714285714279},11]
[]
["Camilla Bo Krefeld - Johan Hammelev",null,null,null,12.56,18.93,5.6,13.95,7.79,13.69,6.95,7.96,10.98,10.36,19.21,14.9,13.6,14.92,null,{"$f":"AVERAGE(E17:R17)","v":12.242857142857144},2]
["Morten Stege - Nils Mønsted",null,null,null,3.88,9.6,8.58,14.32,10.68,13.76,2.71,15.8,13.49,13.68,10.5,13.53,12.01,15.31,null,{"$f":"AVERAGE(E18:R18)","v":11.275},4]
[]
["Henrik Caspersen - Søren Caspersen",null,null,null,16.12,1.07,16.62,15.67,12.76,9.4499999999999993,14.25,10.58,7.15,13.58,7.67,9.02,16.11,8.68,null,{"$f":"AVERAGE(E20:R20)","v":11.337857142857144},3]
["Johanne Bilde Kofoed - Jens Kofoed",null,null,null,7.44,10.4,12.36,18.13,4.3899999999999997,13.27,15.66,6.48,8.32,8.3800000000000008,5.17,10.82,6.52,7.38,null,{"$f":"AVERAGE(E21:R21)","v":9.6228571428571428},12]
[]
["Øjvind Hulgaard - Jesper Gad",null,null,null,4.74,10.38,3.38,1.87,12.91,15.58,9.1999999999999993,10.19,3.75,3.4,9.5,5.0999999999999996,15.56,8.32,null,{"$f":"AVERAGE(E23:R23)","v":8.1342857142857135},14]
["Benny Marquart - Keld Grann",null,null,null,4.1900000000000004,5.47,7.64,4.33,10.76,9.41,14.22,4,8.06,11.64,0.79,6.47,6.21,10.84,null,{"$f":"AVERAGE(E24:R24)","v":7.430714285714286},15]
[]
["Tom Nørgaard - Trine Bilde - Peter Barsøe",null,null,null,14.86,12.5,8.42,14.45,16.2,10.68,17.29,12.04,11.94,16.600000000000001,10.73,8.19,13.48,11.32,null,{"$f":"AVERAGE(E26:R26)","v":12.764285714285711},1]
["H K Sørensen - Niels Henriksen",null,null,null,8.48,12.73,9.4700000000000006,12.46,7.09,12.97,13.05,4.2,16.25,8.36,10.69,12.75,3.89,12.62,null,{"$f":"AVERAGE(E27:R27)","v":10.357857142857142},7]

{"sheet":"Hold i alt","index":4,"n_rows":13,"n_cols":5,"rows_kept":13,"cut":false,"hidden":false,"merged":[[0,0,0,5]]}
["Klub 32 - Hold 2018/2019"]
[]
[]
[]
[null,"RR1","RR2","Total","Placering"]
["Nils Mønsted",85.86,99.34,{"$f":"SUM(B6:C6)","v":185.2},1]
["Marlene Henneberg",104.55,77.849999999999994,182.39999999999998,2]
["Niels Henriksen",61.58,98.74,160.32,3]
["Jens Kofoed",82.21,68.680000000000007,150.88999999999999,4]
["Steen Schou",71.22,75.41,146.63,5]
["Lars Peter Damgaard",74.569999999999993,69.150000000000006,143.72,6]
["Keld Grann",43.73,37.32,81.05,7]
["Jesper Bechsgaard",36.28,33.51,69.789999999999992,8]

{"sheet":"Slutspil","index":5,"n_rows":27,"n_cols":15,"rows_kept":27,"cut":false,"hidden":false,"merged":[[0,0,0,14]]}
["SLUTSPIL"]
[]
[null,null,null,null,1,2,3,4,5,6,7,8,null,"Total","Placering"]
[]
["Jesper Bechsgaard - Lars Ugilt",null,null,null,4.07,3.36,7.22,9.4600000000000009,15.92,7.97,5.44,18.489999999999998,null,{"$f":"AVERAGE(E5:L5)","v":8.9912499999999991},12]
["Danny Hansen - Thomas Hahn",null,null,null,6.62,2.79,7.95,9.7799999999999994,12.48,11.61,10.43,16.53,null,{"$f":"AVERAGE(E6:L6)","v":9.7737499999999997},11]
[]
["Emil Jepsen - Morten Bilde",null,null,null,10.88,7.41,6.53,9.32,8.65,14.46,13.06,8.32,null,{"$f":"AVERAGE(E8:L8)","v":9.8287499999999994},10]
["Marlene Henneberg - J.O Henneberg",null,null,null,4.47,6.06,4.84,6.99,7.41,16.32,10.199999999999999,11.86,null,{"$f":"AVERAGE(E9:L9)","v":8.5187500000000007},13]
[]
["Lars Peter Damgaard - Jan Pedersen - Jørgen Pabst",null,null,null,13.46,10.49,5.97,7.26,2.66,13.54,7.05,7.7,null,{"$f":"AVERAGE(E11:L11)","v":8.5162499999999994},14]
["Niels Krøjgaard - Mads Krøjgaard",null,null,null,10.43,15.23,9.5,7.14,9.7899999999999991,15.02,14.61,7.28,null,{"$f":"AVERAGE(E12:L12)","v":11.125},3]
[]
["Jørgen Cilleborg Hansen - Steen Schou",null,null,null,15.93,17.21,12.78,10.220000000000001,17.34,4.9800000000000004,12.95,12.72,null,{"$f":"AVERAGE(E14:L14)","v":13.016250000000001},1]
["Peter Jepsen - Søren Cilleborg Bilde",null,null,null,13.38,16.64,12.05,10.54,10.210000000000001,6.46,5.39,12.3,null,{"$f":"AVERAGE(E15:L15)","v":10.87125},5]
[]
["Camilla Bo Krefeld - Johan Hammelev",null,null,null,12.4,9.26,6.7,9.2799999999999994,6.53,9.6199999999999992,12.92,16.16,null,{"$f":"AVERAGE(E17:L17)","v":10.358749999999999},7]
["Morten Stege - Nils Mønsted",null,null,null,13.24,14.77,7.82,8.14,11.45,12.87,7.49,14.16,null,{"$f":"AVERAGE(E18:L18)","v":11.2425},2]
[]
["Henrik Caspersen - Søren Caspersen",null,null,null,9.1199999999999992,13.94,15.16,11.68,8.5500000000000007,10.38,12.51,3.84,null,{"$f":"AVERAGE(E20:L20)","v":10.647500000000001},6]
["Johanne Bilde Kofoed - Jens Kofoed",null,null,null,15.53,12.59,13.47,13.01,13.47,7.13,7.08,5.84,null,{"$f":"AVERAGE(E21:L21)","v":11.014999999999999},4]
[]
["Øjvind Hulgaard - Jesper Gad",null,null,null,6.54,4.7699999999999996,14.03,12.86,4.08,8.39,9.57,1.51,null,{"$f":"AVERAGE(E23:L23)","v":7.7187499999999991},16]
["Benny Marquart - Keld Grann",null,null,null,9.57,9.51,10.5,12.74,7.52,12.03,14.56,3.47,null,{"$f":"AVERAGE(E24:L24)","v":9.9875000000000007},9]
[]
["Tom Nørgaard - Trine Bilde - Peter Barsøe",null,null,null,6.76,10.74,12.18,10.72,12.59,5.54,9.8000000000000007,11.68,null,{"$f":"AVERAGE(E26:L26)","v":10.001249999999999},8]
["H K Sørensen - Niels Henriksen",null,null,null,7.6,5.23,13.3,11.86,11.35,3.68,6.94,8.14,null,{"$f":"AVERAGE(E27:L27)","v":8.5124999999999993},15]

{"sheet":"Par","index":6,"n_rows":21,"n_cols":9,"rows_kept":21,"cut":false,"hidden":false,"merged":[[0,0,0,8]]}
["Par"]
[]
[null,"1.aften","2.aften","3.aften","4.aften","5.aften",null,"Sum","Placering"]
[]
["Morten Stege - Nils Mønsted",62,20,25,-1,20,null,{"$f":"SUM(B5:G5)","v":126},1]
["Peter Jepsen - Søren Cilleborg Bilde",19,9.6,25,29,25,null,{"$f":"SUM(B6:F6)","v":107.6},2]
["Marlene Henneberg - J.O Henneberg",23,47.7,-36,15,30,null,{"$f":"SUM(B7:F7)","v":79.7},3]
["Jørgen Cilleborg Hansen - Steen Schou",8,30.9,-38,24,44,null,{"$f":"SUM(B8:G8)","v":68.900000000000006},4]
["Niels Krøjgaard - Mads Krøjgaard",11,0,27,35,-14,null,{"$f":"SUM(B9:G9)","v":59},5]
["Henrik Caspersen - Søren Caspersen",-22,13.9,-12,49,1,null,{"$f":"SUM(B10:F10)","v":29.9},6]
["Benny Marquart - Keld Grann",48,-1.1000000000000001,7,-26,-10,null,{"$f":"SUM(B11:G11)","v":17.899999999999999},7]
["Camilla Bo Krefeld - Johan Hammelev",49,19,-6,-41,-8,null,{"$f":"SUM(B12:G12)","v":13},8]
["Jesper Bechsgaard - Lars Ugilt",5,5.3,0,-35,1,null,{"$f":"SUM(B13:F13)","v":-23.7},9]
["Johanne Bilde Kofoed - Jens Kofoed",-2,0.4,-24,-31,21,null,{"$f":"SUM(B14:F14)","v":-35.6},10]
["Tom Nørgaard - Trine Bilde - Peter Barsøe",-42,-18,3,38,-19,null,{"$f":"SUM(B15:G15)","v":-38},11]
["Øjvind Hulgaard - Jesper Gad",-45,16.7,5,-17,-1,null,{"$f":"SUM(B16:F16)","v":-41.3},12]
["H K Sørensen - Niels Henriksen",-38,-55.4,6,9,-8,null,{"$f":"SUM(B17:F17)","v":-86.4},13]
["Emil Jepsen - Morten Bilde",-54,-19.399999999999999,-6,-11,1,null,{"$f":"SUM(B18:G18)","v":-89.4},14]
["Danny Hansen - Thomas Hahn",-14,-20.399999999999999,10,-7,-62,null,{"$f":"SUM(B19:G19)","v":-93.4},15]
["Lars Peter Damgaard - Jan Pedersen - Jørgen Pabst",-8,{"$f":"-49","v":-49},14,-30,-21,null,{"$f":"SUM(B20:F20)","v":-94},16]
[null,{"$f":"SUM(B5:B20)","v":0},{"$f":"SUM(C5:C20)","v":0.20000000000002416},{"$f":"SUM(D5:D20)","v":0},{"$f":"SUM(E5:E20)","v":0},{"$f":"SUM(F5:F20)","v":0},null,{"$f":"SUM(H5:H20)","v":0.19999999999998863}]

{"sheet":"Grand prix","index":7,"n_rows":20,"n_cols":18,"rows_kept":20,"cut":false,"hidden":false,"merged":[[0,0,0,15]]}
["Grand prix klub 32 (2018-2019)"]
[]
[null,null,null,null,null,"Intro hold","RR 1","IMP1","RR2","Slutspil","Par",null,"Total",null,"Placering"]
[]
["Morten Stege - Nils Mønsted",null,null,null,null,{"$f":"Intro!X15*4","v":8},{"$f":"'RR1'!U18*7","v":35},{"$f":"'Imp Par'!I10*5","v":25},{"$f":"'RR2'!U18*7","v":28},{"$f":"4*Slutspil!O18","v":8},{"$f":"Par!I5*5","v":5},null,{"$f":"SUM(F5:L5)","v":109},null,1]
["Henrik Caspersen - Søren Caspersen",null,null,null,null,{"$f":"Intro!X24*4","v":36},{"$f":"'RR1'!U20*7","v":7},{"$f":"'Imp Par'!I6*5","v":5},{"$f":"'RR2'!U20*7","v":21},{"$f":"4*Slutspil!O20","v":24},{"$f":"Par!I10*5","v":30},null,123,null,"2"]
["Niels Krøjgaard - Mads Krøjgaard",null,null,null,null,{"$f":"Intro!X21*4","v":4},{"$f":"'RR1'!U12*7","v":28},{"$f":"'Imp Par'!I9*5","v":20},{"$f":"'RR2'!U12*7","v":56},{"$f":"4*Slutspil!O12","v":12},{"$f":"Par!I9*5","v":25},null,145,null,3]
["Marlene Henneberg - J.O Henneberg",null,null,null,null,{"$f":"Intro!X8*4","v":24},{"$f":"'RR1'!U9*7","v":14},{"$f":"'Imp Par'!I7*5","v":10},{"$f":"'RR2'!U9*7","v":42},{"$f":"4*Slutspil!O9","v":52},{"$f":"Par!I7*5","v":15},null,157,null,"4"]
["Jørgen Cilleborg Hansen - Steen Schou",null,null,null,null,{"$f":"Intro!X11*4","v":48},{"$f":"'RR1'!U14*7","v":49},{"$f":"'Imp Par'!I11*5","v":30},{"$f":"'RR2'!U14*7","v":35},{"$f":"4*Slutspil!O14","v":4},{"$f":"Par!I8*5","v":20},null,186,null,5]
["Camilla Bo Krefeld - Johan Hammelev",null,null,null,null,{"$f":"Intro!X26*4","v":28},{"$f":"'RR1'!U17*7","v":42},{"$f":"'Imp Par'!I12*5","v":35},{"$f":"'RR2'!U17*7","v":14},{"$f":"4*Slutspil!O17","v":28},{"$f":"Par!I12*5","v":40},null,187,null,6]
["Emil Jepsen - Morten Bilde",null,null,null,null,{"$f":"Intro!X14*4","v":12},{"$f":"'RR1'!U8*7","v":21},{"$f":"'Imp Par'!I8*5","v":15},{"$f":"'RR2'!U8*7","v":63},{"$f":"4*Slutspil!O8","v":40},{"$f":"Par!I18*5","v":70},null,221,null,"7"]
["Tom Nørgaard - Trine Bilde - Peter Barsøe",null,null,null,null,{"$f":"Intro!X17*4","v":40},{"$f":"'RR1'!U26*7","v":63},{"$f":"'Imp Par'!I13*5","v":40},{"$f":"'RR2'!U26*7","v":7},{"$f":"4*Slutspil!O26","v":32},{"$f":"Par!I15*5","v":55},null,237,null,8]
["Peter Jepsen - Søren Cilleborg Bilde",null,null,null,null,{"$f":"Intro!X12*4","v":52},{"$f":"'RR1'!U15*7","v":91},{"$f":"'Imp Par'!I16*5","v":55},{"$f":"'RR2'!U15*7","v":77},{"$f":"4*Slutspil!O15","v":20},{"$f":"Par!I6*5","v":10},null,305,null,"9"]
["H K Sørensen - Niels Henriksen",null,null,null,null,{"$f":"Intro!X9*4","v":32},{"$f":"'RR1'!U27*7","v":56},{"$f":"'Imp Par'!I18*5","v":65},{"$f":"'RR2'!U27*7","v":49},{"$f":"4*Slutspil!O27","v":60},{"$f":"Par!I17*5","v":65},null,327,null,10,null,null,"  "]
["Lars Peter Damgaard - Jan Pedersen - Jørgen Pabst",null,null,null,null,{"$f":"Intro!X5*4","v":20},{"$f":"'RR1'!U11*7","v":77},{"$f":"'Imp Par'!I14*5","v":45},{"$f":"'RR2'!U11*7","v":70},{"$f":"4*Slutspil!O11","v":56},{"$f":"Par!I20*5","v":80},null,348,null,11]
["Benny Marquart - Keld Grann",null,null,null,null,{"$f":"Intro!X6*4","v":44},{"$f":"'RR1'!U24*7","v":70},{"$f":"'Imp Par'!I17*5","v":60},{"$f":"'RR2'!U24*7","v":105},{"$f":"4*Slutspil!O24","v":36},{"$f":"Par!I11*5","v":35},null,350,null,12]
["Johanne Bilde Kofoed - Jens Kofoed",null,null,null,null,{"$f":"Intro!X23*4","v":56},{"$f":"'RR1'!U21*7","v":98},{"$f":"'Imp Par'!I19*5","v":70},{"$f":"'RR2'!U21*7","v":84},{"$f":"4*Slutspil!O21","v":16},{"$f":"Par!I14*5","v":50},null,374,null,13]
["Øjvind Hulgaard - Jesper Gad",null,null,null,null,{"$f":"Intro!X20*4","v":16},{"$f":"'RR1'!U23*7","v":105},{"$f":"'Imp Par'!I15*5","v":50},{"$f":"'RR2'!U23*7","v":98},{"$f":"4*Slutspil!O23","v":64},{"$f":"Par!I16*5","v":60},null,393,null,14]
["Jesper Bechsgaard - Lars Ugilt",null,null,null,null,{"$f":"Intro!X27*4","v":64},{"$f":"'RR1'!U5*7","v":84},{"$f":"'Imp Par'!I21*5","v":80},{"$f":"'RR2'!U5*7","v":91},{"$f":"4*Slutspil!O5","v":48},{"$f":"Par!I13*5","v":45},null,412,null,15]
["Danny Hansen - Thomas Hahn",null,null,null,null,{"$f":"Intro!X18*4","v":60},{"$f":"'RR1'!U6*7","v":112},{"$f":"'Imp Par'!I20*5","v":75},{"$f":"'RR2'!U6*7","v":112},{"$f":"4*Slutspil!O6","v":44},{"$f":"Par!I19*5","v":75},null,478,null,16]

{"sheet":"Fremmøde","index":8,"n_rows":21,"n_cols":11,"rows_kept":21,"cut":false,"hidden":false,"merged":[[4,1,4,6]]}
["Fremmøde som samlet par"]
[]
[null,"Introhold","RR1","Imp","RR2","Slut","par",null,"Fremmøde%",null,"Fremmøde/antal"]
["Aftener:",4,7,5,7,4,5,null,null,null,{"$f":"SUM(B4:J4)","v":32}]
[null,"Fremmøde"]
["Lars Peter Damgaard - Jan Pedersen - Jørgen Pabst",4,7,5,7,4,5,null,{"$f":"SUM(B6:G6)/$K$4%","v":100},null,{"$f":"SUM(B6:G6)","v":32}]
["Camilla Bo Krefeld - Johan Hammelev",4,7,5,7,2,5,null,{"$f":"SUM(B7:G7)/$K$4%","v":93.75},null,{"$f":"SUM(B7:G7)","v":30}]
["Jesper Bechsgaard - Lars Ugilt",4,6,5,6,3,5,null,{"$f":"SUM(B8:G8)/$K$4%","v":90.625},null,{"$f":"SUM(B8:G8)","v":29}]
["Tom Nørgaard - Trine Bilde - Peter Barsøe",3,7,4,6,4,5,null,{"$f":"SUM(B9:G9)/$K$4%","v":90.625},null,{"$f":"SUM(B9:G9)","v":29}]
["Niels Krøjgaard - Mads Krøjgaard",3,6,5,6,4,4,null,{"$f":"SUM(B10:G10)/$K$4%","v":87.5},null,{"$f":"SUM(B10:G10)","v":28}]
["Morten Stege - Nils Mønsted",4,7,3,6,3,5,null,{"$f":"SUM(B11:G11)/$K$4%","v":87.5},null,{"$f":"SUM(B11:G11)","v":28}]
["Marlene Henneberg - J.O Henneberg",3,7,5,6,2,5,null,{"$f":"SUM(B12:G12)/$K$4%","v":87.5},null,{"$f":"SUM(B12:G12)","v":28}]
["Benny Marquart - Keld Grann",4,5,4,5,4,5,null,{"$f":"SUM(B13:G13)/$K$4%","v":84.375},null,{"$f":"SUM(B13:G13)","v":27}]
["Jørgen Cilleborg Hansen - Steen Schou",3,6,4,5,4,4,null,{"$f":"SUM(B14:G14)/$K$4%","v":81.25},null,{"$f":"SUM(B14:G14)","v":26}]
["Johanne Bilde Kofoed - Jens Kofoed",4,4,5,4,2,5,null,{"$f":"SUM(B15:G15)/$K$4%","v":75},null,{"$f":"SUM(B15:G15)","v":24}]
["Øjvind Hulgaard - Jesper Gad",4,6,3,3,3,5,null,{"$f":"SUM(B16:G16)/$K$4%","v":75},null,{"$f":"SUM(B16:G16)","v":24}]
["Danny Hansen - Thomas Hahn",3,5,4,2,4,5,null,{"$f":"SUM(B17:G17)/$K$4%","v":71.875},null,{"$f":"SUM(B17:G17)","v":23}]
["H K Sørensen - Niels Henriksen",1,6,3,4,3,4,null,{"$f":"SUM(B18:G18)/$K$4%","v":65.625},null,{"$f":"SUM(B18:G18)","v":21}]
["Peter Jepsen - Søren Cilleborg Bilde",4,7,4,2,0,3,null,{"$f":"SUM(B19:G19)/$K$4%","v":62.5},null,{"$f":"SUM(B19:G19)","v":20}]
["Emil Jepsen - Morten Bilde",2,5,3,2,3,3,null,{"$f":"SUM(B20:G20)/$K$4%","v":56.25},null,{"$f":"SUM(B20:G20)","v":18}]
["Henrik Caspersen - Søren Caspersen",0,4,4,4,3,2,null,{"$f":"SUM(B21:G21)/$K$4%","v":53.125},null,{"$f":"SUM(B21:G21)","v":17}]