{"text_format":"1","workbook":"xlsx","n_sheets":9,"sheets":["Intro","RR1","Imp Par","RR2","Hold i alt","Slutspil","Par","Grand prix","Fremmøde"],"not_rendered":{"charts":0,"images":0,"macros":0,"external_links":0,"defined_names":0,"comments":0,"pivot_tables":0},"unopened":[],"bounds":{"document_bytes":16777216,"sheet_cells":100000,"rows_first":2000,"rows_last":500,"rows_between":2000,"halvings":0,"cell_chars":16384,"cell_head_chars":4096},"cells_cut":0,"cells_raw":0,"read":"whole","date_system":"1900"}

{"sheet":"Intro","index":0,"n_rows":27,"n_cols":24,"rows_kept":27,"cut":false,"hidden":false,"merged":[[0,0,0,24]]}
[" Multi, intro hold"]
[]
[null,null,null,null,1,2,3,4,5,6,7,8,9,10,11,12,13,14,15,16,null,"Total",null,"Placering"]
[]
["Danny Hansen - Thomas Hahn",null,null,null,14.35,6.62,8.23,4.49,5.28,12.27,6.17,12.64,10.26,12.15,12.66,0.18,9.9499999999999993,11.18,10.65,2.46,null,{"$f":"AVERAGE(E5:T5)","v":8.7212500000000013},null,15]
["Emil Jepsen - Dennis Bilde",null,null,null,15.83,13.97,14.57,12.95,6.34,17.45,15.8,6.74,9.9600000000000009,11.98,11.56,13.34,8.73,14.02,8.77,12.13,null,{"$f":"AVERAGE(E6:T6)","v":12.133750000000001},null,1]
[]
["Lars Peter Damgaard - Jørgen Pabst",null,null,null,11.36,13.87,11.77,7.05,5.46,3.19,13.26,13.86,9.89,10.16,8.5299999999999994,9.4600000000000009,6.57,15.43,18.100000000000001,10.73,null,{"$f":"AVERAGE(E8:T8)","v":10.543124999999998},null,5]
["Camilla Bo Krefeld - Johan Hammelev",null,null,null,9.66,10.43,5.43,15.51,10.45,5.82,13.94,12.35,8.91,10.93,16.05,12.8,10.23,6.5,9.5299999999999994,5.34,null,{"$f":"AVERAGE(E9:T9)","v":10.2425},null,7]
[]
["Jesper Bechsgaard - Anders Handberg Sørensen",null,null,null,12.71,6.75,16.89,12.91,13.66,7.73,6.06,6.14,2.59,5.0599999999999996,2.83,2.13,15.61,5.72,6.05,0.48,null,{"$f":"AVERAGE(E11:T11)","v":7.7075000000000005},null,16]
["Tom Nørgaard - Trine Bilde - Peter Barsøe",null,null,null,3.47,4.01,8.15,2.06,14.72,2.5499999999999998,6.74,7.65,13.82,4.9400000000000004,12.01,11.86,10.3,15.33,15.64,10.07,null,{"$f":"AVERAGE(E12:T12)","v":8.9574999999999996},null,14]
[]
["Morten Stege - Nils Mønsted",null,null,null,7.28,8.7799999999999994,3.92,4.32,6.03,8.9499999999999993,13.83,13.26,10.11,9.07,17.170000000000002,8.14,12.53,14.42,14.06,2.76,null,{"$f":"AVERAGE(E14:T14)","v":9.6643749999999997},null,11]
["Stig Andersen - Ricardo Mirasola",null,null,null,16.739999999999998,7.62,13.91,11.09,6.84,10.199999999999999,4.2,7.36,11.09,9.84,7.99,17.87,12.1,16.600000000000001,11.15,8.09,null,{"$f":"AVERAGE(E15:T15)","v":10.793125000000002},null,3]
[]
["Jørgen Cilleborg Hansen - Steen Schou",null,null,null,12.72,12.38,13.73,11.13,9.91,8.16,12.87,12.79,10.039999999999999,7.85,3.95,10.54,9.6999999999999993,14.28,10.47,9.27,null,{"$f":"AVERAGE(E17:T17)","v":10.611875},null,4]
["Marlene Henneberg - J.O Henneberg",null,null,null,3.26,11.22,8.6300000000000008,15.5,14.66,17.23,9.48,10.31,9.74,8.02,11.47,7.2,4.3899999999999997,4.67,1.9,14.66,null,{"$f":"AVERAGE(E18:T18)","v":9.5212499999999984},null,13]
[]
["Øjvind Hulgaard - Jesper Gad",null,null,null,7.29,15.99,16.079999999999998,8.91,5.34,11.84,15.22,13.46,5.94,5.56,7.34,6.66,9.77,4.57,11.23,17.54,null,{"$f":"AVERAGE(E20:T20)","v":10.171249999999999},null,8]
["Niels Krøjgaard - Henrik Caspersen - H C Graversen",null,null,null,16.53,13.25,6.09,15.68,10.09,2.77,8.3000000000000007,8.5299999999999994,18.45,6.06,8.44,19.82,13.43,13.5,9.35,7.87,null,{"$f":"AVERAGE(E21:T21)","v":11.135},null,2]
[]
["H K Sørensen - Niels Henriksen",null,null,null,8.64,9.57,11.85,7.09,13.97,9.8000000000000007,7.13,9.69,14.06,13.94,12.68,13.32,10.050000000000001,5.98,5.94,11.91,null,{"$f":"AVERAGE(E23:T23)","v":10.351249999999999},null,6]
["Morten Bilde - Dorte Cilleborg",null,null,null,10.34,6.13,3.11,17.940000000000001,13.16,11.05,10.52,7.21,1.55,14.44,9.92,6.55,11.27,8.82,8.85,17.239999999999998,null,{"$f":"AVERAGE(E24:T24)","v":9.8812499999999979},null,10]
[]
["Søren Caspersen - Emil Buus Thomsen",null,null,null,5.65,6.03,11.37,8.8699999999999992,9.5500000000000007,16.809999999999999,11.7,6.54,6.18,14.94,7.32,13.45,7.47,3.4,4.3600000000000003,19.52,null,{"$f":"AVERAGE(E26:T26)","v":9.5725000000000016},null,12]
["Peter Jepsen - Søren Cilleborg Bilde - Maika",null,null,null,4.17,13.38,6.27,4.5,14.54,14.18,4.78,11.47,17.41,15.06,10.08,6.68,7.9,5.58,13.95,9.93,null,{"$f":"AVERAGE(E27:T27)","v":9.9925000000000015},null,9]

{"sheet":"RR1","index":1,"n_rows":27,"n_cols":21,"rows_kept":27,"cut":false,"hidden":false,"merged":[[0,0,0,21]]}
["Multi, RR1"]
[]
[null,null,null,null,1,2,3,4,5,6,7,8,9,10,11,12,13,14,null,"Total","Placering"]
[]
["Morten Stege - Nils Mønsted",null,null,null,13.45,2.16,6.7,15.41,11.3,4.67,13.02,15.07,12.08,8.0500000000000007,9.7200000000000006,10.62,7.22,14.89,null,{"$f":"AVERAGE(E5:R5)","v":10.311428571428573},8]
["Camilla Bo Krefeld - Johan Hammelev",null,null,null,14.97,13.55,11.65,7.04,7.35,2.89,13.11,13.67,6.76,8.94,6.68,6.51,16.72,10.48,null,{"$f":"AVERAGE(E6:R6)","v":10.022857142857145},9]
[]
["Øjvind Hulgaard - Jesper Gad",null,null,null,10.57,11.03,8.35,4.59,10.59,4.5,3.38,13.2,10.51,3.79,2.17,13.84,9.73,8.67,null,{"$f":"AVERAGE(E8:R8)","v":8.20857142857143},14]
["Jesper Bechsgaard - Anders Handberg Sørensen",null,null,null,5.64,7.74,13.3,12.96,14.09,5.82,3.8,7.57,8.59,10.83,4.16,1.2,7.03,4.87,null,{"$f":"AVERAGE(E9:R9)","v":7.6857142857142859},15]
[]
["H K Sørensen - Niels Henriksen",null,null,null,9.44,13.32,13.76,10.82,8.6999999999999993,17.11,16.2,6.8,5.84,6.7,11.55,6.6,4.51,14.01,null,{"$f":"AVERAGE(E11:R11)","v":10.382857142857143},7]
["Tom Nørgaard - Trine Bilde - Peter Barsøe",null,null,null,3.54,7.97,14.57,10.96,12.65,15.33,16.62,12.43,4.28,12.08,7.81,14.68,8.2100000000000009,8.31,null,{"$f":"AVERAGE(E12:R12)","v":10.674285714285714},6]
[]
["Danny Hansen - Thomas Hahn",null,null,null,1.41,3.49,1.57,1.98,3.2,7.83,6.98,6.33,9.49,9.17,8.4499999999999993,5.32,3.63,5.9,null,{"$f":"AVERAGE(E14:R14)","v":5.3392857142857144},16]
["Lars Peter Damgaard - Jørgen Pabst",null,null,null,10.72,0.74,8.25,15.28,8.14,7.17,6.89,4.93,11.41,16.21,12.19,13.4,0.54,3.38,null,{"$f":"AVERAGE(E15:R15)","v":8.5178571428571441},13]
[]
["Emil Jepsen - Dennis Bilde",null,null,null,18.59,19.260000000000002,8.36,9.5,12.54,11,7.41,14.48,13.24,11.95,17.829999999999998,18.8,15.49,11.69,null,{"$f":"AVERAGE(E17:R17)","v":13.581428571428573},1]
["Peter Jepsen - Søren Cilleborg Bilde - Maika",null,null,null,9.2799999999999994,16.510000000000002,7.45,4.71,8.07,8.58,8.6999999999999993,9.4,7.92,11.06,15.84,6.16,11.79,5.99,null,{"$f":"AVERAGE(E18:R18)","v":9.39},11]
[]
["Søren Caspersen - Emil Buus Thomsen",null,null,null,10.56,12.03,11.75,18.02,11.93,9,16.78,10.27,12.44,14.73,13.32,9.3800000000000008,12.97,11.33,null,{"$f":"AVERAGE(E20:R20)","v":12.465},2]
["Niels Krøjgaard - Henrik Caspersen - H C Graversen",null,null,null,16.46,6.68,18.43,4.72,7.46,11.42,14.97,8.32,10.6,15.49,10.28,13.49,10.27,15.13,null,{"$f":"AVERAGE(E21:R21)","v":11.694285714285714},3]
[]
["Marlene Henneberg - J.O Henneberg",null,null,null,9.43,12.26,5.43,9.18,16.8,12.83,11.3,5.52,7.56,4.51,8.57,13.54,12.78,9.52,null,{"$f":"AVERAGE(E23:R23)","v":9.9449999999999985},10]
["Stig Andersen - Ricardo Mirasola",null,null,null,14.36,8.9700000000000006,6.24,9.0399999999999991,11.86,12.17,12.59,10.6,9.4,5.27,13.35,4.8899999999999997,3.28,5.1100000000000003,null,{"$f":"AVERAGE(E24:R24)","v":9.0807142857142846},12]
[]
["Morten Bilde - Dorte Cilleborg",null,null,null,6.55,6.45,12.55,10.5,9.41,14.18,3.22,11.68,14.16,7.92,11.43,15.11,19.46,14.1,null,{"$f":"AVERAGE(E26:R26)","v":11.194285714285712},5]
["Jørgen Cilleborg Hansen - Steen Schou",null,null,null,5.03,17.84,11.64,15.29,5.91,15.5,5.03,9.73,15.72,13.3,6.65,6.46,16.37,16.62,null,{"$f":"AVERAGE(E27:R27)","v":11.506428571428573},4]

{"sheet":"Imp Par","index":2,"n_rows":22,"n_cols":9,"rows_kept":22,"cut":false,"hidden":false,"merged":[[0,0,0,8],[27,0,28,8]]}
["IMP Par"]
[]
[]
[null,"1.aften","2.aften","3.aften","4.aften","5.aften",null,"Sum","Placering"]
[]
["Camilla Bo Krefeld - Johan Hammelev",154,114,277,25,143,null,{"$f":"SUM(B6:F6)","v":713},1]
["Jørgen Cilleborg Hansen - Steen Schou",-287,246,379,109,217,null,664,2]
["Niels Krøjgaard - Henrik Caspersen - H C Graversen",135,234.9,120,53,-20,null,522.9,3]
["Morten Bilde - Dorte Cilleborg",116,-93,47,189,98,null,357,4]
["Tom Nørgaard - Trine Bilde - Peter Barsøe",460,-92,38,-63,-65,null,278,5]
["Marlene Henneberg - J.O Henneberg",-50,-87,202,60,51,null,176,6]
["Emil Jepsen - Dennis Bilde",22,-18,-273,170,142,null,43,7]
["Morten Stege - Nils Mønsted",32,278.10000000000002,-284,6,4,null,36.100000000000023,8]
["Lars Peter Damgaard - Jørgen Pabst",-121,-169,188,72,-127,null,-157,9]
["Danny Hansen - Thomas Hahn",252,72,-189,-113,-188,null,-166,10]
["H K Sørensen - Niels Henriksen",-134,42,78,-72,-84,null,-170,11]
["Søren Caspersen - Emil Buus Thomsen",-276,-86.9,-51,85,89,null,-239.89999999999998,12]
["Peter Jepsen - Søren Cilleborg Bilde - Maika",-247,-56,-173,174,37,null,-265,13]
["Øjvind Hulgaard - Jesper Gad",-23,-133.1,74,-259,-118,null,-459.1,14]
["Stig Andersen - Ricardo Mirasola",294,-228,-300,-351,-44,null,-629,15]
["Jesper Bechsgaard - Anders Handberg Sørensen",-327,-52,-133,-85,-135,null,-732,16]
[null,{"$f":"SUM(B6:B21)","v":0},{"$f":"SUM(C6:C21)","v":-27.999999999999972},{"$f":"SUM(D6:D21)","v":0},{"$f":"SUM(E6:E21)","v":0},{"$f":"SUM(F6:F21)","v":0},null,{"$f":"SUM(H6:H21)","v":-28}]

{"sheet":"RR2","index":3,"n_rows":27,"n_cols":21,"rows_kept":27,"cut":false,"hidden":false,"merged":[[0,0,0,21]]}
[" Multi, RR2"]
[]
[null,null,null,null,1,2,3,4,5,6,7,8,9,10,11,12,13,14,null,"Total","Placering"]
[]
["Emil Jepsen - Dennis Bilde",null,null,null,10.99,13.76,8.27,15.07,null,null,null,null,null,null,null,null,null,null,null,{"$f":"AVERAGE(E5:R5)","v":12.022499999999999},4]
["Peter Jepsen - Søren Cilleborg Bilde - Maika",null,null,null,10.57,6.68,3.06,4.9000000000000004,null,null,null,null,null,null,null,null,null,null,null,{"$f":"AVERAGE(E6:R6)","v":6.3025000000000002},16]
[]
["Danny Hansen - Thomas Hahn",null,null,null,12.82,3.24,11.73,15.1,null,null,null,null,null,null,null,null,null,null,null,{"$f":"AVERAGE(E8:R8)","v":10.7225},6]
["Lars Peter Damgaard - Jørgen Pabst",null,null,null,7.08,10.67,16.940000000000001,4.93,null,null,null,null,null,null,null,null,null,null,null,{"$f":"AVERAGE(E9:R9)","v":9.9049999999999994},7]
[]
["Øjvind Hulgaard - Jesper Gad",null,null,null,16.489999999999998,6.21,8.81,5.38,null,null,null,null,null,null,null,null,null,null,null,{"$f":"AVERAGE(E11:R11)","v":9.2225000000000001},9]
["Jesper Bechsgaard - Anders Handberg Sørensen",null,null,null,11.7,10.67,7.04,4.9400000000000004,null,null,null,null,null,null,null,null,null,null,null,{"$f":"AVERAGE(E12:R12)","v":8.5874999999999986},13]
[]
["Marlene Henneberg - J.O Henneberg",null,null,null,10.02,3.99,4.22,15.18,null,null,null,null,null,null,null,null,null,null,null,{"$f":"AVERAGE(E14:R14)","v":8.3524999999999991},15]
["Stig Andersen - Ricardo Mirasola",null,null,null,9.48,14.04,3.19,9.76,null,null,null,null,null,null,null,null,null,null,null,{"$f":"AVERAGE(E15:R15)","v":9.1174999999999997},10]
[]
["Søren Caspersen - Emil Buus Thomsen",null,null,null,9.98,5.96,8.8000000000000007,11.67,null,null,null,null,null,null,null,null,null,null,null,{"$f":"AVERAGE(E17:R17)","v":9.1025000000000009},11]
["Niels Krøjgaard - Henrik Caspersen - H C Graversen",null,null,null,10.52,16.010000000000002,16.8,7.36,null,null,null,null,null,null,null,null,null,null,null,{"$f":"AVERAGE(E18:R18)","v":12.672499999999999},2]
[]
["Morten Bilde - Dorte Cilleborg",null,null,null,3.51,9.33,16.809999999999999,4.82,null,null,null,null,null,null,null,null,null,null,null,{"$f":"AVERAGE(E20:R20)","v":8.6174999999999997},12]
["Jørgen Cilleborg Hansen - Steen Schou",null,null,null,8.3000000000000007,13.79,15.78,10.24,null,null,null,null,null,null,null,null,null,null,null,{"$f":"AVERAGE(E21:R21)","v":12.0275},3]
[]
["Morten Stege - Nils Mønsted",null,null,null,7.18,9.33,12.96,14.62,null,null,null,null,null,null,null,null,null,null,null,{"$f":"AVERAGE(E23:R23)","v":11.022499999999999},5]
["Camilla Bo Krefeld - Johan Hammelev",null,null,null,12.92,16.760000000000002,11.19,15.06,null,null,null,null,null,null,null,null,null,null,null,{"$f":"AVERAGE(E24:R24)","v":13.9825},1]
[]
["H K Sørensen - Niels Henriksen",null,null,null,9.43,6.24,11.2,12.64,null,null,null,null,null,null,null,null,null,null,null,{"$f":"AVERAGE(E26:R26)","v":9.8774999999999995},8]
["Tom Nørgaard - Trine Bilde - Peter Barsøe",null,null,null,9.01,13.32,3.2,8.33,null,null,null,null,null,null,null,null,null,null,null,{"$f":"AVERAGE(E27:R27)","v":8.4649999999999999},14]

{"sheet":"Hold i alt","index":4,"n_rows":13,"n_cols":5,"rows_kept":13,"cut":false,"hidden":false,"merged":[[0,0,0,5]]}
["Klub 32 - Hold 2019/2020"]
[]
[]
[]
[null,"RR1","RR2","Total","Placering"]
["Emil Buus Thomsen",108.29,24.8,{"$f":"SUM(B6:C6)","v":133.09},1]
["Dorte Cilleborg",85.83,21.36,{"$f":"SUM(B7:C7)","v":107.19},2]
["Camilla Bo Krefeld",74.599999999999994,31.45,{"$f":"SUM(B8:C8)","v":106.05},3]
["Emil Jepsen",88.27,14.36,{"$f":"SUM(B9:C9)","v":102.63},4]
["H K Sørensen",76.19,14.59,{"$f":"SUM(B10:C10)","v":90.78},5]
["Ricardo Mirasola",62.86,14.32,{"$f":"SUM(B11:C11)","v":77.180000000000007},6]
["Danny Hansen ",30.08,23.17,{"$f":"SUM(B12:C12)","v":53.25},7]
["Abders Handberg",33.880000000000003,15.95,{"$f":"SUM(B13:C13)","v":49.83},8]

{"sheet":"Slutspil","index":5,"n_rows":27,"n_cols":15,"rows_kept":27,"cut":false,"hidden":false,"merged":[[0,0,0,14]]}
["SLUTSPIL"]
[]
[null,null,null,null,1,2,3,4,5,6,7,8,null,"Total","Placering"]
[]
["Jesper Bechsgaard - Lars Ugilt",null,null,null,null,null,null,null,null,null,null,null,null,{"$f":"AVERAGE(E5:L5)","v":{"$error":"#DIV/0!"}},12]
["Danny Hansen - Thomas Hahn",null,null,null,null,null,null,null,null,null,null,null,null,{"$f":"AVERAGE(E6:L6)","v":{"$error":"#DIV/0!"}},11]
[]
["Emil Jepsen - Morten Bilde",null,null,null,null,null,null,null,null,null,null,null,null,{"$f":"AVERAGE(E8:L8)","v":{"$error":"#DIV/0!"}},10]
["Marlene Henneberg - J.O Henneberg",null,null,null,null,null,null,null,null,null,null,null,null,{"$f":"AVERAGE(E9:L9)","v":{"$error":"#DIV/0!"}},13]
[]
["Lars Peter Damgaard - Jan Pedersen - Jørgen Pabst",null,null,null,null,null,null,null,null,null,null,null,null,{"$f":"AVERAGE(E11:L11)","v":{"$error":"#DIV/0!"}},14]
["Niels Krøjgaard - Mads Krøjgaard",null,null,null,null,null,null,null,null,null,null,null,null,{"$f":"AVERAGE(E12:L12)","v":{"$error":"#DIV/0!"}},3]
[]
["Jørgen Cilleborg Hansen - Steen Schou",null,null,null,null,null,null,null,null,null,null,null,null,{"$f":"AVERAGE(E14:L14)","v":{"$error":"#DIV/0!"}},1]
["Peter Jepsen - Søren Cilleborg Bilde",null,null,null,null,null,null,null,null,null,null,null,null,{"$f":"AVERAGE(E15:L15)","v":{"$error":"#DIV/0!"}},5]
[]
["Camilla Bo Krefeld - Johan Hammelev",null,null,null,null,null,null,null,null,null,null,null,null,{"$f":"AVERAGE(E17:L17)","v":{"$error":"#DIV/0!"}},7]
["Morten Stege - Nils Mønsted",null,null,null,null,null,null,null,null,null,null,null,null,{"$f":"AVERAGE(E18:L18)","v":{"$error":"#DIV/0!"}},2]
[]
["Henrik Caspersen - Søren Caspersen",null,null,null,null,null,null,null,null,null,null,null,null,{"$f":"AVERAGE(E20:L20)","v":{"$error":"#DIV/0!"}},6]
["Johanne Bilde Kofoed - Jens Kofoed",null,null,null,null,null,null,null,null,null,null,null,null,{"$f":"AVERAGE(E21:L21)","v":{"$error":"#DIV/0!"}},4]
[]
["Øjvind Hulgaard - Jesper Gad",null,null,null,null,null,null,null,null,null,null,null,null,{"$f":"AVERAGE(E23:L23)","v":{"$error":"#DIV/0!"}},16]
["Benny Marquart - Keld Grann",null,null,null,null,null,null,null,null,null,null,null,null,{"$f":"AVERAGE(E24:L24)","v":{"$error":"#DIV/0!"}},9]
[]
["Tom Nørgaard - Trine Bilde - Peter Barsøe",null,null,null,null,null,null,null,null,null,null,null,null,{"$f":"AVERAGE(E26:L26)","v":{"$error":"#DIV/0!"}},8]
["H K Sørensen - Niels Henriksen",null,null,null,null,null,null,null,null,null,null,null,null,{"$f":"AVERAGE(E27:L27)","v":{"$error":"#DIV/0!"}},15]

{"sheet":"Par","index":6,"n_rows":21,"n_cols":9,"rows_kept":21,"cut":false,"hidden":false,"merged":[[0,0,0,8]]}
["Par"]
[]
[null,"1.aften","2.aften","3.aften","4.aften","5.aften",null,"Sum","Placering"]
[]
["Morten Stege - Nils Mønsted",null,null,null,null,null,null,{"$f":"SUM(B5:G5)","v":0},1]
["Peter Jepsen - Søren Cilleborg Bilde",null,null,null,null,null,null,{"$f":"SUM(B6:F6)","v":0},2]
["Marlene Henneberg - J.O Henneberg",null,null,null,null,null,null,{"$f":"SUM(B7:F7)","v":0},3]
["Jørgen Cilleborg Hansen - Steen Schou",null,null,null,null,null,null,{"$f":"SUM(B8:G8)","v":0},4]
["Niels Krøjgaard - Mads Krøjgaard",null,null,null,null,null,null,{"$f":"SUM(B9:G9)","v":0},5]
["Henrik Caspersen - Søren Caspersen",null,null,null,null,null,null,{"$f":"SUM(B10:F10)","v":0},6]
["Benny Marquart - Keld Grann",null,null,null,null,null,null,{"$f":"SUM(B11:G11)","v":0},7]
["Camilla Bo Krefeld - Johan Hammelev",null,null,null,null,null,null,{"$f":"SUM(B12:G12)","v":0},8]
["Jesper Bechsgaard - Lars Ugilt",null,null,null,null,null,null,{"$f":"SUM(B13:F13)","v":0},9]
["Johanne Bilde Kofoed - Jens Kofoed",null,null,null,null,null,null,{"$f":"SUM(B14:F14)","v":0},10]
["Tom Nørgaard - Trine Bilde - Peter Barsøe",null,null,null,null,null,null,{"$f":"SUM(B15:G15)","v":0},11]
["Øjvind Hulgaard - Jesper Gad",null,null,null,null,null,null,{"$f":"SUM(B16:F16)","v":0},12]
["H K Sørensen - Niels Henriksen",null,null,null,null,null,null,{"$f":"SUM(B17:F17)","v":0},13]
["Emil Jepsen - Morten Bilde",null,null,null,null,null,null,{"$f":"SUM(B18:G18)","v":0},14]
["Danny Hansen - Thomas Hahn",null,null,null,null,null,null,{"$f":"SUM(B19:G19)","v":0},15]
["Lars Peter Damgaard - Jan Pedersen - Jørgen Pabst",null,null,null,null,null,null,{"$f":"SUM(B20:F20)","v":0},16]
[null,{"$f":"SUM(B5:B20)","v":0},{"$f":"SUM(C5:C20)","v":0},{"$f":"SUM(D5:D20)","v":0},{"$f":"SUM(E5:E20)","v":0},{"$f":"SUM(F5:F20)","v":0},null,{"$f":"SUM(H5:H20)","v":0}]

{"sheet":"Grand prix","index":7,"n_rows":20,"n_cols":18,"rows_kept":20,"cut":false,"hidden":false,"merged":[[0,0,0,15]]}
["Grand prix klub 32 (2019-2020)"]
[]
[null,null,null,null,null,"Intro hold","RR 1","IMP1","RR2","Slutspil","Par",null,"Total",null,"Placering"]
[]
["Niels Krøjgaard - Henrik Caspersen - H C Graversen",null,null,null,null,{"$f":"Intro!X21*4","v":8},{"$f":"'RR1'!U21*7","v":21},{"$f":"'Imp Par'!I8*5","v":15},{"$f":"'RR2'!U18*7","v":14},null,null,null,{"$f":"SUM(F5:L5)","v":58},null,1]
["Emil Jepsen - Dennis Bilde",null,null,null,null,{"$f":"Intro!X6*4","v":4},{"$f":"'RR1'!U17*7","v":7},{"$f":"'Imp Par'!I12*5","v":35},{"$f":"'RR2'!U5*7","v":28},null,null,null,{"$f":"SUM(F6:L6)","v":74},null,"2"]
["Jørgen Cilleborg Hansen - Steen Schou",null,null,null,null,{"$f":"Intro!X17*4","v":16},{"$f":"'RR1'!U27*7","v":28},{"$f":"'Imp Par'!I7*5","v":10},{"$f":"'RR2'!U21*7","v":21},null,null,null,{"$f":"SUM(F7:L7)","v":75},null,3]
["Camilla Bo Krefeld - Johan Hammelev",null,null,null,null,{"$f":"Intro!X9*4","v":28},{"$f":"'RR1'!U6*7","v":63},{"$f":"'Imp Par'!I6*5","v":5},{"$f":"'RR2'!U24*7","v":7},null,null,null,{"$f":"SUM(F8:L8)","v":103},null,4]
["Morten Stege - Nils Mønsted",null,null,null,null,{"$f":"Intro!X14*4","v":44},{"$f":"'RR1'!U5*7","v":56},{"$f":"'Imp Par'!I13*5","v":40},{"$f":"'RR2'!U23*7","v":35},null,null,null,{"$f":"SUM(F9:L9)","v":175},null,"5"]
["Morten Bilde - Dorte Cilleborg",null,null,null,null,{"$f":"Intro!X24*4","v":40},{"$f":"'RR1'!U26*7","v":35},{"$f":"'Imp Par'!I9*5","v":20},{"$f":"'RR2'!U20*7","v":84},null,null,null,{"$f":"SUM(F10:L10)","v":179},null,6]
["H K Sørensen - Niels Henriksen",null,null,null,null,{"$f":"Intro!X23*4","v":24},{"$f":"'RR1'!U11*7","v":49},{"$f":"'Imp Par'!I16*5","v":55},{"$f":"'RR2'!U26*7","v":56},null,null,null,{"$f":"SUM(F11:L11)","v":184},null,7]
["Søren Caspersen - Emil Buus Thomsen",null,null,null,null,{"$f":"Intro!X26*4","v":48},{"$f":"'RR1'!U20*7","v":14},{"$f":"'Imp Par'!I17*5","v":60},{"$f":"'RR2'!U17*7","v":77},null,null,null,{"$f":"SUM(F12:L12)","v":199},null,"8"]
["Lars Peter Damgaard - Jørgen Pabst",null,null,null,null,{"$f":"Intro!X8*4","v":20},{"$f":"'RR1'!U15*7","v":91},{"$f":"'Imp Par'!I14*5","v":45},{"$f":"'RR2'!U9*7","v":49},null,null,null,{"$f":"SUM(F13:L13)","v":205},null,"9"]
["Tom Nørgaard - Trine Bilde - Peter Barsøe",null,null,null,null,{"$f":"Intro!X12*4","v":56},{"$f":"'RR1'!U12*7","v":42},{"$f":"'Imp Par'!I10*5","v":25},{"$f":"'RR2'!U27*7","v":98},null,null,null,{"$f":"SUM(F14:L14)","v":221},null,10,null,null,"  "]
["Stig Andersen - Ricardo Mirasola",null,null,null,null,{"$f":"Intro!X15*4","v":12},{"$f":"'RR1'!U24*7","v":84},{"$f":"'Imp Par'!I20*5","v":75},{"$f":"'RR2'!U15*7","v":70},null,null,null,{"$f":"SUM(F15:L15)","v":241},null,11]
["Marlene Henneberg - J.O Henneberg",null,null,null,null,{"$f":"Intro!X18*4","v":52},{"$f":"'RR1'!U23*7","v":70},{"$f":"'Imp Par'!I11*5","v":30},{"$f":"'RR2'!U14*7","v":105},null,null,null,{"$f":"SUM(F16:L16)","v":257},null,12]
["Øjvind Hulgaard - Jesper Gad",null,null,null,null,{"$f":"Intro!X20*4","v":32},{"$f":"'RR1'!U8*7","v":98},{"$f":"'Imp Par'!I19*5","v":70},{"$f":"'RR2'!U11*7","v":63},null,null,null,{"$f":"SUM(F17:L17)","v":263},null,13]
["Danny Hansen - Thomas Hahn",null,null,null,null,{"$f":"Intro!X5*4","v":60},{"$f":"'RR1'!U14*7","v":112},{"$f":"'Imp Par'!I15*5","v":50},{"$f":"'RR2'!U8*7","v":42},null,null,null,{"$f":"SUM(F18:L18)","v":264},null,14]
["Peter Jepsen - Søren Cilleborg Bilde - Maika",null,null,null,null,{"$f":"Intro!X27*4","v":36},{"$f":"'RR1'!U18*7","v":77},{"$f":"'Imp Par'!I18*5","v":65},{"$f":"'RR2'!U6*7","v":112},null,null,null,{"$f":"SUM(F19:L19)","v":290},null,15]
["Jesper Bechsgaard - Anders Handberg Sørensen",null,null,null,null,{"$f":"Intro!X11*4","v":64},{"$f":"'RR1'!U9*7","v":105},{"$f":"'Imp Par'!I21*5","v":80},{"$f":"'RR2'!U12*7","v":91},null,null,null,{"$f":"SUM(F20:L20)","v":340},null,16]

{"sheet":"Fremmøde","index":8,"n_rows":22,"n_cols":11,"rows_kept":22,"cut":false,"hidden":false,"merged":[[4,1,4,6]]}
["Fremmøde som samlet par"]
[]
[null,"Introhold","RR1","Imp","RR2","Slut","par",null,"Fremmøde%",null,"Fremmøde/antal"]
["Aftener:",4,7,5,7,4,5,null,null,null,18]
[null,"Fremmøde"]
["Tom Nørgaard - Trine Bilde - Peter Barsøe",4,7,5,2,null,null,null,{"$f":"SUM(B6:G6)/$K$4%","v":100},null,{"$f":"SUM(B6:G6)","v":18}]
["Morten Stege - Nils Mønsted",4,7,4,2,null,null,null,{"$f":"SUM(B7:G7)/$K$4%","v":94.444444444444443},null,{"$f":"SUM(B7:G7)","v":17}]
["Niels Krøjgaard - Henrik Caspersen - H C Graversen",3,7,5,2,null,null,null,{"$f":"SUM(B8:G8)/$K$4%","v":94.444444444444443},null,{"$f":"SUM(B8:G8)","v":17}]
["Peter Jepsen - Søren Cilleborg Bilde - Maika",4,7,5,0,null,null,null,{"$f":"SUM(B9:G9)/$K$4%","v":88.888888888888886},null,{"$f":"SUM(B9:G9)","v":16}]
["Lars Peter Damgaard - Jørgen Pabst",4,6,5,1,null,null,null,{"$f":"SUM(B10:G10)/$K$4%","v":88.888888888888886},null,{"$f":"SUM(B10:G10)","v":16}]
["Stig Andersen - Ricardo Mirasola",3,6,5,2,null,null,null,{"$f":"SUM(B11:G11)/$K$4%","v":88.888888888888886},null,{"$f":"SUM(B11:G11)","v":16}]
["H K Sørensen - Niels Henriksen",3,6,4,2,null,null,null,{"$f":"SUM(B12:G12)/$K$4%","v":83.333333333333343},null,{"$f":"SUM(B12:G12)","v":15}]
["Marlene Henneberg - J.O Henneberg",3,6,4,2,null,null,null,{"$f":"SUM(B13:G13)/$K$4%","v":83.333333333333343},null,{"$f":"SUM(B13:G13)","v":15}]
["Danny Hansen - Thomas Hahn",4,4,5,2,null,null,null,{"$f":"SUM(B14:G14)/$K$4%","v":83.333333333333343},null,{"$f":"SUM(B14:G14)","v":15}]
["Camilla Bo Krefeld - Johan Hammelev",1,7,5,2,null,null,null,{"$f":"SUM(B15:G15)/$K$4%","v":83.333333333333343},null,{"$f":"SUM(B15:G15)","v":15}]
["Øjvind Hulgaard - Jesper Gad",2,7,3,2,null,null,null,{"$f":"SUM(B16:G16)/$K$4%","v":77.777777777777786},null,{"$f":"SUM(B16:G16)","v":14}]
["Søren Caspersen - Emil Buus Thomsen",3,6,3,2,null,null,null,{"$f":"SUM(B17:G17)/$K$4%","v":77.777777777777786},null,{"$f":"SUM(B17:G17)","v":14}]
["Morten Bilde - Dorte Cilleborg",4,3,4,2,null,null,null,{"$f":"SUM(B18:G18)/$K$4%","v":72.222222222222229},null,{"$f":"SUM(B18:G18)","v":13}]
["Emil Jepsen - Dennis Bilde",3,5,2,1,null,null,null,{"$f":"SUM(B19:G19)/$K$4%","v":61.111111111111114},null,{"$f":"SUM(B19:G19)","v":11}]
["Jørgen Cilleborg Hansen - Steen Schou",0,7,2,2,null,null,null,{"$f":"SUM(B20:G20)/$K$4%","v":61.111111111111114},null,{"$f":"SUM(B20:G20)","v":11}]
["Jesper Bechsgaard - Anders Handberg Sørensen",3,3,3,2,null,null,null,{"$f":"SUM(B21:G21)/$K$4%","v":61.111111111111114},null,{"$f":"SUM(B21:G21)","v":11}]
[null," "]