{"text_format":"1","workbook":"xlsx","n_sheets":9,"sheets":["Intro","RR1","Imp Par","RR2","Hold i alt","Slutspil","Par","Grand prix","Fremmøde"],"not_rendered":{"charts":0,"images":0,"macros":0,"external_links":0,"defined_names":0,"comments":0,"pivot_tables":0},"unopened":[],"bounds":{"document_bytes":16777216,"sheet_cells":100000,"rows_first":2000,"rows_last":500,"rows_between":2000,"halvings":0,"cell_chars":16384,"cell_head_chars":4096},"cells_cut":0,"cells_raw":0,"read":"whole","date_system":"1900"}

{"sheet":"Intro","index":0,"n_rows":45,"n_cols":24,"rows_kept":45,"cut":false,"hidden":false,"merged":[[0,0,0,24]]}
[" Multi, intro hold"]
[]
[null,null,null,null,1,2,3,4,5,6,7,8,9,10,11,12,13,14,15,16,null,"Total",null,"Placering"]
[]
["Marlene Henneberg - J.O Henneberg",null,null,null,13.45,9.24,5.74,2.12,14.31,17.63,8.86,8.36,9.5299999999999994,6.3,10.81,9.9700000000000006,15.59,11.58,16.86,5.0199999999999996,null,{"$f":"AVERAGE(E5:T5)","v":10.335625000000002},null,5]
["Rikke Skov Mønsted - Nils Mønsted",null,null,null,8.7899999999999991,10.91,9.0500000000000007,10.54,10.71,5.58,8.89,10.86,11.37,11.24,9.5299999999999994,10.119999999999999,13.99,6.96,13.03,14.34,null,{"$f":"AVERAGE(E6:T6)","v":10.369375000000002},null,4]
[]
["Emil Jepsen - Dennis Bilde",null,null,null,16,8.09,10.95,17.88,12.62,12.66,11.96,10.6,17.02,12.08,10.36,8.6999999999999993,8.2799999999999994,4.66,6.97,14.98,null,{"$f":"AVERAGE(E8:T8)","v":11.488124999999997},null,1]
["Martin Klausen - Palle Jensen",null,null,null,6,2.66,14.26,9.4600000000000009,13.3,10.7,7.87,11.57,12.31,3.04,12.46,6.08,14.26,7.34,3.14,5.66,null,{"$f":"AVERAGE(E9:T9)","v":8.7568750000000009},null,16]
[]
["Lida Hulgaard - Øjvind Hulgaard",null,null,null,5.52,4.3,10.85,9.4499999999999993,5.69,14.42,12.13,9.4,15.85,10.130000000000001,14.53,10.31,7.67,13.22,5.23,2.19,null,{"$f":"AVERAGE(E11:T11)","v":9.4306249999999991},null,12]
["Henrik Caspersen - Niels Krøjgaard",null,null,null,16.29,9.48,6.01,14.8,9.2899999999999991,2.37,8.0399999999999991,8.43,9.61,7.26,9.14,15.78,6.52,10.78,12.47,17.21,null,{"$f":"AVERAGE(E12:T12)","v":10.217500000000001},null,6]
[]
["Søren Caspersen - Emil Buus Thomsen",null,null,null,15.59,6.19,15.22,4.29,1.76,10.51,11.14,9.14,2.98,16.96,5.47,4.22,8.9700000000000006,14.08,14.77,2.79,null,{"$f":"AVERAGE(E14:T14)","v":9.004999999999999},null,15]
["Lars Peter Damgaard - Jørgen Pabst",null,null,null,10.17,8.11,12.41,10.039999999999999,4.8099999999999996,8.2100000000000009,11.11,11.64,7.69,7.92,10.86,9.69,15.41,9.2200000000000006,7.53,17.809999999999999,null,{"$f":"AVERAGE(E15:T15)","v":10.164375000000001},null,8]
[]
["Jørgen Cilleborg Hansen - Steen Schou",null,null,null,4.41,11.89,2.48,7.89,14.01,16.98,8.7799999999999994,15.02,8.6300000000000008,13.7,9.64,13.92,12.33,9.2200000000000006,15.12,10.65,null,{"$f":"AVERAGE(E17:T17)","v":10.916875000000001},null,3]
["Jesper Bechsgaard - Anders Handberg Sørensen",null,null,null,9.83,13.81,6.83,5.21,13.88,9.18,6.78,8.7899999999999991,10.47,8.76,7.54,11.3,13.48,6.78,7.17,9.1999999999999993,null,{"$f":"AVERAGE(E18:T18)","v":9.3131249999999994},null,13]
[]
["Kresten Roland Johansen - Troels Buus Thomsen",null,null,null,14.48,10.52,4.78,9.9600000000000009,6.12,3.02,9.42,12.64,6.56,8.36,9.19,9.8800000000000008,11.72,12.66,12.83,9.35,null,{"$f":"AVERAGE(E20:T20)","v":9.4681250000000006},null,11]
["Camilla Bo Krefeld - Johan Hammelev",null,null,null,3.71,15.7,7.59,15.71,5.99,10.82,11.47,9.8800000000000008,9.9499999999999993,15.32,10.47,10.029999999999999,5.74,15.34,4.88,10.8,null,{"$f":"AVERAGE(E21:T21)","v":10.212500000000002},null,7]
[]
["Jens Kofoed - Johanne Bilde Kofoed",null,null,null,4,17.34,9.15,5.2,15.19,9.49,13.22,4.9800000000000004,13.44,4.68,14.32,5.9,4.41,13.04,13.57,12.25,null,{"$f":"AVERAGE(E23:T23)","v":10.011249999999999},null,9]
["Stig Andersen - Ricardo Mirasola",null,null,null,14,11.91,13.99,10.55,18.239999999999998,11.79,11.22,11.21,10.050000000000001,11.64,12.3,3.19,6.01,8.42,9.0399999999999991,16.510000000000002,null,{"$f":"AVERAGE(E24:T24)","v":11.254374999999998},null,2]
[]
["H K Sørensen - Niels Henriksen",null,null,null,11.21,10.76,13.17,12.11,7.38,9.3000000000000007,10.58,10.119999999999999,10.39,9.8699999999999992,7.7,14.1,4.59,5.92,6.43,3.49,null,{"$f":"AVERAGE(E26:T26)","v":9.1950000000000003},null,14]
["Morten Bilde - Søren Cilleborg Bilde",null,null,null,6.55,9.09,17.52,14.79,6.7,7.34,8.5299999999999994,7.36,4.1500000000000004,12.74,5.68,16.809999999999999,11.03,10.78,10.96,7.75,null,{"$f":"AVERAGE(E27:T27)","v":9.8612500000000001},null,10]
[]
[]
[]
[]
[]
[]
[]
[]
[]
[]
[]
[]
[]
[]
[]
[]
["Øjvind Hulgaard - Jesper Gad"]
["Niels Krøjgaard - Henrik Caspersen - H C Graversen"]

{"sheet":"RR1","index":1,"n_rows":27,"n_cols":21,"rows_kept":27,"cut":false,"hidden":false,"merged":[[0,0,0,21]]}
["Multi, RR1"]
[]
[null,null,null,null,1,2,3,4,5,6,7,8,9,10,11,12,13,14,null,"Total","Placering"]
[]
["Camilla Bo Krefeld - Johan Hammelev",null,null,null,10.55,12.66,11.97,6.74,14.53,16.170000000000002,11.21,13.24,3.72,13.86,12.93,4.6100000000000003,15.63,7.67,null,{"$f":"AVERAGE(E5:R5)","v":11.106428571428571},3]
["Rikke Skov Mønsted - Nils Mønsted",null,null,null,14.01,15.91,6.84,8.15,7.74,7.06,8.51,6.41,13.78,6.42,9.5500000000000007,15.59,7.26,12.19,null,{"$f":"AVERAGE(E6:R6)","v":9.95857142857143},11]
[]
["Morten Bilde - Søren Cilleborg Bilde",null,null,null,8.33,4.43,8.0299999999999994,11.85,8.1199999999999992,16.059999999999999,13.62,12.56,9.89,16.45,14.12,11.77,13.76,15.82,null,{"$f":"AVERAGE(E8:R8)","v":11.772142857142857},1]
["Emil Jepsen - Dennis Bilde",null,null,null,7.28,15.4,13.16,13.26,13.77,8.1300000000000008,6.55,11.99,18.2,12.02,9.1300000000000008,8.16,11.04,15.77,null,{"$f":"AVERAGE(E9:R9)","v":11.704285714285714},2]
[]
["Jørgen Cilleborg Hansen - Steen Schou",null,null,null,10.57,14,5.73,6.88,12.26,3.83,13.45,7.44,10.02,15.41,13.58,11.68,9.1999999999999993,8.9700000000000006,null,{"$f":"AVERAGE(E11:R11)","v":10.215714285714284},8]
["H K Sørensen - Niels Henriksen",null,null,null,14.03,6.33,6.82,10.119999999999999,5.47,12.94,6.38,8.01,15.98,15.07,13.81,12.94,3.79,9.07,null,{"$f":"AVERAGE(E12:R12)","v":10.054285714285713},10]
[]
["Marlene Henneberg - J.O Henneberg",null,null,null,12.95,13.04,13,8.75,9.58,9.81,8.7899999999999991,13.59,10.11,7.98,6.42,7.06,9.31,11.1,null,{"$f":"AVERAGE(E14:R14)","v":10.10642857142857},9]
["Stig Andersen - Ricardo Mirasola",null,null,null,14.01,13,18.14,3.37,3.84,10.54,11.49,6.76,1.8,3.55,6.19,8.32,9.08,6.64,null,{"$f":"AVERAGE(E15:R15)","v":8.3378571428571426},15]
[]
["Lars Peter Damgaard - Jørgen Pabst",null,null,null,7.05,7,8.9499999999999993,10.5,5.45,14.19,6.78,3.67,6.22,6.14,10.87,8.23,10.8,10.93,null,{"$f":"AVERAGE(E17:R17)","v":8.3414285714285707},14]
["Henrik Caspersen - Niels Krøjgaard",null,null,null,5.99,6.96,7.84,14.04,10.050000000000001,14.64,4.74,14.72,16.28,13.58,5.88,11.84,16.21,11.03,null,{"$f":"AVERAGE(E18:R18)","v":10.985714285714284},5]
[]
["Kresten Roland Johansen - Troels Buus Thomsen",null,null,null,9.43,13.67,7,16.63,9.9499999999999993,5.81,13.84,7.23,15.98,9.9499999999999993,10.45,15.39,6.24,4.2300000000000004,null,{"$f":"AVERAGE(E20:R20)","v":10.414285714285716},7]
["Martin Klausen - Palle Jensen",null,null,null,5.97,6,1.86,11.25,14.55,5.36,6.1,3.59,8.2799999999999994,7.29,7.07,4.41,8.9600000000000009,4.18,null,{"$f":"AVERAGE(E21:R21)","v":6.7764285714285721},16]
[]
["Jens Kofoed - Johanne Bilde Kofoed",null,null,null,11.67,4.5999999999999996,13.18,13.12,10.42,9.4600000000000009,15.26,16.329999999999998,4.0199999999999996,12.71,11.83,12.86,4.37,7.81,null,{"$f":"AVERAGE(E23:R23)","v":10.545714285714286},6]
["Søren Caspersen - Emil Buus Thomsen",null,null,null,12.72,15.57,14.27,9.8800000000000008,16.16,10.19,13.22,5.28,11.72,10.050000000000001,3.22,6.75,12.74,12.33,null,{"$f":"AVERAGE(E24:R24)","v":11.007142857142858},4]
[]
["Lida Hulgaard - Øjvind Hulgaard",null,null,null,5.99,7.34,11.05,5.96,11.88,11.87,13.9,12.77,9.98,4.93,16.78,7.14,10.92,8.9,null,{"$f":"AVERAGE(E26:R26)","v":9.9578571428571454},12]
["Jesper Bechsgaard - Anders Handberg Sørensen",null,null,null,9.4499999999999993,4.09,12.16,9.5,6.23,3.94,6.16,16.41,4.0199999999999996,4.59,8.17,13.25,10.69,13.36,null,{"$f":"AVERAGE(E27:R27)","v":8.7157142857142862},13]

{"sheet":"Imp Par","index":2,"n_rows":21,"n_cols":9,"rows_kept":21,"cut":false,"hidden":false,"merged":[[0,0,0,8]]}
["IMP Par"]
[]
[]
[null,1,2,3,4,5,null,null,"Placering"]
["Marlene Henneberg - J.O Henneberg",6.4,28.9,59.1,20,-17.3,null,{"$f":"SUM(B5:F5)","v":97.100000000000009},1]
["Camilla Bo Krefeld - Johan Hammelev",36.700000000000003,10.3,0.8,32.6,14.5,null,94.9,2]
["Henrik Caspersen - Niels Krøjgaard",-9.9,35.9,41.6,-6.7,11.9,null,72.8,3]
["Jørgen Cilleborg Hansen - Steen Schou",10.1,12.3,5.6,16,5.9,null,49.9,4]
["Rikke Skov Mønsted - Nils Mønsted",-51,-9,28.7,26.4,39.5,null,34.599999999999994,5]
["H K Sørensen - Niels Henriksen",13.6,-15.5,1.8,18.3,15.6,null,33.799999999999997,6]
["Stig Andersen - Ricardo Mirasola",0.3,-38.700000000000003,45.9,-7,28,null,28.499999999999993,7]
["Emil Jepsen - Dennis Bilde",9.6,-43.5,57.8,-7.9,2.2000000000000002,null,18.2,8]
["Lars Peter Damgaard - Jørgen Pabst",45,3.4,-21,-15.5,2.8,null,14.7,9]
["Søren Caspersen - Emil Buus Thomsen",14.3,23,-15.6,7.7,-16.2,null,13.199999999999996,10]
["Jesper Bechsgaard - Anders Handberg Sørensen",-9,13.3,-7.1,-8.6,-5.8,null,-17.2,11]
["Morten Bilde - Søren Cilleborg Bilde",25.7,3.6,-14.8,-15.8,-33.700000000000003,null,-35,12]
["Jens Kofoed - Johanne Bilde Kofoed",-21.1,12.1,-68.400000000000006,13.9,-6.4,null,-69.900000000000006,13]
["Kresten Roland Johansen - Troels Buus Thomsen",-38.299999999999997,14.9,-3.5,-26.6,-18,null,-71.5,14]
["Lida Hulgaard - Øjvind Hulgaard",-8.6,2,-24.6,-29.4,-11.6,null,-72.2,15]
["Martin Klausen - Palle Jensen",-23.9,-53,-62.1,-17.5,-11.2,null,-167.7,16]
[null,{"$f":"SUM(B5:B20)","v":-9.9999999999980105E-2},{"$f":"SUM(C5:C20)","v":0},24.20000000000001,-9.9999999999994316E-2,0.19999999999999396,null,{"$f":"SUM(H5:H20)","v":24.199999999999932}]

{"sheet":"RR2","index":3,"n_rows":27,"n_cols":21,"rows_kept":27,"cut":false,"hidden":false,"merged":[[0,0,0,21]]}
[" Multi, RR2"]
[]
[null,null,null,null,1,2,3,4,5,6,7,8,9,10,11,12,13,14,null,"Total","Placering"]
[]
["Camilla Bo Krefeld - Johan Hammelev",null,null,null,10.17,13.17,11.22,11.02,12.51,15.88,8.85,15.16,5.28,14.6,8.74,14.22,15.34,2.7,null,{"$f":"AVERAGE(E5:R5)","v":11.347142857142856},3]
["Rikke Skov Mønsted - Nils Mønsted",null,null,null,14.66,12.7,12.36,9.85,9.4700000000000006,11.98,8.42,16.149999999999999,8.77,3.76,13.73,0.67,15.61,14.18,null,{"$f":"AVERAGE(E6:R6)","v":10.879285714285714},5]
[]
["Morten Bilde - Søren Cilleborg Bilde",null,null,null,16.39,13.54,15.11,8.66,10.32,3.57,4.45,13.96,10.4,10.08,6.27,5.78,11.77,8.67,null,{"$f":"AVERAGE(E8:R8)","v":9.9264285714285716},7]
["Emil Jepsen - Dennis Bilde",null,null,null,14.52,14.82,18.670000000000002,17.690000000000001,11.57,16.399999999999999,17.98,12.74,12.41,9.8800000000000008,11.26,19.329999999999998,12.75,12.95,null,{"$f":"AVERAGE(E9:R9)","v":14.497857142857141},1]
[]
["Jørgen Cilleborg Hansen - Steen Schou",null,null,null,12.29,10.17,14.75,15.34,13.3,13.23,11.58,4.84,7.59,9.92,14.02,14.03,6.66,18.75,null,{"$f":"AVERAGE(E11:R11)","v":11.890714285714285},2]
["H K Sørensen - Niels Henriksen",null,null,null,14.69,8.89,11.23,8.6,14.31,11.6,11.15,3.85,9.6,10.119999999999999,5.09,6.17,12.32,9.4700000000000006,null,{"$f":"AVERAGE(E12:R12)","v":9.7921428571428581},8]
[]
["Marlene Henneberg - J.O Henneberg",null,null,null,9.83,7.3,16.8,9.44,13.68,5.95,12.89,13.11,10.01,16.71,5.98,13.83,8.23,7.05,null,{"$f":"AVERAGE(E14:R14)","v":10.772142857142857},6]
["Stig Andersen - Ricardo Mirasola",null,null,null,5.34,6.83,15.62,8.32,10.87,16.510000000000002,1.46,9.85,10.83,8.34,14.91,5.97,7.25,11.33,null,{"$f":"AVERAGE(E15:R15)","v":9.5307142857142839},9]
[]
["Lars Peter Damgaard - Jørgen Pabst",null,null,null,7.71,11.11,4.8899999999999997,2.31,6.32,3.49,11.52,15.56,11.23,5.4,6.65,12.97,5.54,10.81,null,{"$f":"AVERAGE(E17:R17)","v":8.2507142857142881},14]
["Henrik Caspersen - Niels Krøjgaard",null,null,null,5.31,9.83,1.33,11.34,9.1300000000000008,14.05,9.84,12.06,14.72,16.239999999999998,16.440000000000001,11.57,9.94,12.88,null,{"$f":"AVERAGE(E18:R18)","v":11.048571428571426},4]
[]
["Kresten Roland Johansen - Troels Buus Thomsen",null,null,null,5.48,6.46,3.2,11.68,7.49,8.02,8.48,7.94,14.49,8.3699999999999992,12.14,15.43,13.34,10.53,null,{"$f":"AVERAGE(E20:R20)","v":9.5035714285714299},10]
["Martin Klausen - Palle Jensen",null,null,null,3.61,5.18,4.38,10.56,10.53,4.12,10.16,4.4400000000000004,13.83,10.65,18,8.33,7.68,1.25,null,{"$f":"AVERAGE(E21:R21)","v":8.0514285714285716},15]
[]
["Jens Kofoed - Johanne Bilde Kofoed",null,null,null,10.63,9.1,8.77,4.66,8.43,16.43,7.11,10.15,6.17,11.63,3.56,7.03,4.3899999999999997,17.3,null,{"$f":"AVERAGE(E23:R23)","v":8.9542857142857137},11]
["Søren Caspersen - Emil Buus Thomsen",null,null,null,10.84,7.02,5.25,11.4,9.68,3.6,18.54,6.89,5.51,9.35,13.35,8.43,4.66,5.82,null,{"$f":"AVERAGE(E24:R24)","v":8.5957142857142834},13]
[]
["Lida Hulgaard - Øjvind Hulgaard",null,null,null,9.16,10.9,7.64,8.98,5.69,6.77,15.55,7.26,9.17,3.29,2,4.57,14.46,7.12,null,{"$f":"AVERAGE(E26:R26)","v":8.0400000000000027},16]
["Jesper Bechsgaard - Anders Handberg Sørensen",null,null,null,9.3699999999999992,12.98,8.7799999999999994,10.15,6.7,8.4,2.02,6.04,9.99,11.66,7.86,11.67,10.06,9.19,null,{"$f":"AVERAGE(E27:R27)","v":8.9192857142857154},12]

{"sheet":"Hold i alt","index":4,"n_rows":14,"n_cols":5,"rows_kept":14,"cut":false,"hidden":false,"merged":[[0,0,0,5]]}
["Klub 32 - Hold 2022/23"]
[]
[]
[]
[null,"RR1","RR2","Total","Placering"]
["Emilios og Bilde",98.91,108.35,{"$f":"SUM(B6:C6)","v":207.26},1]
["Hopper og hingste",81.31,86.09,167.4,2]
["Seniors",70.64,85.48,156.12,3]
["Krøjs bridge circus",67.16,68.52,135.68,4]
["Mafioso og Hennebergs",55.75,73.36,129.11000000000001,5]
["La familia & youngsta",78.540000000000006,47.83,126.37,6]
["Hulgaard & Co",61.16,41.86,103.02,7]
["Newbies",46.53,48.51,95.039999999999992,8]
[null," "]

{"sheet":"Slutspil","index":5,"n_rows":28,"n_cols":15,"rows_kept":28,"cut":false,"hidden":false,"merged":[[0,0,0,14],[1,3,1,10]]}
["SLUTSPIL"]
[]
[]
[null,null,null,null,1,2,3,4,5,6,7,8,null,"Total","Placering"]
[]
["Camilla Bo Krefeld - Johan Hammelev",null,null,null,10.82,15.29,6.7,8.18,5.8,12.23,9.25,19.399999999999999,null,{"$f":"AVERAGE(E6:L6)","v":10.958749999999998},6]
["Rikke Skov Mønsted - Nils Mønsted",null,null,null,10.57,5.53,8.34,5.87,8.65,11.92,9.7899999999999991,11.76,null,{"$f":"AVERAGE(E7:L7)","v":9.0537500000000009},12]
[]
["Morten Bilde - Søren Cilleborg Bilde",null,null,null,11.15,7.76,14.19,11.8,3.77,16.14,5.18,4,null,{"$f":"AVERAGE(E9:L9)","v":9.2487500000000011},11]
["Emil Jepsen - Dennis Bilde",null,null,null,3.42,10.92,7.18,15.29,7.97,1.6,12.59,4.2,null,7.8962500000000002,13]
[]
["Jørgen Cilleborg Hansen - Steen Schou",null,null,null,16.579999999999998,12.24,12.82,8.1999999999999993,11.35,7.77,10.75,8.24,null,{"$f":"AVERAGE(E12:L12)","v":10.99375},5]
["H K Sørensen - Niels Henriksen",null,null,null,8.85,9.06,5.81,4.71,14.2,8.08,10.210000000000001,0.6,null,7.6899999999999995,14]
[]
["Marlene Henneberg - J.O Henneberg",null,null,null,10.15,7.93,14.39,7.57,8,16.36,7.89,12.89,null,{"$f":"AVERAGE(E15:L15)","v":10.647500000000001},7]
["Stig Andersen - Ricardo Mirasola",null,null,null,13.01,17.239999999999998,17.73,7.07,5.35,8.8800000000000008,10.4,8.43,null,11.013750000000002,4]
[]
["Lars Peter Damgaard - Jørgen Pabst",null,null,null,9.43,4.71,13.3,14.13,12.03,3.86,7.41,16,null,{"$f":"AVERAGE(E18:L18)","v":10.108750000000001},8]
["Henrik Caspersen - Niels Krøjgaard",null,null,null,9.18,14.47,11.66,11.82,16.23,18.399999999999999,14.82,15.8,null,14.047499999999998,1]
[]
["Kresten Roland Johansen - Troels Buus Thomsen",null,null,null,6.99,12.07,5.61,12.93,12.02,14.86,12.92,16.28,null,{"$f":"AVERAGE(E21:L21)","v":11.71},3]
["Martin Klausen - Palle Jensen",null,null,null,9.85,2.76,2.27,12.43,2.33,7.5,7.48,13.29,null,7.2387500000000005,16]
[]
["Jens Kofoed - Johanne Bilde Kofoed",null,null,null,11.48,11.62,5.09,13.34,14.65,3.62,9.6,7.11,null,{"$f":"AVERAGE(E24:L24)","v":9.5637499999999989},10]
["Søren Caspersen - Emil Buus Thomsen",null,null,null,16.600000000000001,8.91,13.82,11.66,12,11.12,12.11,11.57,null,12.223749999999999,2]
[]
["Lida Hulgaard - Øjvind Hulgaard",null,null,null,3.4,8.3800000000000008,6.18,6.66,7.98,12.5,12.52,3.72,null,{"$f":"AVERAGE(E27:L27)","v":7.6675000000000004},15]
["Jesper Bechsgaard - Anders Handberg Sørensen",null,null,null,8.52,11.09,14.91,8.34,17.670000000000002,5.14,7.08,6.71,null,9.9324999999999992,9]

{"sheet":"Par","index":6,"n_rows":22,"n_cols":10,"rows_kept":22,"cut":false,"hidden":false,"merged":[[0,0,0,7]]}
["Par"]
[]
[null,"1.aften","2.aften","3.aften","4.aften","5.aften",null,"Sum",null,"Placering"]
[]
["Morten Bilde - Søren Cilleborg Bilde",59,51,0,5,20,null,{"$f":"SUM(B5:G5)","v":135},null,1]
["Emil Jepsen - Dennis Bilde",49,33,38,51,-48,null,{"$f":"SUM(B6:G6)","v":123},null,2]
["Henrik Caspersen - Niels Krøjgaard",62,-32,10,18,16,null,{"$f":"SUM(B7:G7)","v":74},null,3]
["Lars Peter Damgaard - Jørgen Pabst",-1,-8,42,31,9,null,{"$f":"SUM(B8:G8)","v":73},null,4]
["Søren Caspersen - Emil Buus Thomsen",-22,18,26,-12,23,null,{"$f":"SUM(B9:G9)","v":33},null,5]
["Kresten Roland Johansen - Troels Buus Thomsen",24,-3,10,-23,17,null,{"$f":"SUM(B10:G10)","v":25},null,6]
["Lida Hulgaard - Øjvind Hulgaard",1,4,8,25,-14,null,{"$f":"SUM(B11:G11)","v":24},null,7]
["Marlene Henneberg - J.O Henneberg",2,-17,3,4,12,null,{"$f":"SUM(B12:G12)","v":4},null,8.5]
["Stig Andersen - Ricardo Mirasola",-4,-49,0,15,42,null,{"$f":"SUM(B13:G13)","v":4},null,8.5]
["Camilla Bo Krefeld - Johan Hammelev",3,9,6,-7,-32,null,{"$f":"SUM(B14:G14)","v":-21},null,10]
["H K Sørensen - Niels Henriksen",-19,-16,11,-22,3,null,{"$f":"SUM(B15:G15)","v":-43},null,11]
["Jørgen Cilleborg Hansen - Steen Schou",-14,30,-32,-8,-35,null,{"$f":"SUM(B16:G16)","v":-59},null,12]
["Rikke Skov Mønsted - Nils Mønsted",-47,-24,-11,8,-3,null,{"$f":"SUM(B17:G17)","v":-77},null,13]
["Jesper Bechsgaard - Anders Handberg Sørensen",-26,6,-43,-12,-3,null,{"$f":"SUM(B18:G18)","v":-78},null,14]
["Jens Kofoed - Johanne Bilde Kofoed",-44,12,-23,-31,-16,null,{"$f":"SUM(B19:G19)","v":-102},null,15]
["Martin Klausen - Palle Jensen",-23,-14,-45,-42,9,null,{"$f":"SUM(B20:G20)","v":-115},null,16]
[]
[null,{"$f":"SUM(B5:B21)","v":0},{"$f":"SUM(C5:C21)","v":0},{"$f":"SUM(D5:D21)","v":0},0,0,null,0]

{"sheet":"Grand prix","index":7,"n_rows":20,"n_cols":18,"rows_kept":20,"cut":false,"hidden":false,"merged":[[0,0,0,15]]}
["Grand prix klub 32 (2022-2023)"]
[]
[null,null,null,null,null,"Intro hold","RR 1","IMP1","RR2","Slutspil","Par",null,"Total",null,"Placering"]
[]
["Henrik Caspersen - Niels Krøjgaard",null,null,null,null,{"$f":"Intro!X12*4","v":24},{"$f":"'RR1'!U18*7","v":35},{"$f":"'Imp Par'!I7*5","v":15},{"$f":"'RR2'!U18*7","v":28},{"$f":"Slutspil!O19*4","v":4},{"$f":"Par!J7*5","v":15},null,{"$f":"SUM(F5:L5)","v":121},null,1]
["Emil Jepsen - Dennis Bilde",null,null,null,null,{"$f":"Intro!X8*4","v":4},{"$f":"'RR1'!U9*7","v":14},{"$f":"'Imp Par'!I12*5","v":40},{"$f":"'RR2'!U9*7","v":7},{"$f":"Slutspil!O10*4","v":52},{"$f":"Par!J6*5","v":10},null,{"$f":"SUM(F6:L6)","v":127},null,"2"]
["Camilla Bo Krefeld - Johan Hammelev",null,null,null,null,{"$f":"Intro!X21*4","v":28},{"$f":"'RR1'!U5*7","v":21},{"$f":"'Imp Par'!I6*5","v":10},{"$f":"'RR2'!U5*7","v":21},{"$f":"Slutspil!O6*4","v":24},{"$f":"Par!J14*5","v":50},null,{"$f":"SUM(F7:L7)","v":154},null,3]
["Jørgen Cilleborg Hansen - Steen Schou",null,null,null,null,{"$f":"Intro!X17*4","v":12},{"$f":"'RR1'!U11*7","v":56},{"$f":"'Imp Par'!I8*5","v":20},{"$f":"'RR2'!U11*7","v":14},{"$f":"Slutspil!O12*4","v":20},{"$f":"Par!J16*5","v":60},null,{"$f":"SUM(F8:L8)","v":182},null,4]
["Marlene Henneberg - J.O Henneberg",null,null,null,null,{"$f":"Intro!X5*4","v":20},{"$f":"'RR1'!U14*7","v":63},{"$f":"'Imp Par'!I5*5","v":5},{"$f":"'RR2'!U14*7","v":42},{"$f":"Slutspil!O15*4","v":28},{"$f":"Par!J12*5","v":42.5},null,{"$f":"SUM(F9:L9)","v":200.5},null,"5"]
["Morten Bilde - Søren Cilleborg Bilde",null,null,null,null,{"$f":"Intro!X27*4","v":40},{"$f":"'RR1'!U8*7","v":7},{"$f":"'Imp Par'!I16*5","v":60},{"$f":"'RR2'!U8*7","v":49},{"$f":"Slutspil!O9*4","v":44},{"$f":"Par!J5*5","v":5},null,{"$f":"SUM(F10:L10)","v":205},null,6]
["Søren Caspersen - Emil Buus Thomsen",null,null,null,null,{"$f":"Intro!X14*4","v":60},{"$f":"'RR1'!U24*7","v":28},{"$f":"'Imp Par'!I14*5","v":50},{"$f":"'RR2'!U24*7","v":91},{"$f":"Slutspil!O25*4","v":8},{"$f":"Par!J9*5","v":25},null,{"$f":"SUM(F11:L11)","v":262},null,7]
["Rikke Skov Mønsted - Nils Mønsted",null,null,null,null,{"$f":"Intro!X6*4","v":16},{"$f":"'RR1'!U6*7","v":77},{"$f":"'Imp Par'!I9*5","v":25},{"$f":"'RR2'!U6*7","v":35},{"$f":"Slutspil!O7*4","v":48},{"$f":"Par!J17*5","v":65},null,{"$f":"SUM(F12:L12)","v":266},null,"8"]
["Stig Andersen - Ricardo Mirasola",null,null,null,null,{"$f":"Intro!X24*4","v":8},{"$f":"'RR1'!U15*7","v":105},{"$f":"'Imp Par'!I11*5","v":35},{"$f":"'RR2'!U15*7","v":63},{"$f":"Slutspil!O16*4","v":16},{"$f":"Par!J13*5","v":42.5},null,{"$f":"SUM(F13:L13)","v":269.5},null,"9"]
["Kresten Roland Johansen - Troels Buus Thomsen",null,null,null,null,{"$f":"Intro!X20*4","v":44},{"$f":"'RR1'!U20*7","v":49},{"$f":"'Imp Par'!I18*5","v":70},{"$f":"'RR2'!U20*7","v":70},{"$f":"Slutspil!O21*4","v":12},{"$f":"Par!J10*5","v":30},null,{"$f":"SUM(F14:L14)","v":275},null,10,null,null,"  "]
["H K Sørensen - Niels Henriksen",null,null,null,null,{"$f":"Intro!X26*4","v":56},{"$f":"'RR1'!U12*7","v":70},{"$f":"'Imp Par'!I10*5","v":30},{"$f":"'RR2'!U12*7","v":56},{"$f":"Slutspil!O13*4","v":56},{"$f":"Par!J15*5","v":55},null,{"$f":"SUM(F15:L15)","v":323},null,11]
["Lars Peter Damgaard - Jørgen Pabst",null,null,null,null,{"$f":"Intro!X15*4","v":32},{"$f":"'RR1'!U17*7","v":98},{"$f":"'Imp Par'!I13*5","v":45},{"$f":"'RR2'!U17*7","v":98},{"$f":"Slutspil!O18*4","v":32},{"$f":"Par!J8*5","v":20},null,{"$f":"SUM(F16:L16)","v":325},null,12]
["Jens Kofoed - Johanne Bilde Kofoed",null,null,null,null,{"$f":"Intro!X23*4","v":36},{"$f":"'RR1'!U23*7","v":42},{"$f":"'Imp Par'!I17*5","v":65},{"$f":"'RR2'!U23*7","v":77},{"$f":"Slutspil!O24*4","v":40},{"$f":"Par!J19*5","v":75},null,{"$f":"SUM(F17:L17)","v":335},null,13]
["Jesper Bechsgaard - Anders Handberg Sørensen",null,null,null,null,{"$f":"Intro!X18*4","v":52},{"$f":"'RR1'!U27*7","v":91},{"$f":"'Imp Par'!I15*5","v":55},{"$f":"'RR2'!U27*7","v":84},{"$f":"Slutspil!O28*4","v":36},{"$f":"Par!J18*5","v":70},null,{"$f":"SUM(F18:L18)","v":388},null,14,null,"h"]
["Lida Hulgaard - Øjvind Hulgaard",null,null,null,null,{"$f":"Intro!X11*4","v":48},{"$f":"'RR1'!U26*7","v":84},{"$f":"'Imp Par'!I19*5","v":75},{"$f":"'RR2'!U26*7","v":112},{"$f":"Slutspil!O27*4","v":60},{"$f":"Par!J11*5","v":35},null,{"$f":"SUM(F19:L19)","v":414},null,15]
["Martin Klausen - Palle Jensen",null,null,null,null,{"$f":"Intro!X9*4","v":64},{"$f":"'RR1'!U21*7","v":112},{"$f":"'Imp Par'!I20*5","v":80},{"$f":"'RR2'!U21*7","v":105},{"$f":"Slutspil!O22*4","v":64},{"$f":"Par!J20*5","v":80},null,{"$f":"SUM(F20:L20)","v":505},null,16]

{"sheet":"Fremmøde","index":8,"n_rows":21,"n_cols":11,"rows_kept":21,"cut":false,"hidden":false,"merged":[[4,1,4,6]]}
["Fremmøde som samlet par"]
[]
[null,"Introhold","RR1","Imp","RR2","Slut","par",null,"Fremmøde%",null,"Fremmøde/antal"]
["Aftener:",4,7,5,7,4,5,null,null,null,32]
[null,"Fremmøde"]
["Camilla Bo Krefeld - Johan Hammelev",4,7,5,7,4,5,null,{"$f":"SUM(B6:G6)/$K$4%","v":100},null,{"$f":"SUM(B6:G6)","v":32}]
["Rikke Skov Mønsted - Nils Mønsted",4,7,4,7,4,5,null,{"$f":"SUM(B7:G7)/$K$4%","v":96.875},null,{"$f":"SUM(B7:G7)","v":31}]
["Lars Peter Damgaard - Jørgen Pabst",4,7,5,6,3,5,null,{"$f":"SUM(B8:G8)/$K$4%","v":93.75},null,{"$f":"SUM(B8:G8)","v":30}]
["Marlene Henneberg - J.O Henneberg",4,6,4,7,4,5,null,{"$f":"SUM(B9:G9)/$K$4%","v":93.75},null,{"$f":"SUM(B9:G9)","v":30}]
["Jørgen Cilleborg Hansen - Steen Schou",2,6,4,6,4,4,null,{"$f":"SUM(B10:G10)/$K$4%","v":81.25},null,{"$f":"SUM(B10:G10)","v":26}]
["Martin Klausen - Palle Jensen",3,6,2,7,3,5,null,{"$f":"SUM(B11:G11)/$K$4%","v":81.25},null,{"$f":"SUM(B11:G11)","v":26}]
["Lida Hulgaard - Øjvind Hulgaard",2,5,5,7,2,4,null,{"$f":"SUM(B12:G12)/$K$4%","v":78.125},null,{"$f":"SUM(B12:G12)","v":25}]
["Henrik Caspersen - Niels Krøjgaard",4,3,4,6,4,3,null,{"$f":"SUM(B13:G13)/$K$4%","v":75},null,{"$f":"SUM(B13:G13)","v":24}]
["Kresten Roland Johansen - Troels Buus Thomsen",3,4,5,5,3,4,null,{"$f":"SUM(B14:G14)/$K$4%","v":75},null,{"$f":"SUM(B14:G14)","v":24}]
["Stig Andersen - Ricardo Mirasola",4,6,3,3,3,4,null,{"$f":"SUM(B15:G15)/$K$4%","v":71.875},null,{"$f":"SUM(B15:G15)","v":23}]
["Jens Kofoed - Johanne Bilde Kofoed",4,4,3,4,4,4,null,{"$f":"SUM(B16:G16)/$K$4%","v":71.875},null,{"$f":"SUM(B16:G16)","v":23}]
["H K Sørensen - Niels Henriksen",1,5,5,7,3,1,null,{"$f":"SUM(B17:G17)/$K$4%","v":68.75},null,{"$f":"SUM(B17:G17)","v":22}]
["Jesper Bechsgaard - Anders Handberg Sørensen",3,1,4,7,3,3,null,{"$f":"SUM(B18:G18)/$K$4%","v":65.625},null,{"$f":"SUM(B18:G18)","v":21}]
["Morten Bilde - Søren Cilleborg Bilde",3,5,3,5,2,2,null,{"$f":"SUM(B19:G19)/$K$4%","v":62.5},null,{"$f":"SUM(B19:G19)","v":20}]
["Emil Jepsen - Dennis Bilde",1,3,1,6,1,4,null,{"$f":"SUM(B20:G20)/$K$4%","v":50},null,{"$f":"SUM(B20:G20)","v":16}]
["Søren Caspersen - Emil Buus Thomsen",4,3,3,4,0,0,null,{"$f":"SUM(B21:G21)/$K$4%","v":43.75},null,{"$f":"SUM(B21:G21)","v":14}]