{"text_format":"1","workbook":"xlsx","n_sheets":9,"sheets":["Intro","RR1","Imp Par","RR2","Hold i alt","Slutspil","Par","Grand prix","Fremmøde"],"not_rendered":{"charts":0,"images":0,"macros":0,"external_links":0,"defined_names":0,"comments":0,"pivot_tables":0},"unopened":[],"bounds":{"document_bytes":16777216,"sheet_cells":100000,"rows_first":2000,"rows_last":500,"rows_between":2000,"halvings":0,"cell_chars":16384,"cell_head_chars":4096},"cells_cut":0,"cells_raw":0,"read":"whole","date_system":"1900"}

{"sheet":"Intro","index":0,"n_rows":45,"n_cols":24,"rows_kept":45,"cut":false,"hidden":false,"merged":[[0,0,0,24]]}
[" Multi, intro hold"]
[]
[null,null,null,null,1,2,3,4,5,6,7,8,9,10,11,12,13,14,15,16,null,"Total",null,"Placering"]
[]
["Emil Jepsen - Peter Jepsen",null,null,null,6.06,5.88,13.72,14.66,11.94,8.51,12.58,4.58,14.33,12.07,14.24,12.6,10.79,3.54,12.6,6.03,null,{"$f":"AVERAGE(E5:T5)","v":10.258124999999998},null,8]
["Asger Bruhn - Per Ebdrup",null,null,null,11.65,16.63,5.81,10.43,8.2100000000000009,1.45,4.8499999999999996,11.59,8.93,12.29,0.85,8.0299999999999994,2.44,7.09,13.33,7.16,null,{"$f":"AVERAGE(E6:T6)","v":8.1712500000000006},null,15]
[]
["Jan Pedersen - Nils Mønsted",null,null,null,15.1,11.12,6.28,9.57,9.65,8.92,9.6,5.08,7.26,5.69,12.99,14.85,13.4,12.73,11.09,18.47,null,{"$f":"AVERAGE(E8:T8)","v":10.737499999999999},null,4]
["Ricardo Mirasola - Jan Kølbæk",null,null,null,17.05,8.7799999999999994,14.19,5.34,8.3699999999999992,8.51,5.68,11.14,9.0299999999999994,15.17,15.04,10.97,15.72,2.84,7.21,9.35,null,{"$f":"AVERAGE(E9:T9)","v":10.274374999999999},null,7]
[]
["Marlene Henneberg - J.O Henneberg",null,null,null,19.28,8.92,17.96,3.46,11.79,11.49,10.4,8.86,5.78,6.58,13.09,6.68,8.6999999999999993,7.9,4.83,1.21,null,{"$f":"AVERAGE(E11:T11)","v":9.1831250000000022},null,12]
["Nikolaj Krefeld Hammelev - Lars Peter Damgaard",null,null,null,9.66,8.6300000000000008,9.41,9.82,8.06,18.55,14.32,14.92,15.01,8.86,16.489999999999998,11.4,4.66,12.04,11.12,15.53,null,{"$f":"AVERAGE(E12:T12)","v":11.78},null,3]
[]
["Lida Hulgaard - Øjvind Hulgaard",null,null,null,3.65,18.989999999999998,12.89,17.22,10.74,7.32,7.42,8.41,12.74,4.83,6.91,8.6,7.74,6.02,15.17,4.47,null,{"$f":"AVERAGE(E14:T14)","v":9.5699999999999985},null,10]
["Camilla Bo Krefeld - Johan Hammelev",null,null,null,5.73,10.87,11.77,15.3,14.01,14.32,15.15,15.42,10.97,14.31,3.51,13.32,14.37,15.32,8.8800000000000008,17.79,null,{"$f":"AVERAGE(E15:T15)","v":12.565},null,1]
[]
["Henrik Caspersen - Niels Krøjgaard",null,null,null,16.350000000000001,9.1300000000000008,9.2100000000000009,9.93,9.1300000000000008,18.420000000000002,6.9,11.79,11.07,7.93,7.01,9.0299999999999994,11.3,7.96,2.72,8.75,null,{"$f":"AVERAGE(E17:T17)","v":9.7893750000000015},null,9]
["Martin Klausen - Palle Jensen",null,null,null,14.27,1.01,10.98,9.73,10.88,4.7699999999999996,6.93,5.98,5.67,7.71,4.96,5.15,15.34,12.1,5.86,4.67,null,{"$f":"AVERAGE(E18:T18)","v":7.8756249999999994},null,16]
[]
["Jesper Bechsgaard - Anders Handberg Sørensen",null,null,null,0.72,11.37,7.11,4.7,10.87,15.23,5.59,7.77,9.0299999999999994,5.85,19.149999999999999,7.4,4.28,7.27,7.4,12.84,null,{"$f":"AVERAGE(E20:T20)","v":8.536249999999999},null,14]
["Morten Bilde - Søren Cilleborg Bilde",null,null,null,10.34,11.08,8.23,2.78,9.1199999999999992,1.58,17.27,15.04,11.09,17.399999999999999,5.76,11.97,6.6,17.16,6.67,13.97,null,{"$f":"AVERAGE(E21:T21)","v":10.37875},null,6]
[]
["Jørgen Cilleborg Hansen - Steen Schou",null,null,null,2.95,8.8800000000000008,10.59,16.54,9.26,5.68,13.1,14.02,8.91,14.15,16.32,4.42,17.559999999999999,16.46,17.28,15.33,null,{"$f":"AVERAGE(E23:T23)","v":11.965625000000001},null,2]
["H K Sørensen - Niels Henriksen",null,null,null,4.9000000000000004,11.22,2.04,10.18,5.99,12.68,13.07,8.2100000000000009,10.97,2.6,8.3800000000000008,8.15,9.2100000000000009,12.91,14.14,11.25,null,{"$f":"AVERAGE(E24:T24)","v":9.1187499999999986},null,13]
[]
["Kresten Roland Johansen - Troels Buus Thomsen",null,null,null,13.94,3.37,10.79,10.27,11.63,11.08,14.41,4.96,4.99,13.42,3.68,11.85,5.63,13.98,12.79,1.53,null,{"$f":"AVERAGE(E26:T26)","v":9.2699999999999978},null,11]
["Jens Kofoed - Emil Buus Thomsen",null,null,null,8.35,14.12,9.02,10.07,10.35,11.49,2.73,12.23,14.22,11.14,11.62,15.58,12.26,4.68,8.91,10.65,null,{"$f":"AVERAGE(E27:T27)","v":10.463750000000001},null,5]
[]
[]
[]
[]
[]
[]
[]
[]
[]
[]
[]
[]
[]
[]
[]
[]
["Øjvind Hulgaard - Jesper Gad"]
["Niels Krøjgaard - Henrik Caspersen - H C Graversen"]

{"sheet":"RR1","index":1,"n_rows":27,"n_cols":21,"rows_kept":27,"cut":false,"hidden":false,"merged":[[0,0,0,21]]}
["Multi, RR1"]
[]
[null,null,null,null,1,2,3,4,5,6,7,8,9,10,11,12,13,14,null,"Total","Placering"]
[]
["Jan Pedersen - Nils Mønsted",null,null,null,7.2,8.1999999999999993,10.17,10.44,10.02,9.23,13.15,11.78,4.4400000000000004,4.63,16.079999999999998,3.84,11.36,10.68,null,{"$f":"AVERAGE(E5:R5)","v":9.3728571428571428},11]
["Camilla Bo Krefeld - Johan Hammelev",null,null,null,5.77,12.37,15.36,14.59,11.39,11.04,7.11,9.07,11.14,10.97,15.47,15.07,13.74,9.23,null,{"$f":"AVERAGE(E6:R6)","v":11.594285714285716},3]
[]
["Ricardo Mirasola - Jan Kølbæk",null,null,null,13.79,8.2799999999999994,4.6399999999999997,9.56,5.93,14.64,14.11,16.350000000000001,10,16.27,6.59,15.38,12.54,17.649999999999999,null,{"$f":"AVERAGE(E8:R8)","v":11.837857142857144},2]
["Marlene Henneberg - J.O Henneberg",null,null,null,10.41,8.83,9.83,5.41,13.02,15.03,14.36,16.12,3.44,11.62,15.3,1.99,17.100000000000001,13.47,null,{"$f":"AVERAGE(E9:R9)","v":11.137857142857143},5]
[]
["Lida Hulgaard - Øjvind Hulgaard",null,null,null,9.91,12.95,6.31,8.23,9.98,8.9600000000000009,5.89,3.88,3.4,11.79,10.97,14.71,5.84,12.61,null,{"$f":"AVERAGE(E11:R11)","v":8.9592857142857163},13]
["Jesper Bechsgaard - Anders Handberg Sørensen",null,null,null,9.41,15.51,11.25,7.15,8.61,10.77,5.64,3.65,7.5,7.67,4.7300000000000004,7.76,0.57999999999999996,13.75,null,{"$f":"AVERAGE(E12:R12)","v":8.1414285714285732},14]
[]
["Morten Bilde - Søren Cilleborg Bilde",null,null,null,8.3699999999999992,12.24,14.15,12.78,6.39,11.68,6.85,10.93,10,8.3800000000000008,15.27,5.29,7.96,9.1,null,{"$f":"AVERAGE(E14:R14)","v":9.956428571428571},10]
["Emil Jepsen - Peter Jepsen",null,null,null,6.92,6.04,17.64,12.36,5.82,17.28,12.89,8.2200000000000006,16.559999999999999,3.73,9.0299999999999994,12.24,9.64,13.59,null,{"$f":"AVERAGE(E15:R15)","v":10.854285714285714},6]
[]
["Jørgen Cilleborg Hansen - Steen Schou",null,null,null,11.63,13.96,11.2,16.170000000000002,18.38,16.899999999999999,17.28,15.09,15.56,9.0299999999999994,13.41,18.010000000000002,14.16,6.25,null,{"$f":"AVERAGE(E17:R17)","v":14.073571428571428},1]
["H K Sørensen - Niels Henriksen",null,null,null,13.08,7.76,7.96,13.53,13.24,9.1,15.18,9.73,8.86,15.37,4.7,4.62,19.420000000000002,7.39,null,{"$f":"AVERAGE(E18:R18)","v":10.709999999999999},7]
[]
["Asger Bruhn - Per Ebdrup",null,null,null,10.09,4.49,2.36,7.22,1.62,10.9,8.92,1.69,6.5,5.07,3.92,4.93,7.46,6.53,null,{"$f":"AVERAGE(E20:R20)","v":5.8357142857142863},16]
["Martin Klausen - Palle Jensen",null,null,null,10.59,7.05,5.85,7.64,6.76,3.1,5.23,9.9700000000000006,2.5299999999999998,7.51,4.53,16.16,2.9,2.35,null,{"$f":"AVERAGE(E21:R21)","v":6.5835714285714291},15]
[]
["Nikolaj Krefeld Hammelev - Lars Peter Damgaard",null,null,null,9.59,11.72,8.75,11.77,13.62,2.72,4.82,4.91,17.47,14.93,8.1300000000000008,3.46,6.26,9.32,null,{"$f":"AVERAGE(E23:R23)","v":9.1049999999999986},12]
["Kresten Roland Johansen - Troels Buus Thomsen",null,null,null,6.21,11.17,13.69,12.85,14.18,8.32,2.72,10.27,13.5,12.49,9.99,12.56,8.64,10.77,null,{"$f":"AVERAGE(E24:R24)","v":10.525714285714285},8]
[]
["Henrik Caspersen - Niels Krøjgaard",null,null,null,14.23,11.8,12.04,3.83,6.98,5.36,11.08,10.029999999999999,16.600000000000001,12.33,11.87,7.44,12.04,6.41,null,{"$f":"AVERAGE(E26:R26)","v":10.145714285714286},9]
["Jens Kofoed - Emil Buus Thomsen",null,null,null,12.8,7.63,8.8000000000000007,6.47,14.07,4.97,14.77,18.309999999999999,12.5,8.2100000000000009,10.01,16.54,10.36,10.9,null,{"$f":"AVERAGE(E27:R27)","v":11.167142857142858},4]

{"sheet":"Imp Par","index":2,"n_rows":21,"n_cols":9,"rows_kept":21,"cut":false,"hidden":false,"merged":[[0,0,0,8]]}
["IMP Par"]
[]
[]
[null,1,2,3,4,5,null,null,"Placering"]
["H K Sørensen - Niels Henriksen",41.9,55,52.8,36.9,5.9,null,{"$f":"SUM(B5:F5)","v":192.5},1]
["Henrik Caspersen - Niels Krøjgaard",13.1,53.6,24,20.7,41.4,null,152.80000000000001,2]
["Nikolaj Krefeld Hammelev - Lars Peter Damgaard",8,30.4,7.3,18.7,8.9,null,73.3,3]
["Jens Kofoed - Emil Buus Thomsen",-0.4,45.4,50.9,-14.6,-24.3,null,57.000000000000014,4]
["Emil Jepsen - Peter Jepsen",-5,-21.1,15.2,37.5,14.4,null,41,5]
["Camilla Bo Krefeld - Johan Hammelev",-26.2,21.3,10.9,-0.1,22,null,27.900000000000002,6]
["Ricardo Mirasola - Jan Kølbæk",-4.2,0.9,-10.3,19.7,10.199999999999999,null,16.299999999999997,7]
["Jørgen Cilleborg Hansen - Steen Schou",14.6,-31.9,37.200000000000003,-15.8,5,null,9.100000000000005,8]
["Jan Pedersen - Nils Mønsted",-17.100000000000001,33.4,-38.200000000000003,1.3,2.7,null,-17.900000000000006,9]
["Marlene Henneberg - J.O Henneberg",-2.2999999999999998,-25.8,-48.9,28,25.1,null,-23.9,10]
["Kresten Roland Johansen - Troels Buus Thomsen",-17.399999999999999,0.7,28,-26.7,-17.899999999999999,null,-33.299999999999997,11]
["Morten Bilde - Søren Cilleborg Bilde",-25.9,9.3000000000000007,-12.3,4.5999999999999996,-23.4,null,-47.699999999999996,12]
["Lida Hulgaard - Øjvind Hulgaard",9,7.1,-46.4,-24.6,6.3,null,-48.6,13]
["Jesper Bechsgaard - Anders Handberg Sørensen",38.4,-100.8,8.5,17.899999999999999,-57.4,null,-93.4,14]
["Asger Bruhn - Per Ebdrup",-10,-53.9,-18.7,-57.7,20.6,null,-119.70000000000002,15]
["Martin Klausen - Palle Jensen",-16.5,-23.6,-60.3,-45.6,-39.4,null,-185.4,16]
[null,{"$f":"SUM(B5:B20)","v":0},{"$f":"SUM(C5:C20)","v":0},-0.29999999999998295,0.19999999999999574,0.10000000000000142,null,{"$f":"SUM(H5:H20)","v":0}]

{"sheet":"RR2","index":3,"n_rows":27,"n_cols":21,"rows_kept":27,"cut":false,"hidden":false,"merged":[[0,0,0,21]]}
[" Multi, RR2"]
[]
[null,null,null,null,1,2,3,4,5,6,7,8,9,10,11,12,13,14,null,"Total","Placering"]
[]
["Jan Pedersen - Nils Mønsted",null,null,null,16.66,12.43,15.38,10.02,10.34,9.2200000000000006,4.41,4.12,15.5,14.37,5.17,13.3,8.9499999999999993,6.15,null,{"$f":"AVERAGE(E5:R5)","v":10.430000000000001},7]
["Camilla Bo Krefeld - Johan Hammelev",null,null,null,9.44,17.71,5.44,7.25,10.33,9.2799999999999994,8.17,4.49,15.31,15.19,13.44,10.67,13.92,14.38,null,{"$f":"AVERAGE(E6:R6)","v":11.072857142857142},4]
[]
["Ricardo Mirasola - Jan Kølbæk",null,null,null,15.31,11.95,4.62,12.75,4.57,7.04,11.25,2.2200000000000002,16.739999999999998,7.97,12.28,13.65,19.23,14.72,null,{"$f":"AVERAGE(E8:R8)","v":11.02142857142857},5]
["Marlene Henneberg - J.O Henneberg",null,null,null,4.7,9.73,14.56,9.98,6.55,16.75,2.95,9.65,9.2899999999999991,5.8,10.14,7.48,6.56,12,null,{"$f":"AVERAGE(E9:R9)","v":9.01},13]
[]
["Lida Hulgaard - Øjvind Hulgaard",null,null,null,3.34,2.29,13.27,5.19,10.06,5.54,12.87,9.39,5.48,4.57,6.13,6.65,0.77,8,null,{"$f":"AVERAGE(E11:R11)","v":6.6821428571428569},16]
["Jesper Bechsgaard - Anders Handberg Sørensen",null,null,null,10.56,7.57,11.89,8.26,14.68,18.079999999999998,13.03,10.73,5.9,12.25,16.37,1.6,13.44,5.28,null,{"$f":"AVERAGE(E12:R12)","v":10.688571428571427},6]
[]
["Morten Bilde - Søren Cilleborg Bilde",null,null,null,5.21,6.99,6.73,11.74,15.43,3.25,15.59,15.51,5.66,6.81,13.99,17.579999999999998,8.8800000000000008,12.15,null,{"$f":"AVERAGE(E14:R14)","v":10.394285714285715},8]
["Emil Jepsen - Peter Jepsen",null,null,null,15.15,5.38,8.11,14.81,13.45,12.96,11.83,15.88,12.89,13.15,13.83,19.079999999999998,12.38,"8.32",null,{"$f":"AVERAGE(E15:R15)","v":12.992307692307694},1]
[]
["Jørgen Cilleborg Hansen - Steen Schou",null,null,null,4.6900000000000004,10.27,17.57,6.93,9.67,10.78,6.72,12.67,7.11,13.19,13.87,18.399999999999999,15.61,12.73,null,{"$f":"AVERAGE(E17:R17)","v":11.443571428571429},2]
["H K Sørensen - Niels Henriksen",null,null,null,15.3,8.0500000000000007,12.47,5.59,9.66,10.72,11.42,6.21,14.34,6.85,3.63,13.35,11.42,14.41,null,{"$f":"AVERAGE(E18:R18)","v":10.244285714285711},9]
[]
["Asger Bruhn - Per Ebdrup",null,null,null,11.87,5.85,6.21,5.56,5.32,14.46,8.75,10.35,4.5,4.8099999999999996,6.01,0.92,8.58,7.27,null,{"$f":"AVERAGE(E20:R20)","v":7.1757142857142862},15]
["Martin Klausen - Palle Jensen",null,null,null,3.98,7.3,9.67,6.6,9.94,1.92,17.05,17.78,4.6900000000000004,5.63,6.17,2.42,4.3899999999999997,5.59,null,{"$f":"AVERAGE(E21:R21)","v":7.3664285714285711},14]
[]
["Nikolaj Krefeld Hammelev - Lars Peter Damgaard",null,null,null,4.8499999999999996,13.01,10.33,14.44,8.8699999999999992,10.23,13.28,13.79,14.1,15.43,7.72,12.52,6.08,13.85,null,{"$f":"AVERAGE(E23:R23)","v":11.321428571428571},3]
["Kresten Roland Johansen - Troels Buus Thomsen",null,null,null,14.79,14.62,13.79,13.4,6.21,7.37,8.58,7.33,14.52,7.75,9.86,6.35,11.05,5.62,null,{"$f":"AVERAGE(E24:R24)","v":10.088571428571427},12]
[]
["Henrik Caspersen - Niels Krøjgaard",null,null,null,8.1300000000000008,12.7,2.4300000000000002,14.41,11.13,12.63,7.13,9.27,3.26,14.2,14.83,9.33,11.12,11.68,null,{"$f":"AVERAGE(E26:R26)","v":10.160714285714286},11]
["Jens Kofoed - Emil Buus Thomsen",null,null,null,16.02,14.15,7.53,13.07,13.79,9.77,6.97,10.61,10.71,12.03,6.56,6.7,7.62,7.85,null,{"$f":"AVERAGE(E27:R27)","v":10.241428571428571},10]

{"sheet":"Hold i alt","index":4,"n_rows":14,"n_cols":5,"rows_kept":14,"cut":false,"hidden":false,"merged":[[0,0,0,5]]}
["Klub 32 - Hold 2023/24"]
[]
[]
[]
[null,"RR1","RR2","Total","Placering"]
["Steen Schou",117.35,87.28,{"$f":"SUM(B6:C6)","v":204.63},1]
["Marlene Henneberg",91.02,76.489999999999995,167.51,2]
["Morten Bilde",74.88,87.63,162.51,3]
["Nils Mønsted",76.180000000000007,82.14,158.32,4]
["Henrik Caspersen",83.54,66.44,149.98000000000002,5]
["Nikolaj Krefeld Hammelev",61.39,80.16,141.55000000000001,6]
["Lida Hulgaard",44.09,48.29,92.38,7]
["Per Ebdrup",11.55,31.57,43.120000000000005,8]
[null," "]

{"sheet":"Slutspil","index":5,"n_rows":28,"n_cols":15,"rows_kept":28,"cut":false,"hidden":false,"merged":[[0,0,0,14],[1,3,1,10]]}
["SLUTSPIL"]
[]
[]
[null,null,null,null,1,2,3,4,5,6,7,8,null,"Total","Placering"]
[]
["Jan Pedersen - Nils Mønsted",null,null,null,12.58,9.5299999999999994,9.7100000000000009,3.06,10.6,14.12,15.42,14.58,null,{"$f":"AVERAGE(E6:L6)","v":11.2},3]
["Camilla Bo Krefeld - Johan Hammelev",null,null,null,7.74,12.06,8.56,11.42,8.17,10.55,11.08,16.329999999999998,null,{"$f":"AVERAGE(E7:L7)","v":10.73875},5]
[]
["Ricardo Mirasola - Jan Kølbæk",null,null,null,8.7100000000000009,15.07,7.76,5.49,13.56,3.59,11.69,7.55,null,{"$f":"AVERAGE(E9:L9)","v":9.1775000000000002},12]
["Marlene Henneberg - J.O Henneberg",null,null,null,11.68,7.58,12.85,11.09,13.78,5.31,10.15,15.33,null,10.971250000000001,4]
[]
["Lida Hulgaard - Øjvind Hulgaard",null,null,null,13.55,16.96,7.23,14.49,9.1300000000000008,11.62,9.65,11.08,null,{"$f":"AVERAGE(E12:L12)","v":11.713750000000001},2]
["Jesper Bechsgaard - Anders Handberg Sørensen",null,null,null,17.2,11.88,3.36,5.4,12.94,10.46,11.84,12.2,null,10.66,6]
[]
["Morten Bilde - Søren Cilleborg Bilde",null,null,null,12.26,10.47,10.29,8.58,6.44,14.69,9.85,12.45,null,{"$f":"AVERAGE(E15:L15)","v":10.628749999999998},7]
["Emil Jepsen - Peter Jepsen",null,null,null,7.42,7.94,11.44,16.940000000000001,6.22,16.41,8.31,4.67,null,9.9187499999999993,11]
[]
["Jørgen Cilleborg Hansen - Steen Schou",null,null,null,11.29,12.42,12.24,8.91,9.4,9.4499999999999993,8.92,8.42,null,{"$f":"AVERAGE(E18:L18)","v":10.13125},10]
["H K Sørensen - Niels Henriksen",null,null,null,8.32,4.93,7.15,14.51,11.83,5.88,4.58,3.67,null,7.6087499999999997,15.5]
[]
["Asger Bruhn - Per Ebdrup",null,null,null,10.87,10.34,7.74,1.1399999999999999,2.59,8.02,14.05,10.1,null,{"$f":"AVERAGE(E21:L21)","v":8.1062499999999993},14]
["Martin Klausen - Palle Jensen",null,null,null,5.35,10.46,5.37,12.99,9.0500000000000007,8.7200000000000006,5.98,2.95,null,7.6087500000000006,15.5]
[]
["Nikolaj Krefeld Hammelev - Lars Peter Damgaard",null,null,null,6.45,8.1199999999999992,16.64,5.51,10.95,11.98,14.02,9.9,null,{"$f":"AVERAGE(E24:L24)","v":10.446250000000001},9]
["Kresten Roland Johansen - Troels Buus Thomsen",null,null,null,2.8,3.04,12.77,14.6,17.41,11.28,5.95,17.05,null,10.612500000000001,8]
[]
["Henrik Caspersen - Niels Krøjgaard",null,null,null,9.1300000000000008,9.5399999999999991,12.26,7.01,7.06,8.3800000000000008,10.35,7.8,null,{"$f":"AVERAGE(E27:L27)","v":8.9412500000000001},13]
["Jens Kofoed - Emil Buus Thomsen",null,null,null,14.65,9.66,14.63,18.86,10.87,9.5399999999999991,8.16,8.92,null,11.911250000000001,1]

{"sheet":"Par","index":6,"n_rows":22,"n_cols":10,"rows_kept":22,"cut":false,"hidden":false,"merged":[[0,0,0,7]]}
["Par"]
[]
[null,"1.aften","2.aften","3.aften","4.aften","5.aften",null,"Sum",null,"Placering"]
[]
[null,null,null,null,null,null,null,{"$f":"SUM(B5:G5)","v":0}]
[null,null,null,null,null,null,null,0]
[null,null,null,null,null,null,null,0]
[null,null,null,null,null,null,null,0]
[null,null,null,null,null,null,null,0]
[null,null,null,null,null,null,null,0]
[null,null,null,null,null,null,null,0]
[null,null,null,null,null,null,null,0]
[null,null,null,null,null,null,null,0]
[null,null,null,null,null,null,null,0]
[null,null,null,null,null,null,null,0]
[null,null,null,null,null,null,null,0]
[null,null,null,null,null,null,null,0]
[null,null,null,null,null,null,null,0]
[null,null,null,null,null,null,null,0]
[null,null,null,null,null,null,null,0]
[]
[null,{"$f":"SUM(B5:B21)","v":0},{"$f":"SUM(C5:C21)","v":0},{"$f":"SUM(D5:D21)","v":0},0,0,null,0]

{"sheet":"Grand prix","index":7,"n_rows":20,"n_cols":18,"rows_kept":20,"cut":false,"hidden":false,"merged":[[0,0,0,15]]}
["Grand prix klub 32 (2023-2024)"]
[]
[null,null,null,null,null,"Intro hold","RR 1","IMP1","RR2","Slutspil","Par",null,"Total",null,"Placering"]
[]
["Camilla Bo Krefeld - Johan Hammelev",null,null,null,null,{"$f":"Intro!X15*4","v":4},{"$f":"'RR1'!U6*7","v":21},{"$f":"'Imp Par'!I10*5","v":30},{"$f":"'RR2'!U6*7","v":28},{"$f":"Slutspil!O7*4","v":20},null,null,{"$f":"SUM(F5:L5)","v":103},null,1]
["Jørgen Cilleborg Hansen - Steen Schou",null,null,null,null,{"$f":"Intro!X23*4","v":8},{"$f":"'RR1'!U17*7","v":7},{"$f":"'Imp Par'!I12*5","v":40},{"$f":"'RR2'!U17*7","v":14},{"$f":"Slutspil!O18*4","v":40},null,null,{"$f":"SUM(F6:L6)","v":109},null,"2"]
["Jens Kofoed - Emil Buus Thomasn",null,null,null,null,{"$f":"Intro!X27*4","v":20},{"$f":"'RR1'!U27*7","v":28},{"$f":"'Imp Par'!I8*5","v":20},{"$f":"'RR2'!U27*7","v":70},{"$f":"Slutspil!O28*4","v":4},null,null,{"$f":"SUM(F7:L7)","v":142},null,3]
["Emil Jepsen - Peter Jepsen",null,null,null,null,{"$f":"Intro!X5*4","v":32},{"$f":"'RR1'!U15*7","v":42},{"$f":"'Imp Par'!I9*5","v":25},{"$f":"'RR2'!U15*7","v":7},{"$f":"Slutspil!O16*4","v":44},null,null,{"$f":"SUM(F8:L8)","v":150},null,4]
["Ricardo Mirasola - Jan Kølbæk",null,null,null,null,{"$f":"Intro!X9*4","v":28},{"$f":"'RR1'!U8*7","v":14},{"$f":"'Imp Par'!I11*5","v":35},{"$f":"'RR2'!U8*7","v":35},{"$f":"Slutspil!O9*4","v":48},null,null,{"$f":"SUM(F9:L9)","v":160},null,"5"]
["Nikolaj Krefeld Hammelev - Lars Peter Damgaard",null,null,null,null,{"$f":"Intro!X12*4","v":12},{"$f":"'RR1'!U23*7","v":84},{"$f":"'Imp Par'!I7*5","v":15},{"$f":"'RR2'!U23*7","v":21},{"$f":"Slutspil!O24*4","v":36},null,null,{"$f":"SUM(F10:L10)","v":168},null,6]
["Jan Pedersen - Nils Mønsted",null,null,null,null,{"$f":"Intro!X8*4","v":16},{"$f":"'RR1'!U5*7","v":77},{"$f":"'Imp Par'!I13*5","v":45},{"$f":"'RR2'!U5*7","v":49},{"$f":"Slutspil!O6*4","v":12},null,null,{"$f":"SUM(F11:L11)","v":199},null,7]
["H K Sørensen - Niels Henriksen",null,null,null,null,{"$f":"Intro!X24*4","v":52},{"$f":"'RR1'!U18*7","v":49},{"$f":"'Imp Par'!I5*5","v":5},{"$f":"'RR2'!U18*7","v":63},{"$f":"Slutspil!O19*4","v":62},null,null,{"$f":"SUM(F12:L12)","v":231},null,"8"]
["Morten Bilde - Søren Cilleborg Bilde",null,null,null,null,{"$f":"Intro!X21*4","v":24},{"$f":"'RR1'!U14*7","v":70},{"$f":"'Imp Par'!I16*5","v":60},{"$f":"'RR2'!U14*7","v":56},{"$f":"Slutspil!O15*4","v":28},null,null,{"$f":"SUM(F13:L13)","v":238},null,"9"]
["Henrik Caspersen - Niels Krøjgaard",null,null,null,null,{"$f":"Intro!X17*4","v":36},{"$f":"'RR1'!U26*7","v":63},{"$f":"'Imp Par'!I6*5","v":10},{"$f":"'RR2'!U26*7","v":77},{"$f":"Slutspil!O27*4","v":52},null,null,{"$f":"SUM(F14:L14)","v":238},null,10,null,null,"  "]
["Marlene Henneberg - J.O Henneberg",null,null,null,null,{"$f":"Intro!X11*4","v":48},{"$f":"'RR1'!U9*7","v":35},{"$f":"'Imp Par'!I14*5","v":50},{"$f":"'RR2'!U9*7","v":91},{"$f":"Slutspil!O10*4","v":16},null,null,{"$f":"SUM(F15:L15)","v":240},null,11]
["Kresten Roland Johansen - Troels Buus Thomsen",null,null,null,null,{"$f":"Intro!X26*4","v":44},{"$f":"'RR1'!U24*7","v":56},{"$f":"'Imp Par'!I15*5","v":55},{"$f":"'RR2'!U24*7","v":84},{"$f":"Slutspil!O25*4","v":32},null,null,{"$f":"SUM(F16:L16)","v":271},null,12]
["Jesper Bechsgaard - Anders Handberg Sørensen",null,null,null,null,{"$f":"Intro!X20*4","v":56},{"$f":"'RR1'!U12*7","v":98},{"$f":"'Imp Par'!I18*5","v":70},{"$f":"'RR2'!U12*7","v":42},{"$f":"Slutspil!O13*4","v":24},null,null,{"$f":"SUM(F17:L17)","v":290},null,13]
["Lida Hulgaard - Øjvind Hulgaard",null,null,null,null,{"$f":"Intro!X14*4","v":40},{"$f":"'RR1'!U11*7","v":91},{"$f":"'Imp Par'!I17*5","v":65},{"$f":"'RR2'!U11*7","v":112},{"$f":"Slutspil!O12*4","v":8},null,null,{"$f":"SUM(F18:L18)","v":316},null,14]
["Asger Bruhn - Per Ebdrup",null,null,null,null,{"$f":"Intro!X6*4","v":60},{"$f":"'RR1'!U20*7","v":112},{"$f":"'Imp Par'!I19*5","v":75},{"$f":"'RR2'!U20*7","v":105},{"$f":"Slutspil!O21*4","v":56},null,null,{"$f":"SUM(F19:L19)","v":408},null,15]
["Martin Klausen - Palle Jensen",null,null,null,null,{"$f":"Intro!X18*4","v":64},{"$f":"'RR1'!U21*7","v":105},{"$f":"'Imp Par'!I20*5","v":80},{"$f":"'RR2'!U21*7","v":98},{"$f":"Slutspil!O22*4","v":62},null,null,{"$f":"SUM(F20:L20)","v":409},null,16]

{"sheet":"Fremmøde","index":8,"n_rows":21,"n_cols":11,"rows_kept":21,"cut":false,"hidden":false,"merged":[[4,1,4,6]]}
["Fremmøde som samlet par"]
[]
[null,"Introhold","RR1","Imp","RR2","Slut","par",null,"Fremmøde%",null,"Fremmøde/antal"]
["Aftener:",4,7,5,7,4,5,null,null,null,12]
[null,"Fremmøde"]
["Ricardo Mirasola - Jan Kølbæk",4,7,1,null,null,null,null,{"$f":"SUM(B6:G6)/$K$4%","v":100},null,{"$f":"SUM(B6:G6)","v":12}]
["Marlene Henneberg - J.O Henneberg",4,7,1,null,null,null,null,100,null,12]
["Camilla Bo Krefeld - Johan Hammelev",4,7,1,null,null,null,null,100,null,12]
["Jan Pedersen - Nils Mønsted",4,6,1,null,null,null,null,91.666666666666671,null,11]
["Kresten Roland Johansen - Troels Buus Thomsen",4,6,1,null,null,null,null,91.666666666666671,null,11]
["Emil Jepsen - Peter Jepsen",4,6,1,null,null,null,null,91.666666666666671,null,11]
["Asger Bruhn - Per Ebdrup",4,6,1,null,null,null,null,91.666666666666671,null,11]
["Lida Hulgaard - Øjvind Hulgaard",4,5,1,null,null,null,null,83.333333333333343,null,10]
["Henrik Caspersen - Niels Krøjgaard",4,5,1,null,null,null,null,83.333333333333343,null,10]
["H K Sørensen - Niels Henriksen",4,5,1,null,null,null,null,83.333333333333343,null,10]
["Jørgen Cilleborg Hansen - Steen Schou",2,7,1,null,null,null,null,83.333333333333343,null,10]
["Morten Bilde - Søren Cilleborg Bilde",3,5,1,null,null,null,null,75,null,9]
["Jens Kofoed - Emil Buus Thomasn",3,5,1,null,null,null,null,75,null,9]
["Martin Klausen - Palle Jensen",2,6,1,null,null,null,null,75,null,9]
["Jesper Bechsgaard - Anders Handberg Sørensen",1,6,1,null,null,null,null,66.666666666666671,null,8]
["Nikolaj Krefeld Hammelev - Lars Peter Damgaard",2,5,1,null,null,null,null,66.666666666666671,null,8]