Workbook

Sheet Intro
A1: Multi, intro hold
E3: 1 | F3: 2 | G3: 3 | H3: 4 | I3: 5 | J3: 6 | K3: 7 | L3: 8 | M3: 9 | N3: 10 | O3: 11 | P3: 12 | Q3: 13 | R3: 14 | S3: 15 | T3: 16 | V3: Total | X3: Placering
A5: Camilla Bo Krefeld - Johan Hammelev | E5: 1 | F5: 16.52 | G5: 8.07 | H5: 11.4 | I5: 17.88 | J5: 14.4 | K5: 13.36 | L5: 6.28 | M5: 7.83 | N5: 4.16 | O5: 16.23 | P5: 12.1 | Q5: 12.63 | R5: 8.29 | S5: 13.8 | T5: 12.58 | V5: =AVERAGE(E5:T5) -> 11.033125 | X5: 3
A6: Philip Krefeld Hammelev - Lars Peter Damgaard | E6: 5.06 | F6: 2.92 | G6: 6.54 | H6: 16.21 | I6: 8.48 | J6: 9.98 | K6: 13.29 | L6: 10.76 | M6: 15.18 | N6: 6.61 | O6: 12.59 | P6: 11.68 | Q6: 14.62 | R6: 3.9 | S6: 3.35 | T6: 5.98 | V6: =AVERAGE(E6:T6) -> 9.196875 | X6: 11
A8: Jesper Bechsgaard - Anders Handberg Sørensen | E8: 3.34 | F8: 10.68 | G8: 11.93 | H8: 3.79 | I8: 10.45 | J8: 13.02 | K8: 7.65 | L8: 5.76 | M8: 4.68 | N8: 12.45 | O8: 11.99 | P8: 6.1 | Q8: 12.57 | R8: 3.33 | S8: 15.7 | T8: 9.02 | V8: =AVERAGE(E8:T8) -> 8.90375 | X8: 13
A9: Nikolaj Krefeld Hammelev - Morten Bilde - Søren Cilleborg Bilde | E9: 6.65 | F9: 13.71 | G9: 13.46 | H9: 8.6 | I9: 10.6 | J9: 13.51 | K9: 4.55 | L9: 13.81 | M9: 9.35 | N9: 6.12 | O9: 8.09 | P9: 15.3 | Q9: 4.58 | R9: 16.22 | S9: 11.74 | T9: 18.15 | V9: =AVERAGE(E9:T9) -> 10.9025 | X9: 5
A11: Martin Klausen - Palle Jensen | E11: 15.83 | F11: 5.52 | G11: 14.08 | H11: 8.22 | I11: 2.12 | J11: 10.02 | K11: 12.35 | L11: 6.19 | M11: 18.42 | N11: 12.96 | O11: 10.57 | P11: 5.33 | Q11: 5.72 | R11: 6.8 | S11: 16.65 | T11: 7.42 | V11: =AVERAGE(E11:T11) -> 9.8875 | X11: 10
A12: Henrik Caspersen - Niels Krøjgaard | E12: 10.02 | F12: 12.78 | G12: 12.81 | H12: 6.48 | I12: 11.52 | J12: 5.6 | K12: 15.45 | L12: 14.24 | M12: 5.62 | N12: 14.94 | O12: 5.42 | P12: 15.43 | Q12: 7.45 | R12: 11.85 | S12: 6.2 | T12: 14.02 | V12: =AVERAGE(E12:T12) -> 10.614375 | X12: 6
A14: Jan Pedersen - Nils Mønsted | E14: 15.02 | F14: 9.69 | G14: 13.43 | H14: 8.04 | I14: 12.19 | J14: 9.06 | K14: 6.64 | L14: 9.24 | M14: 15.32 | N14: 13.88 | O14: 14.58 | P14: 14.67 | Q14: 16.16 | R14: 10.16 | S14: 13.31 | T14: 16.28 | V14: =AVERAGE(E14:T14) -> 12.354375 | X14: 1
A15: Asger Bruhn - Benny Marquart | E15: 13.46 | F15: 13 | G15: 4.11 | H15: 10.35 | I15: 7.67 | J15: 14.93 | K15: 6.71 | L15: 13.72 | M15: 10.65 | N15: 7.55 | O15: 9.43 | P15: 4.57 | Q15: 8.44 | R15: 6.71 | S15: 4.1 | T15: 8.89 | V15: =AVERAGE(E15:T15) -> 9.018125 | X15: 12
A17: Emil Jepsen - Peter Jepsen | E17: 4.98 | F17: 7 | G17: 15.75 | H17: 12.58 | I17: 6.85 | J17: 9.42 | K17: 3.07 | L17: 7.96 | M17: 12.17 | N17: 13.39 | O17: 11.91 | P17: 13.9 | Q17: 12.55 | R17: 13.2 | S17: 7.17 | T17: 16.92 | V17: =AVERAGE(E17:T17) -> 10.55125 | X17: 8
A18: Kresten Roland Johansen - Troels Buus Thomsen | E18: 6.54 | F18: 10.31 | G18: 6.68 | H18: 17.96 | I18: 1.82 | J18: 7.48 | K18: 1.5 | L18: 8.87 | M18: 4.82 | N18: 15.84 | O18: 8.01 | P18: 4.7 | Q18: 14.28 | R18: 8.15 | S18: 12.38 | T18: 8.57 | V18: =AVERAGE(E18:T18) -> 8.619375 | X18: 15
A20: Henrik Schmidt - Lars Ugilt Jensen | E20: 4.17 | F20: 7.22 | G20: 15.89 | H20: 11.96 | I20: 18.18 | J20: 10.58 | K20: 9.39 | L20: 1.62 | M20: 5.39 | N20: 17.13 | O20: 7.41 | P20: 7.9 | Q20: 7.43 | R20: 3.78 | S20: 7.62 | T20: 3.08 | V20: =AVERAGE(E20:T20) -> 8.671875 | X20: 14
A21: Jørgen Cilleborg Hansen - Steen Schou | E21: 9.98 | F21: 14.48 | G21: 6.57 | H21: 9.65 | I21: 13.15 | J21: 12.52 | K21: 10.99 | L21: 15.04 | M21: 6.17 | N21: 11.27 | O21: 3.77 | P21: 8.32 | Q21: 15.42 | R21: 16.67 | S21: 12.83 | T21: 11.43 | V21: =AVERAGE(E21:T21) -> 11.14125 | X21: 2
... A27: Ricardo Mirasola - Jan Kølbæk | E27: 19 | F27: 17.08 | G27: 4.25 | H27: 2.04 | I27: 9.4 | J27: 6.98 | K27: 9.01 | L27: 18.38 | M27: 14.38 | N27: 7.04 | O27: 11.45 | P27: 9.77 | Q27: 11.56 | R27: 9.84 | S27: 8.26 | T27: 10.98 | V27: =AVERAGE(E27:T27) -> 10.58875 | X27: 7

Sheet RR1
A1: Multi, RR1
E3: 1 | F3: 2 | G3: 3 | H3: 4 | I3: 5 | J3: 6 | K3: 7 | L3: 8 | M3: 9 | N3: 10 | O3: 11 | P3: 12 | Q3: 13 | R3: 14 | T3: Total | U3: Placering
A5: Kresten Roland Johansen - Troels Buus Thomsen | E5: 6.69 | F5: 4.71 | G5: 8.48 | H5: 3.59 | T5: =AVERAGE(E5:R5) -> 5.8675 | U5: 16
A6: Philip Krefeld Hammelev - Lars Peter Damgaard | E6: 7.64 | F6: 7.29 | G6: 9.09 | H6: 7.07 | T6: =AVERAGE(E6:R6) -> 7.7725 | U6: 12
A8: Ricardo Mirasola - Jan Kølbæk | E8: 11.92 | F8: 14.74 | G8: 11.52 | H8: 12.93 | T8: =AVERAGE(E8:R8) -> 12.7775 | U8: 3
A9: Marlene Henneberg - J.O Henneberg | E9: 15.89 | F9: 8.91 | G9: 10.91 | H9: 16.41 | T9: =AVERAGE(E9:R9) -> 13.03 | U9: 2
A11: Lida Hulgaard - Øjvind Hulgaard | E11: 14.59 | F11: 4.45 | G11: 12.07 | H11: 17.27 | T11: =AVERAGE(E11:R11) -> 12.095 | U11: 4
A12: Jesper Bechsgaard - Anders Handberg Sørensen | E12: 5.9 | F12: 6.42 | G12: 15.53 | H12: 12.08 | T12: =AVERAGE(E12:R12) -> 9.9825 | U12: 10
A14: Martin Klausen - Palle Jensen | E14: 6.63 | F14: 7.27 | G14: 3.01 | H14: 7.76 | T14: =AVERAGE(E14:R14) -> 6.1675 | U14: 15
A15: Asger Bruhn - Benny Marquart | E15: 10.41 | F15: 8.55 | G15: 2.85 | H15: 9.61 | T15: =AVERAGE(E15:R15) -> 7.855 | U15: 11
A17: Jørgen Cilleborg Hansen - Steen Schou | E17: 13.37 | F17: 11.45 | G17: 9.88 | H17: 11.89 | T17: =AVERAGE(E17:R17) -> 11.6475 | U17: 6
A18: Henrik Schmidt - Lars Ugilt Jensen | E18: 9.59 | F18: 12.73 | G18: 12.88 | H18: 8.32 | T18: =AVERAGE(E18:R18) -> 10.88 | U18: 8
A20: Henrik Caspersen - Niels Krøjgaard | E20: 5.41 | F20: 13.58 | G20: 16.99 | H20: 10.39 | T20: =AVERAGE(E20:R20) -> 11.5925 | U20: 7
A21: Jens Kofoed - Emil Buus Thomsen | E21: 14.1 | F21: 15.55 | G21: 17.15 | H21: 12.24 | T21: =AVERAGE(E21:R21) -> 14.76 | U21: 1
... A27: Nikolaj Krefeld Hammelev - Morten Bilde - Søren Cilleborg Bilde | E27: 12.36 | F27: 15.29 | G27: 7.12 | H27: 8.11 | T27: =AVERAGE(E27:R27) -> 10.72 | U27: 9

Sheet Imp Par
A1: IMP Par
B4: 1 | C4: 2 | D4: 3 | E4: 4 | F4: 5 | I4: Placering
H5: =SUM(B5:F5) -> 0 | I5: 1
H6: =SUM(B6:F6) -> 0 | I6: 2
H7: =SUM(B7:F7) -> 0 | I7: 3
H8: =SUM(B8:F8) -> 0 | I8: 4
H9: =SUM(B9:F9) -> 0 | I9: 5
H10: =SUM(B10:F10) -> 0 | I10: 6
H11: =SUM(B11:F11) -> 0 | I11: 7
H12: =SUM(B12:F12) -> 0 | I12: 8
H13: =SUM(B13:F13) -> 0 | I13: 9
H14: =SUM(B14:F14) -> 0 | I14: 10
H15: =SUM(B15:F15) -> 0 | I15: 11
H16: =SUM(B16:F16) -> 0 | I16: 12
... H20: =SUM(B20:F20) -> 0 | I20: 16
B21: =SUM(B5:B20) -> 0 | C21: =SUM(C5:C20) -> 0 | D21: =SUM(D5:D20) -> 0 | E21: =SUM(E5:E20) -> 0 | F21: =SUM(F5:F20) -> 0 | H21: =SUM(H5:H20) -> 0

Sheet RR2
A1: Multi, RR2
E3: 1 | F3: 2 | G3: 3 | H3: 4 | I3: 5 | J3: 6 | K3: 7 | L3: 8 | M3: 9 | N3: 10 | O3: 11 | P3: 12 | Q3: 13 | R3: 14 | T3: Total | U3: Placering
T5: =AVERAGE(E5:R5) -> #DIV/0!
T6: =AVERAGE(E6:R6) -> #DIV/0!
T8: =AVERAGE(E8:R8) -> #DIV/0!
T9: =AVERAGE(E9:R9) -> #DIV/0!
T11: =AVERAGE(E11:R11) -> #DIV/0!
T12: =AVERAGE(E12:R12) -> #DIV/0!
T14: =AVERAGE(E14:R14) -> #DIV/0!
T15: =AVERAGE(E15:R15) -> #DIV/0!
T17: =AVERAGE(E17:R17) -> #DIV/0!
T18: =AVERAGE(E18:R18) -> #DIV/0!
T20: =AVERAGE(E20:R20) -> #DIV/0!
T21: =AVERAGE(E21:R21) -> #DIV/0!
... T27: =AVERAGE(E27:R27) -> #DIV/0!

Sheet Hold i alt
A1: Klub 32 - Hold 2026/2027
B5: RR1 | C5: RR2 | D5: Total | E5: Placering
D6: =SUM(B6:C6) -> 0 | E6: 1
D7: =SUM(B7:C7) -> 0 | E7: 2
D8: =SUM(B8:C8) -> 0 | E8: 3
D9: =SUM(B9:C9) -> 0 | E9: 4
D10: =SUM(B10:C10) -> 0 | E10: 5
D11: =SUM(B11:C11) -> 0 | E11: 6
D12: =SUM(B12:C12) -> 0 | E12: 7
D13: =SUM(B13:C13) -> 0 | E13: 8

Sheet Slutspil
A1: SLUTSPIL
E4: 1 | F4: 2 | G4: 3 | H4: 4 | I4: 5 | J4: 6 | K4: 7 | L4: 8 | N4: Total | O4: Placering
N6: =AVERAGE(E6:L6) -> #DIV/0!
N7: =AVERAGE(E7:L7) -> #DIV/0!
N9: =AVERAGE(E9:L9) -> #DIV/0!
N10: =AVERAGE(E10:L10) -> #DIV/0!
N12: =AVERAGE(E12:L12) -> #DIV/0!
N13: =AVERAGE(E13:L13) -> #DIV/0!
N15: =AVERAGE(E15:L15) -> #DIV/0!
N16: =AVERAGE(E16:L16) -> #DIV/0!
N18: =AVERAGE(E18:L18) -> #DIV/0!
N19: =AVERAGE(E19:L19) -> #DIV/0!
N21: =AVERAGE(E21:L21) -> #DIV/0!
N22: =AVERAGE(E22:L22) -> #DIV/0!
... N28: =AVERAGE(E28:L28) -> #DIV/0!

Sheet Par
A1: Par
B3: 1.aften | C3: 2.aften | D3: 3.aften | E3: 4.aften | F3: 5.aften | H3: Sum | J3: Placering
H4: =SUM(B4:G4) -> 0 | J4: 1
H5: =SUM(B5:G5) -> 0 | J5: 2
H6: =SUM(B6:G6) -> 0 | J6: 3
H7: =SUM(B7:G7) -> 0 | J7: 4
H8: =SUM(B8:G8) -> 0 | J8: 5
H9: =SUM(B9:G9) -> 0 | J9: 6
H10: =SUM(B10:G10) -> 0 | J10: 7
H11: =SUM(B11:G11) -> 0 | J11: 8
H12: =SUM(B12:G12) -> 0 | J12: 9
H13: =SUM(B13:G13) -> 0 | J13: 10
H14: =SUM(B14:G14) -> 0 | J14: 11
H15: =SUM(B15:G15) -> 0 | J15: 12
... H19: =SUM(B19:G19) -> 0 | J19: 16
B22: =SUM(B4:B21) -> 0 | C22: =SUM(C4:C21) -> 0 | D22: =SUM(D4:D21) -> 0 | E22: =SUM(E4:E21) -> 0 | F22: =SUM(F4:F21) -> 0 | H22: =SUM(H4:H21) -> 0

Sheet Grand prix
A1: Grand prix klub 32 (2026-2027)
F3: Intro hold | G3: RR 1 | H3: IMP1 | I3: RR2 | J3: Slutspil | K3: Par | M3: Total | O3: Placering
A5: Marlene Henneberg - J.O Henneberg | F5: =Intro!X24*4 -> 16 | G5: ='RR1'!U9*7 -> 14 | H5: 0 | I5: 0 | J5: 0 | K5: 0 | M5: =SUM(F5:L5) -> 30 | O5: 1
A6: Jens Kofoed - Emil Buus Thomsen | F6: =Intro!X23*4 -> 36 | G6: ='RR1'!U21*7 -> 7 | H6: 0 | I6: 0 | J6: 0 | K6: 0 | M6: =SUM(F6:L6) -> 43 | O6: 2
A7: Ricardo Mirasola - Jan Kølbæk | F7: =Intro!X27*4 -> 28 | G7: ='RR1'!U8*7 -> 21 | H7: 0 | I7: 0 | J7: 0 | K7: 0 | M7: =SUM(F7:L7) -> 49 | O7: 3
A8: Jørgen Cilleborg Hansen - Steen Schou | F8: =Intro!X21*4 -> 8 | G8: ='RR1'!U17*7 -> 42 | H8: 0 | I8: 0 | J8: 0 | K8: 0 | M8: =SUM(F8:L8) -> 50 | O8: 4
A9: Emil Jepsen - Peter Jepsen | F9: =Intro!X17*4 -> 32 | G9: ='RR1'!U26*7 -> 35 | H9: 0 | I9: 0 | J9: 0 | K9: 0 | M9: =SUM(F9:L9) -> 67 | O9: 5
A10: Henrik Caspersen - Niels Krøjgaard | F10: =Intro!X12*4 -> 24 | G10: ='RR1'!U20*7 -> 49 | H10: 0 | I10: 0 | J10: 0 | K10: 0 | M10: =SUM(F10:L10) -> 73 | O10: 6
A11: Nikolai Krefeld Hammelev - Morten Bilde - Søren Cilleborg Bilde | F11: =Intro!X9*4 -> 20 | G11: ='RR1'!U27*7 -> 63 | H11: 0 | I11: 0 | J11: 0 | K11: 0 | M11: =SUM(F11:L11) -> 83 | O11: 7
A12: Lida Hulgaard - Øjvind Hulgaard | F12: =Intro!X26*4 -> 64 | G12: ='RR1'!U11*7 -> 28 | H12: 0 | I12: 0 | J12: 0 | K12: 0 | M12: =SUM(F12:L12) -> 92 | O12: 8
A13: Jan Pedersen - Nils Mønsted | F13: =Intro!X14*4 -> 4 | G13: ='RR1'!U23*7 -> 91 | H13: 0 | I13: 0 | J13: 0 | K13: 0 | M13: =SUM(F13:L13) -> 95 | O13: 9
A14: Camilla Bo Krefeld - Johan Hammelev | F14: =Intro!X5*4 -> 12 | G14: ='RR1'!U24*7 -> 98 | H14: 0 | I14: 0 | J14: 0 | K14: 0 | M14: =SUM(F14:L14) -> 110 | O14: 10
A15: Henrik Schmidt - Lars Ugilt Jensen | F15: =Intro!X20*4 -> 56 | G15: ='RR1'!U18*7 -> 56 | H15: 0 | I15: 0 | J15: 0 | K15: 0 | M15: =SUM(F15:L15) -> 112 | O15: 11
A16: Jesper Bechsgaard - Anders Handberg Sørensen | F16: =Intro!X8*4 -> 52 | G16: ='RR1'!U12*7 -> 70 | H16: 0 | I16: 0 | J16: 0 | K16: 0 | M16: =SUM(F16:L16) -> 122 | O16: 12
A17: Asger Bruhn - Benny Marquart | F17: =Intro!X15*4 -> 48 | G17: ='RR1'!U15*7 -> 77 | H17: 0 | I17: 0 | J17: 0 | K17: 0 | M17: =SUM(F17:L17) -> 125 | O17: 13
A18: Philip Krefeld Hammelev - Lars Peter Damgaard | F18: =Intro!X6*4 -> 44 | G18: ='RR1'!U6*7 -> 84 | H18: 0 | I18: 0 | J18: 0 | K18: 0 | M18: =SUM(F18:L18) -> 128 | O18: 14
A19: Martin Klausen - Palle Jensen | F19: =Intro!X11*4 -> 40 | G19: ='RR1'!U5*7 -> 112 | H19: 0 | I19: 0 | J19: 0 | K19: 0 | M19: =SUM(F19:L19) -> 152 | O19: 15
A20: Kresten Roland Johansen - Troels Buus Thomsen | F20: =Intro!X18*4 -> 60 | G20: ='RR1'!U5*7 -> 112 | H20: 0 | I20: 0 | J20: 0 | K20: 0 | M20: =SUM(F20:L20) -> 172 | O20: 16
